BEGIN:VCALENDAR
VERSION:2.0
PRODID:-//Carman Legion Branch 18 - ECPv6.15.20//NONSGML v1.0//EN
CALSCALE:GREGORIAN
METHOD:PUBLISH
X-ORIGINAL-URL:https://www.carmanlegion.ca
X-WR-CALDESC:Events for Carman Legion Branch 18
REFRESH-INTERVAL;VALUE=DURATION:PT1H
X-Robots-Tag:noindex
X-PUBLISHED-TTL:PT1H
BEGIN:VTIMEZONE
TZID:UTC
BEGIN:STANDARD
TZOFFSETFROM:+0000
TZOFFSETTO:+0000
TZNAME:UTC
DTSTART:20210101T000000
END:STANDARD
END:VTIMEZONE
BEGIN:VEVENT
DTSTART;TZID=UTC:20221001T173000
DTEND;TZID=UTC:20221001T200000
DTSTAMP:20260424T204038
CREATED:20221004T202611Z
LAST-MODIFIED:20221004T202611Z
UID:3235-1664645400-1664654400@www.carmanlegion.ca
SUMMARY:LUCKY CARD DRAW\, LUCKY NUMBER BINGO & SHARE THE WEALTH
DESCRIPTION:
URL:https://www.carmanlegion.ca/event/lucky-card-draw-lucky-number-bingo-share-the-wealth/
END:VEVENT
BEGIN:VEVENT
DTSTART;TZID=UTC:20221007T173000
DTEND;TZID=UTC:20221007T200000
DTSTAMP:20260424T204038
CREATED:20221004T202353Z
LAST-MODIFIED:20221004T202353Z
UID:3227-1665163800-1665172800@www.carmanlegion.ca
SUMMARY:MEAT DRAW & SHARE THE WEALTH
DESCRIPTION:
URL:https://www.carmanlegion.ca/event/meat-draw-share-the-wealth-31/
END:VEVENT
BEGIN:VEVENT
DTSTART;TZID=UTC:20221008T173000
DTEND;TZID=UTC:20221008T200000
DTSTAMP:20260424T204038
CREATED:20221004T202634Z
LAST-MODIFIED:20221004T202634Z
UID:3237-1665250200-1665259200@www.carmanlegion.ca
SUMMARY:LUCKY CARD DRAW\, LUCKY NUMBER BINGO & SHARE THE WEALTH
DESCRIPTION:
URL:https://www.carmanlegion.ca/event/lucky-card-draw-lucky-number-bingo-share-the-wealth-2/
END:VEVENT
BEGIN:VEVENT
DTSTART;VALUE=DATE:20221010
DTEND;VALUE=DATE:20221011
DTSTAMP:20260424T204038
CREATED:20221004T202952Z
LAST-MODIFIED:20221004T202952Z
UID:3246-1665360000-1665446399@www.carmanlegion.ca
SUMMARY:THANKSGIVING CLOSURE
DESCRIPTION:
URL:https://www.carmanlegion.ca/event/thanksgiving-closure/
END:VEVENT
BEGIN:VEVENT
DTSTART;TZID=UTC:20221011T190000
DTEND;TZID=UTC:20221011T203000
DTSTAMP:20260424T204038
CREATED:20221004T202927Z
LAST-MODIFIED:20221004T202927Z
UID:3244-1665514800-1665520200@www.carmanlegion.ca
SUMMARY:EXECUTIVE MEETING
DESCRIPTION:
URL:https://www.carmanlegion.ca/event/executive-meeting-37/
END:VEVENT
BEGIN:VEVENT
DTSTART;TZID=UTC:20221013T170000
DTEND;TZID=UTC:20221013T190000
DTSTAMP:20260424T204038
CREATED:20221004T202055Z
LAST-MODIFIED:20221004T202202Z
UID:3222-1665680400-1665687600@www.carmanlegion.ca
SUMMARY:DINNER AT THE LEGION-PORK RIBS & VEGETABLES $20.00 (PRE-REGISTERS ONLY\, ON OR BEFORE WED.\, @ 204-745-2454).
DESCRIPTION:DINNER AT THE LEGION-PORK RIBS & VEGETABLES $20.00\,  PRE-REGISTERS ONLY.
URL:https://www.carmanlegion.ca/event/dinner-at-the-legion-pork-ribs-vegetables-20-00-pre-registers-only-on-or-before-wed-204-745-2454/
END:VEVENT
BEGIN:VEVENT
DTSTART;TZID=UTC:20221014T173000
DTEND;TZID=UTC:20221014T200000
DTSTAMP:20260424T204038
CREATED:20221004T202415Z
LAST-MODIFIED:20221004T202415Z
UID:3229-1665768600-1665777600@www.carmanlegion.ca
SUMMARY:MEAT DRAW & SHARE THE WEALTH
DESCRIPTION:
URL:https://www.carmanlegion.ca/event/meat-draw-share-the-wealth-32/
END:VEVENT
BEGIN:VEVENT
DTSTART;TZID=UTC:20221015T173000
DTEND;TZID=UTC:20221015T200000
DTSTAMP:20260424T204038
CREATED:20221004T202658Z
LAST-MODIFIED:20221004T202658Z
UID:3239-1665855000-1665864000@www.carmanlegion.ca
SUMMARY:LUCKY CARD DRAW\, LUCKY NUMBER BINGO & SHARE THE WEALTH
DESCRIPTION:
URL:https://www.carmanlegion.ca/event/lucky-card-draw-lucky-number-bingo-share-the-wealth-3/
END:VEVENT
BEGIN:VEVENT
DTSTART;TZID=UTC:20221021T173000
DTEND;TZID=UTC:20221021T200000
DTSTAMP:20260424T204038
CREATED:20221004T202440Z
LAST-MODIFIED:20221004T202440Z
UID:3231-1666373400-1666382400@www.carmanlegion.ca
SUMMARY:MEAT DRAW & SHARE THE WEALTH
DESCRIPTION:
URL:https://www.carmanlegion.ca/event/meat-draw-share-the-wealth-33/
END:VEVENT
BEGIN:VEVENT
DTSTART;TZID=UTC:20221022T173000
DTEND;TZID=UTC:20221022T200000
DTSTAMP:20260424T204038
CREATED:20221004T202721Z
LAST-MODIFIED:20221004T202721Z
UID:3241-1666459800-1666468800@www.carmanlegion.ca
SUMMARY:LUCKY CARD DRAW\, LUCKY NUMBER BINGO & SHARE THE WEALTH
DESCRIPTION:
URL:https://www.carmanlegion.ca/event/lucky-card-draw-lucky-number-bingo-share-the-wealth-4/
END:VEVENT
BEGIN:VEVENT
DTSTART;TZID=UTC:20221028T173000
DTEND;TZID=UTC:20221028T200000
DTSTAMP:20260424T204038
CREATED:20221004T202505Z
LAST-MODIFIED:20221004T202505Z
UID:3233-1666978200-1666987200@www.carmanlegion.ca
SUMMARY:MEAT DRAW & SHARE THE WEALTH
DESCRIPTION:
URL:https://www.carmanlegion.ca/event/meat-draw-share-the-wealth-34/
END:VEVENT
BEGIN:VEVENT
DTSTART;TZID=UTC:20221029T173000
DTEND;TZID=UTC:20221029T200000
DTSTAMP:20260424T204038
CREATED:20221004T203214Z
LAST-MODIFIED:20221004T203214Z
UID:3248-1667064600-1667073600@www.carmanlegion.ca
SUMMARY:LUCKY CARD DRAW\, LUCKY NUMBER BINGO & SHARE THE WEALTH
DESCRIPTION:
URL:https://www.carmanlegion.ca/event/lucky-card-draw-lucky-number-bingo-share-the-wealth-5/
END:VEVENT
BEGIN:VEVENT
DTSTART;TZID=UTC:20221029T200000
DTEND;TZID=UTC:20221029T233000
DTSTAMP:20260424T204038
CREATED:20220830T215605Z
LAST-MODIFIED:20220830T215605Z
UID:3177-1667073600-1667086200@www.carmanlegion.ca
SUMMARY:DANCE IN UR PANTZ
DESCRIPTION:THIS IS A HALLOWEEN THEMED SHOW\, WITH THIS LIVE BAND\, WHICH STARTS AT 8 PM. \nPRIZES FOR BEST COSTUME \nADVANCE TICKETS ARE $20.00 \n$25.00 AT THE DOOR (IF NOT SOLD OUT BY THEN).
URL:https://www.carmanlegion.ca/event/dance-in-ur-pantz/
END:VEVENT
END:VCALENDAR