BEGIN:VCALENDAR
VERSION:2.0
PRODID:-//Carman Legion Branch 18 - ECPv6.15.20//NONSGML v1.0//EN
CALSCALE:GREGORIAN
METHOD:PUBLISH
X-ORIGINAL-URL:https://www.carmanlegion.ca
X-WR-CALDESC:Events for Carman Legion Branch 18
REFRESH-INTERVAL;VALUE=DURATION:PT1H
X-Robots-Tag:noindex
X-PUBLISHED-TTL:PT1H
BEGIN:VTIMEZONE
TZID:UTC
BEGIN:STANDARD
TZOFFSETFROM:+0000
TZOFFSETTO:+0000
TZNAME:UTC
DTSTART:20210101T000000
END:STANDARD
END:VTIMEZONE
BEGIN:VEVENT
DTSTART;TZID=UTC:20221203T173000
DTEND;TZID=UTC:20221203T193000
DTSTAMP:20260424T165510
CREATED:20221205T014000Z
LAST-MODIFIED:20221205T014000Z
UID:3299-1670088600-1670095800@www.carmanlegion.ca
SUMMARY:LUCKY CARD DRAW & BINGO\, SHARE THE WEALTH
DESCRIPTION:
URL:https://www.carmanlegion.ca/event/lucky-card-draw-bingo-share-the-wealth/
END:VEVENT
BEGIN:VEVENT
DTSTART;TZID=UTC:20221209T173000
DTEND;TZID=UTC:20221209T193000
DTSTAMP:20260424T165510
CREATED:20221205T013733Z
LAST-MODIFIED:20221205T013733Z
UID:3291-1670607000-1670614200@www.carmanlegion.ca
SUMMARY:MEAT DRAW & SHARE THE WEALTH
DESCRIPTION:
URL:https://www.carmanlegion.ca/event/meat-draw-share-the-wealth-36/
END:VEVENT
BEGIN:VEVENT
DTSTART;TZID=UTC:20221210T173000
DTEND;TZID=UTC:20221210T200000
DTSTAMP:20260424T165510
CREATED:20221205T014028Z
LAST-MODIFIED:20221205T014028Z
UID:3301-1670693400-1670702400@www.carmanlegion.ca
SUMMARY:LUCKY CARD DRAW & BINGO\, SHARE THE WEALTH
DESCRIPTION:
URL:https://www.carmanlegion.ca/event/lucky-card-draw-bingo-share-the-wealth-2/
END:VEVENT
BEGIN:VEVENT
DTSTART;VALUE=DATE:20221215
DTEND;VALUE=DATE:20221216
DTSTAMP:20260424T165510
CREATED:20221216T005607Z
LAST-MODIFIED:20221216T005607Z
UID:3313-1671062400-1671148799@www.carmanlegion.ca
SUMMARY:CRIBBAGE IS CANCELLED DUE TO THE INCLEMENT WEATHER TODAY.  SEE YOU IN 2023!
DESCRIPTION:
URL:https://www.carmanlegion.ca/event/cribbage-is-cancelled-due-to-the-inclement-weather-today-see-you-in-2023/
END:VEVENT
BEGIN:VEVENT
DTSTART;TZID=UTC:20221216T173000
DTEND;TZID=UTC:20221216T193000
DTSTAMP:20260424T165510
CREATED:20221205T013757Z
LAST-MODIFIED:20221205T013757Z
UID:3293-1671211800-1671219000@www.carmanlegion.ca
SUMMARY:MEAT DRAW & SHARE THE WEALTH
DESCRIPTION:
URL:https://www.carmanlegion.ca/event/meat-draw-share-the-wealth-37/
END:VEVENT
BEGIN:VEVENT
DTSTART;TZID=UTC:20221217T173000
DTEND;TZID=UTC:20221217T200000
DTSTAMP:20260424T165510
CREATED:20221205T014049Z
LAST-MODIFIED:20221205T014049Z
UID:3303-1671298200-1671307200@www.carmanlegion.ca
SUMMARY:LUCKY CARD DRAW & BINGO\, SHARE THE WEALTH
DESCRIPTION:
URL:https://www.carmanlegion.ca/event/lucky-card-draw-bingo-share-the-wealth-3/
END:VEVENT
BEGIN:VEVENT
DTSTART;TZID=UTC:20221217T200000
DTEND;TZID=UTC:20221217T230000
DTSTAMP:20260424T165510
CREATED:20220830T215150Z
LAST-MODIFIED:20221115T050233Z
UID:3174-1671307200-1671318000@www.carmanlegion.ca
SUMMARY:THE MARVELLS
DESCRIPTION:THEY ARE BACK FOR THEIR ANNUAL DECEMBER SHOW!!! \nADVANCE TICKETS @ $20.00 \n$25.00 AT THE DOOR\,
URL:https://www.carmanlegion.ca/event/the-marvells-4/
END:VEVENT
BEGIN:VEVENT
DTSTART;TZID=UTC:20221221T193000
DTEND;TZID=UTC:20221221T203000
DTSTAMP:20260424T165510
CREATED:20221222T072739Z
LAST-MODIFIED:20221222T072739Z
UID:3316-1671651000-1671654600@www.carmanlegion.ca
SUMMARY:GENERAL MEETING AND EXECUTIVE ELECTIONS
DESCRIPTION:
URL:https://www.carmanlegion.ca/event/general-meeting-and-executive-elections/
END:VEVENT
BEGIN:VEVENT
DTSTART;TZID=UTC:20221223T173000
DTEND;TZID=UTC:20221223T193000
DTSTAMP:20260424T165510
CREATED:20221205T013826Z
LAST-MODIFIED:20221205T013826Z
UID:3295-1671816600-1671823800@www.carmanlegion.ca
SUMMARY:MEAT DRAW & SHARE THE WEALTH
DESCRIPTION:
URL:https://www.carmanlegion.ca/event/meat-draw-share-the-wealth-38/
END:VEVENT
BEGIN:VEVENT
DTSTART;VALUE=DATE:20221224
DTEND;VALUE=DATE:20221225
DTSTAMP:20260424T165510
CREATED:20221205T014137Z
LAST-MODIFIED:20221205T014146Z
UID:3305-1671840000-1671926399@www.carmanlegion.ca
SUMMARY:LUCKY CARD DRAW & BINGO\, SHARE THE WEALTH
DESCRIPTION:CHRISTMAS EVE.  NO EVENTS WILL BE HELD.
URL:https://www.carmanlegion.ca/event/lucky-card-draw-bingo-share-the-wealth-4/
END:VEVENT
BEGIN:VEVENT
DTSTART;TZID=UTC:20221230T173000
DTEND;TZID=UTC:20221230T193000
DTSTAMP:20260424T165510
CREATED:20221205T013850Z
LAST-MODIFIED:20221205T013850Z
UID:3297-1672421400-1672428600@www.carmanlegion.ca
SUMMARY:MEAT DRAW & SHARE THE WEALTH
DESCRIPTION:
URL:https://www.carmanlegion.ca/event/meat-draw-share-the-wealth-39/
END:VEVENT
BEGIN:VEVENT
DTSTART;TZID=UTC:20221231T173000
DTEND;TZID=UTC:20221231T200000
DTSTAMP:20260424T165510
CREATED:20221205T014206Z
LAST-MODIFIED:20221205T014206Z
UID:3307-1672507800-1672516800@www.carmanlegion.ca
SUMMARY:LUCKY CARD DRAW & BINGO\, SHARE THE WEALTH
DESCRIPTION:
URL:https://www.carmanlegion.ca/event/lucky-card-draw-bingo-share-the-wealth-5/
END:VEVENT
BEGIN:VEVENT
DTSTART;TZID=UTC:20221231T200000
DTEND;TZID=UTC:20230101T020000
DTSTAMP:20260424T165510
CREATED:20221205T013354Z
LAST-MODIFIED:20221205T013354Z
UID:3286-1672516800-1672538400@www.carmanlegion.ca
SUMMARY:NEW YEAR'S PARTY WITH THE DIRT ROAD PILOTS
DESCRIPTION:
URL:https://www.carmanlegion.ca/event/new-years-party-with-the-dirt-road-pilots/
END:VEVENT
END:VCALENDAR