BEGIN:VCALENDAR
VERSION:2.0
PRODID:-//Carman Legion Branch 18 - ECPv6.15.20//NONSGML v1.0//EN
CALSCALE:GREGORIAN
METHOD:PUBLISH
X-ORIGINAL-URL:https://www.carmanlegion.ca
X-WR-CALDESC:Events for Carman Legion Branch 18
REFRESH-INTERVAL;VALUE=DURATION:PT1H
X-Robots-Tag:noindex
X-PUBLISHED-TTL:PT1H
BEGIN:VTIMEZONE
TZID:UTC
BEGIN:STANDARD
TZOFFSETFROM:+0000
TZOFFSETTO:+0000
TZNAME:UTC
DTSTART:20210101T000000
END:STANDARD
END:VTIMEZONE
BEGIN:VEVENT
DTSTART;TZID=UTC:20221231T200000
DTEND;TZID=UTC:20230101T020000
DTSTAMP:20260424T151730
CREATED:20221205T013354Z
LAST-MODIFIED:20221205T013354Z
UID:3286-1672516800-1672538400@www.carmanlegion.ca
SUMMARY:NEW YEAR'S PARTY WITH THE DIRT ROAD PILOTS
DESCRIPTION:
URL:https://www.carmanlegion.ca/event/new-years-party-with-the-dirt-road-pilots/
END:VEVENT
BEGIN:VEVENT
DTSTART;TZID=UTC:20230120T173000
DTEND;TZID=UTC:20230120T193000
DTSTAMP:20260424T151730
CREATED:20221205T013703Z
LAST-MODIFIED:20230121T040116Z
UID:3289-1674235800-1674243000@www.carmanlegion.ca
SUMMARY:MEAT DRAW & 50/50
DESCRIPTION:
URL:https://www.carmanlegion.ca/event/meat-draw-share-the-wealth-35/
END:VEVENT
BEGIN:VEVENT
DTSTART;TZID=UTC:20230121T080000
DTEND;TZID=UTC:20230121T160000
DTSTAMP:20260424T151730
CREATED:20230121T092850Z
LAST-MODIFIED:20230121T092850Z
UID:3439-1674288000-1674316800@www.carmanlegion.ca
SUMMARY:MPI
DESCRIPTION:
URL:https://www.carmanlegion.ca/event/mpi-3/
END:VEVENT
BEGIN:VEVENT
DTSTART;TZID=UTC:20230121T160000
DTEND;TZID=UTC:20230121T230000
DTSTAMP:20260424T151730
CREATED:20230121T034535Z
LAST-MODIFIED:20230121T085555Z
UID:3357-1674316800-1674342000@www.carmanlegion.ca
SUMMARY:Private Event - L.A. Hall
DESCRIPTION:
URL:https://www.carmanlegion.ca/event/private-event-la-hall/
END:VEVENT
BEGIN:VEVENT
DTSTART;TZID=UTC:20230121T180000
DTEND;TZID=UTC:20230121T180000
DTSTAMP:20260424T151730
CREATED:20230121T034756Z
LAST-MODIFIED:20230121T034756Z
UID:3359-1674324000-1674324000@www.carmanlegion.ca
SUMMARY:Card Draw - Bingo
DESCRIPTION:
URL:https://www.carmanlegion.ca/event/card-draw-bingo/
END:VEVENT
BEGIN:VEVENT
DTSTART;TZID=UTC:20230125T080000
DTEND;TZID=UTC:20230125T170000
DTSTAMP:20260424T151730
CREATED:20230121T044759Z
LAST-MODIFIED:20230121T045412Z
UID:3387-1674633600-1674666000@www.carmanlegion.ca
SUMMARY:Private Event - L.A. Hall
DESCRIPTION:
URL:https://www.carmanlegion.ca/event/private-event-l-a-hall-8am-500pm/
END:VEVENT
BEGIN:VEVENT
DTSTART;TZID=UTC:20230127T173000
DTEND;TZID=UTC:20230127T193000
DTSTAMP:20260424T151730
CREATED:20230115T221343Z
LAST-MODIFIED:20230121T040159Z
UID:3331-1674840600-1674847800@www.carmanlegion.ca
SUMMARY:MEAT DRAW & 50/50
DESCRIPTION:
URL:https://www.carmanlegion.ca/event/meat-draw-share-the-wealth-40/
END:VEVENT
BEGIN:VEVENT
DTSTART;TZID=UTC:20230127T210000
DTEND;TZID=UTC:20230127T233000
DTSTAMP:20260424T151730
CREATED:20230102T235123Z
LAST-MODIFIED:20230121T035031Z
UID:3323-1674853200-1674862200@www.carmanlegion.ca
SUMMARY:IZZY MORGAN AT THE CARMAN LEGION
DESCRIPTION:
URL:https://www.carmanlegion.ca/event/izzy-morgan-at-the-carman-legion/
END:VEVENT
BEGIN:VEVENT
DTSTART;TZID=UTC:20230128T160000
DTEND;TZID=UTC:20230128T230000
DTSTAMP:20260424T151730
CREATED:20230121T045322Z
LAST-MODIFIED:20230121T045322Z
UID:3392-1674921600-1674946800@www.carmanlegion.ca
SUMMARY:Private Event - L.A. Hall
DESCRIPTION:
URL:https://www.carmanlegion.ca/event/private-event-l-a-hall/
END:VEVENT
BEGIN:VEVENT
DTSTART;TZID=UTC:20230128T190000
DTEND;TZID=UTC:20230128T200000
DTSTAMP:20260424T151730
CREATED:20230121T090346Z
LAST-MODIFIED:20230121T090724Z
UID:3416-1674932400-1674936000@www.carmanlegion.ca
SUMMARY:Card Draw & Bingo
DESCRIPTION:
URL:https://www.carmanlegion.ca/event/clubroom-bingo/
END:VEVENT
BEGIN:VEVENT
DTSTART;TZID=UTC:20230131T080000
DTEND;TZID=UTC:20230131T180000
DTSTAMP:20260424T151730
CREATED:20230121T045735Z
LAST-MODIFIED:20230121T045735Z
UID:3395-1675152000-1675188000@www.carmanlegion.ca
SUMMARY:Gold Buyers
DESCRIPTION:
URL:https://www.carmanlegion.ca/event/gold-buyers/
END:VEVENT
END:VCALENDAR