BEGIN:VCALENDAR
VERSION:2.0
PRODID:-//Carman Legion Branch 18 - ECPv6.15.20//NONSGML v1.0//EN
CALSCALE:GREGORIAN
METHOD:PUBLISH
X-ORIGINAL-URL:https://www.carmanlegion.ca
X-WR-CALDESC:Events for Carman Legion Branch 18
REFRESH-INTERVAL;VALUE=DURATION:PT1H
X-Robots-Tag:noindex
X-PUBLISHED-TTL:PT1H
BEGIN:VTIMEZONE
TZID:UTC
BEGIN:STANDARD
TZOFFSETFROM:+0000
TZOFFSETTO:+0000
TZNAME:UTC
DTSTART:20220101T000000
END:STANDARD
END:VTIMEZONE
BEGIN:VEVENT
DTSTART;TZID=UTC:20230302T190000
DTEND;TZID=UTC:20230302T213000
DTSTAMP:20260424T122022
CREATED:20230217T042315Z
LAST-MODIFIED:20230217T043155Z
UID:4081-1677783600-1677792600@www.carmanlegion.ca
SUMMARY:Crib - Everyone Welcome
DESCRIPTION:
URL:https://www.carmanlegion.ca/event/crib/
END:VEVENT
BEGIN:VEVENT
DTSTART;TZID=UTC:20230303T180000
DTEND;TZID=UTC:20230303T200000
DTSTAMP:20260424T122022
CREATED:20230121T092956Z
LAST-MODIFIED:20230121T092956Z
UID:3441-1677866400-1677873600@www.carmanlegion.ca
SUMMARY:Meat Draw
DESCRIPTION:
URL:https://www.carmanlegion.ca/event/meat-draw-60/
END:VEVENT
BEGIN:VEVENT
DTSTART;TZID=UTC:20230304T183000
DTEND;TZID=UTC:20230304T203000
DTSTAMP:20260424T122022
CREATED:20230121T093103Z
LAST-MODIFIED:20230223T073107Z
UID:3443-1677954600-1677961800@www.carmanlegion.ca
SUMMARY:Card Draw & Bingo
DESCRIPTION:
URL:https://www.carmanlegion.ca/event/card-draw-bingo-6/
END:VEVENT
BEGIN:VEVENT
DTSTART;TZID=UTC:20230306T090000
DTEND;TZID=UTC:20230306T160000
DTSTAMP:20260424T122022
CREATED:20230121T093302Z
LAST-MODIFIED:20230121T093302Z
UID:3445-1678093200-1678118400@www.carmanlegion.ca
SUMMARY:Private Event - L.A. Hall
DESCRIPTION:
URL:https://www.carmanlegion.ca/event/private-event-l-a-hall-6/
END:VEVENT
BEGIN:VEVENT
DTSTART;TZID=UTC:20230310T180000
DTEND;TZID=UTC:20230310T200000
DTSTAMP:20260424T122022
CREATED:20230121T093413Z
LAST-MODIFIED:20230121T093413Z
UID:3447-1678471200-1678478400@www.carmanlegion.ca
SUMMARY:Meat Draw
DESCRIPTION:
URL:https://www.carmanlegion.ca/event/meat-draw-61/
END:VEVENT
BEGIN:VEVENT
DTSTART;TZID=UTC:20230311T080000
DTEND;TZID=UTC:20230311T170000
DTSTAMP:20260424T122022
CREATED:20230121T093700Z
LAST-MODIFIED:20230121T093700Z
UID:3450-1678521600-1678554000@www.carmanlegion.ca
SUMMARY:L.A. District Meeting
DESCRIPTION:
URL:https://www.carmanlegion.ca/event/l-a-district-meeting/
END:VEVENT
BEGIN:VEVENT
DTSTART;TZID=UTC:20230311T183000
DTEND;TZID=UTC:20230311T200000
DTSTAMP:20260424T122022
CREATED:20230121T093809Z
LAST-MODIFIED:20230307T072812Z
UID:3452-1678559400-1678564800@www.carmanlegion.ca
SUMMARY:Card Draw & Bingo
DESCRIPTION:
URL:https://www.carmanlegion.ca/event/card-draw-bingo-7/
END:VEVENT
BEGIN:VEVENT
DTSTART;TZID=UTC:20230313T090000
DTEND;TZID=UTC:20230313T160000
DTSTAMP:20260424T122022
CREATED:20230121T093946Z
LAST-MODIFIED:20230121T093946Z
UID:3454-1678698000-1678723200@www.carmanlegion.ca
SUMMARY:Private Event - L.A. Hall
DESCRIPTION:
URL:https://www.carmanlegion.ca/event/private-event-l-a-hall-7/
END:VEVENT
BEGIN:VEVENT
DTSTART;VALUE=DATE:20230315
DTEND;VALUE=DATE:20230316
DTSTAMP:20260424T122022
CREATED:20230307T074100Z
LAST-MODIFIED:20230307T074100Z
UID:4117-1678838400-1678838400@www.carmanlegion.ca
SUMMARY:Winter Preserve Raffle Draw
DESCRIPTION:
URL:https://www.carmanlegion.ca/event/winter-preserve-raffle-draw/
LOCATION:Carman Legion Branch #18
END:VEVENT
BEGIN:VEVENT
DTSTART;TZID=UTC:20230316T090000
DTEND;TZID=UTC:20230316T160000
DTSTAMP:20260424T122022
CREATED:20230121T094050Z
LAST-MODIFIED:20230121T094050Z
UID:3456-1678957200-1678982400@www.carmanlegion.ca
SUMMARY:MPI
DESCRIPTION:
URL:https://www.carmanlegion.ca/event/mpi-4/
END:VEVENT
BEGIN:VEVENT
DTSTART;TZID=UTC:20230316T190000
DTEND;TZID=UTC:20230316T213000
DTSTAMP:20260424T122022
CREATED:20230217T042624Z
LAST-MODIFIED:20230308T070521Z
UID:4083-1678993200-1679002200@www.carmanlegion.ca
SUMMARY:Crib - Everyone Welcome
DESCRIPTION:
URL:https://www.carmanlegion.ca/event/crib-2/
END:VEVENT
BEGIN:VEVENT
DTSTART;TZID=UTC:20230317T163000
DTEND;TZID=UTC:20230317T180000
DTSTAMP:20260424T122022
CREATED:20230223T074151Z
LAST-MODIFIED:20230307T073556Z
UID:4103-1679070600-1679076000@www.carmanlegion.ca
SUMMARY:Irish Stew Supper
DESCRIPTION:Come for Traditional Irish Stew with a bun and dessert. tickets only $7.50 and available at the legion now.
URL:https://www.carmanlegion.ca/event/irish-stew-supper/
END:VEVENT
BEGIN:VEVENT
DTSTART;TZID=UTC:20230317T180000
DTEND;TZID=UTC:20230317T200000
DTSTAMP:20260424T122022
CREATED:20230121T094204Z
LAST-MODIFIED:20230121T094204Z
UID:3458-1679076000-1679083200@www.carmanlegion.ca
SUMMARY:Meat Draw
DESCRIPTION:
URL:https://www.carmanlegion.ca/event/meat-draw-62/
END:VEVENT
BEGIN:VEVENT
DTSTART;TZID=UTC:20230318T183000
DTEND;TZID=UTC:20230318T200000
DTSTAMP:20260424T122022
CREATED:20230121T094308Z
LAST-MODIFIED:20230312T222522Z
UID:3460-1679164200-1679169600@www.carmanlegion.ca
SUMMARY:Card Draw & Bingo
DESCRIPTION:
URL:https://www.carmanlegion.ca/event/card-draw-bingo-8/
END:VEVENT
BEGIN:VEVENT
DTSTART;TZID=UTC:20230319T130000
DTEND;TZID=UTC:20230319T160000
DTSTAMP:20260424T122022
CREATED:20230121T094926Z
LAST-MODIFIED:20230121T094926Z
UID:3462-1679230800-1679241600@www.carmanlegion.ca
SUMMARY:Baby Shower - L.A. Hall
DESCRIPTION:
URL:https://www.carmanlegion.ca/event/baby-shower-l-a-hall/
END:VEVENT
BEGIN:VEVENT
DTSTART;TZID=UTC:20230324T180000
DTEND;TZID=UTC:20230324T200000
DTSTAMP:20260424T122022
CREATED:20230121T095311Z
LAST-MODIFIED:20230121T095311Z
UID:3466-1679680800-1679688000@www.carmanlegion.ca
SUMMARY:Meat Draw
DESCRIPTION:
URL:https://www.carmanlegion.ca/event/meat-draw-63/
END:VEVENT
BEGIN:VEVENT
DTSTART;TZID=UTC:20230325T130000
DTEND;TZID=UTC:20230325T150000
DTSTAMP:20260424T122022
CREATED:20230121T095216Z
LAST-MODIFIED:20230121T095216Z
UID:3464-1679749200-1679756400@www.carmanlegion.ca
SUMMARY:Manitoba Giant Growers Association - L.A. Hall
DESCRIPTION:
URL:https://www.carmanlegion.ca/event/manitoba-giant-growers-association-l-a-hall/
END:VEVENT
BEGIN:VEVENT
DTSTART;TZID=UTC:20230325T183000
DTEND;TZID=UTC:20230325T200000
DTSTAMP:20260424T122022
CREATED:20230121T095451Z
LAST-MODIFIED:20230319T104416Z
UID:3468-1679769000-1679774400@www.carmanlegion.ca
SUMMARY:Card Draw & Bingo
DESCRIPTION:This weeks card draw is
URL:https://www.carmanlegion.ca/event/card-draw-bingo-9/
END:VEVENT
BEGIN:VEVENT
DTSTART;TZID=UTC:20230330T080000
DTEND;TZID=UTC:20230330T160000
DTSTAMP:20260424T122022
CREATED:20230121T095556Z
LAST-MODIFIED:20230121T095556Z
UID:3470-1680163200-1680192000@www.carmanlegion.ca
SUMMARY:MPI - L.A. Hall
DESCRIPTION:
URL:https://www.carmanlegion.ca/event/mpi-l-a-hall/
END:VEVENT
BEGIN:VEVENT
DTSTART;TZID=UTC:20230330T190000
DTEND;TZID=UTC:20230330T213000
DTSTAMP:20260424T122022
CREATED:20230217T042734Z
LAST-MODIFIED:20230320T193721Z
UID:4085-1680202800-1680211800@www.carmanlegion.ca
SUMMARY:Crib - Everyone welcome
DESCRIPTION:
URL:https://www.carmanlegion.ca/event/crib-everyone-welcome/
END:VEVENT
BEGIN:VEVENT
DTSTART;TZID=UTC:20230331T180000
DTEND;TZID=UTC:20230331T200000
DTSTAMP:20260424T122022
CREATED:20230121T095706Z
LAST-MODIFIED:20230121T095706Z
UID:3472-1680285600-1680292800@www.carmanlegion.ca
SUMMARY:Meat Draw
DESCRIPTION:
URL:https://www.carmanlegion.ca/event/meat-draw-64/
END:VEVENT
END:VCALENDAR