BEGIN:VCALENDAR
VERSION:2.0
PRODID:-//Carman Legion Branch 18 - ECPv6.15.20//NONSGML v1.0//EN
CALSCALE:GREGORIAN
METHOD:PUBLISH
X-WR-CALNAME:Carman Legion Branch 18
X-ORIGINAL-URL:https://www.carmanlegion.ca
X-WR-CALDESC:Events for Carman Legion Branch 18
REFRESH-INTERVAL;VALUE=DURATION:PT1H
X-Robots-Tag:noindex
X-PUBLISHED-TTL:PT1H
BEGIN:VTIMEZONE
TZID:UTC
BEGIN:STANDARD
TZOFFSETFROM:+0000
TZOFFSETTO:+0000
TZNAME:UTC
DTSTART:20220101T000000
END:STANDARD
END:VTIMEZONE
BEGIN:VEVENT
DTSTART;TZID=UTC:20230401T183000
DTEND;TZID=UTC:20230401T200000
DTSTAMP:20260424T105052
CREATED:20230121T095840Z
LAST-MODIFIED:20230327T003202Z
UID:3474-1680373800-1680379200@www.carmanlegion.ca
SUMMARY:Card Draw & Bingo
DESCRIPTION:
URL:https://www.carmanlegion.ca/event/card-draw-bingo-10/
END:VEVENT
BEGIN:VEVENT
DTSTART;TZID=UTC:20230403T090000
DTEND;TZID=UTC:20230403T130000
DTSTAMP:20260424T105052
CREATED:20230121T100017Z
LAST-MODIFIED:20230121T100017Z
UID:3476-1680512400-1680526800@www.carmanlegion.ca
SUMMARY:Private Event - L.A. Hall
DESCRIPTION:
URL:https://www.carmanlegion.ca/event/private-event-l-a-hall-8/
END:VEVENT
BEGIN:VEVENT
DTSTART;TZID=UTC:20230407T080000
DTEND;TZID=UTC:20230407T220000
DTSTAMP:20260424T105052
CREATED:20230321T051411Z
LAST-MODIFIED:20230321T051623Z
UID:4221-1680854400-1680904800@www.carmanlegion.ca
SUMMARY:CLOSED GOOD FRIDAY
DESCRIPTION:Carman Legion will be closed Good Friday. See you Saturday.
URL:https://www.carmanlegion.ca/event/good-friday/
END:VEVENT
BEGIN:VEVENT
DTSTART;TZID=UTC:20230408T183000
DTEND;TZID=UTC:20230408T200000
DTSTAMP:20260424T105052
CREATED:20230121T100228Z
LAST-MODIFIED:20230403T025559Z
UID:3480-1680978600-1680984000@www.carmanlegion.ca
SUMMARY:Card Draw & Bingo
DESCRIPTION:
URL:https://www.carmanlegion.ca/event/card-draw-bingo-11/
END:VEVENT
BEGIN:VEVENT
DTSTART;TZID=UTC:20230413T080000
DTEND;TZID=UTC:20230413T160000
DTSTAMP:20260424T105052
CREATED:20230121T100337Z
LAST-MODIFIED:20230121T100337Z
UID:3482-1681372800-1681401600@www.carmanlegion.ca
SUMMARY:MPI - L.A. Hall
DESCRIPTION:
URL:https://www.carmanlegion.ca/event/mpi-l-a-hall-2/
END:VEVENT
BEGIN:VEVENT
DTSTART;TZID=UTC:20230413T190000
DTEND;TZID=UTC:20230413T213000
DTSTAMP:20260424T105052
CREATED:20230217T042836Z
LAST-MODIFIED:20230414T214312Z
UID:4087-1681412400-1681421400@www.carmanlegion.ca
SUMMARY:Crib Winners
DESCRIPTION:
URL:https://www.carmanlegion.ca/event/crib-playoffs/
ATTACH;FMTTYPE=image/jpeg:https://www.carmanlegion.ca/wp-content/uploads/2023/04/2023winners-1-scaled.jpg
END:VEVENT
BEGIN:VEVENT
DTSTART;TZID=UTC:20230414T180000
DTEND;TZID=UTC:20230414T200000
DTSTAMP:20260424T105052
CREATED:20230121T100430Z
LAST-MODIFIED:20230409T232648Z
UID:3484-1681495200-1681502400@www.carmanlegion.ca
SUMMARY:Meat Draw
DESCRIPTION:
URL:https://www.carmanlegion.ca/event/meat-draw-66/
END:VEVENT
BEGIN:VEVENT
DTSTART;TZID=UTC:20230415T110000
DTEND;TZID=UTC:20230415T150000
DTSTAMP:20260424T105052
CREATED:20230327T002417Z
LAST-MODIFIED:20230416T203740Z
UID:4245-1681556400-1681570800@www.carmanlegion.ca
SUMMARY:CRIB TOURNEY
DESCRIPTION:
URL:https://www.carmanlegion.ca/event/crib-tourney/
END:VEVENT
BEGIN:VEVENT
DTSTART;TZID=UTC:20230415T163000
DTEND;TZID=UTC:20230415T180000
DTSTAMP:20260424T105052
CREATED:20230327T002516Z
LAST-MODIFIED:20230409T232136Z
UID:4247-1681576200-1681581600@www.carmanlegion.ca
SUMMARY:FISH FRY
DESCRIPTION:Get your tickets. Cut off date for ticket sales is Thursday April 13.
URL:https://www.carmanlegion.ca/event/fish-fry/
END:VEVENT
BEGIN:VEVENT
DTSTART;TZID=UTC:20230415T183000
DTEND;TZID=UTC:20230415T200000
DTSTAMP:20260424T105052
CREATED:20230121T100709Z
LAST-MODIFIED:20230416T204023Z
UID:3486-1681583400-1681588800@www.carmanlegion.ca
SUMMARY:Card Draw & Bingo
DESCRIPTION:
URL:https://www.carmanlegion.ca/event/card-draw-bingo-12/
ATTACH;FMTTYPE=image/jpeg:https://www.carmanlegion.ca/wp-content/uploads/2023/04/20230415_193744-scaled.jpg
END:VEVENT
BEGIN:VEVENT
DTSTART;TZID=UTC:20230419T193000
DTEND;TZID=UTC:20230419T210000
DTSTAMP:20260424T105052
CREATED:20230121T100852Z
LAST-MODIFIED:20230121T100852Z
UID:3488-1681932600-1681938000@www.carmanlegion.ca
SUMMARY:L.A. Meeting
DESCRIPTION:
URL:https://www.carmanlegion.ca/event/l-a-meeting-2/
END:VEVENT
BEGIN:VEVENT
DTSTART;TZID=UTC:20230419T193000
DTEND;TZID=UTC:20230419T210000
DTSTAMP:20260424T105052
CREATED:20230122T005759Z
LAST-MODIFIED:20230426T054937Z
UID:3558-1681932600-1681938000@www.carmanlegion.ca
SUMMARY:General Meeting Cancelled
DESCRIPTION:Rescheduled to April 26th.
URL:https://www.carmanlegion.ca/event/general-meeting-19/
END:VEVENT
BEGIN:VEVENT
DTSTART;TZID=UTC:20230420T180000
DTEND;TZID=UTC:20230420T210000
DTSTAMP:20260424T105052
CREATED:20230121T101003Z
LAST-MODIFIED:20230121T101003Z
UID:3490-1682013600-1682024400@www.carmanlegion.ca
SUMMARY:Private Event - L.A. Hall
DESCRIPTION:
URL:https://www.carmanlegion.ca/event/private-event-l-a-hall-9/
END:VEVENT
BEGIN:VEVENT
DTSTART;TZID=UTC:20230421T180000
DTEND;TZID=UTC:20230421T200000
DTSTAMP:20260424T105052
CREATED:20230121T102218Z
LAST-MODIFIED:20230409T232805Z
UID:3497-1682100000-1682107200@www.carmanlegion.ca
SUMMARY:Meat Draw
DESCRIPTION:
URL:https://www.carmanlegion.ca/event/meat-draw-68/
END:VEVENT
BEGIN:VEVENT
DTSTART;TZID=UTC:20230422T183000
DTEND;TZID=UTC:20230422T200000
DTSTAMP:20260424T105052
CREATED:20230121T102315Z
LAST-MODIFIED:20230416T204620Z
UID:3499-1682188200-1682193600@www.carmanlegion.ca
SUMMARY:Card Draw & Bingo
DESCRIPTION:
URL:https://www.carmanlegion.ca/event/card-draw-bingo-13/
END:VEVENT
BEGIN:VEVENT
DTSTART;TZID=UTC:20230426T193000
DTEND;TZID=UTC:20230426T203000
DTSTAMP:20260424T105052
CREATED:20230426T054301Z
LAST-MODIFIED:20230426T055115Z
UID:4837-1682537400-1682541000@www.carmanlegion.ca
SUMMARY:Rescheduled General Meeting
DESCRIPTION:Come out and have your voice heard. Participate and have a hand in the direction that our legion takes in the future.
URL:https://www.carmanlegion.ca/event/general-meeting/
END:VEVENT
BEGIN:VEVENT
DTSTART;TZID=UTC:20230427T080000
DTEND;TZID=UTC:20230427T160000
DTSTAMP:20260424T105053
CREATED:20230121T102420Z
LAST-MODIFIED:20230121T102420Z
UID:3501-1682582400-1682611200@www.carmanlegion.ca
SUMMARY:MPI - L.A. Hall
DESCRIPTION:
URL:https://www.carmanlegion.ca/event/mpi-l-a-hall-3/
END:VEVENT
BEGIN:VEVENT
DTSTART;TZID=UTC:20230428T180000
DTEND;TZID=UTC:20230428T200000
DTSTAMP:20260424T105053
CREATED:20230121T102532Z
LAST-MODIFIED:20230409T232847Z
UID:3503-1682704800-1682712000@www.carmanlegion.ca
SUMMARY:Meat Draw
DESCRIPTION:
URL:https://www.carmanlegion.ca/event/meat-draw-69/
END:VEVENT
BEGIN:VEVENT
DTSTART;TZID=UTC:20230429T120000
DTEND;TZID=UTC:20230429T160000
DTSTAMP:20260424T105053
CREATED:20230422T221234Z
LAST-MODIFIED:20230422T221234Z
UID:4811-1682769600-1682784000@www.carmanlegion.ca
SUMMARY:Crib Tournament at Morden Legion
DESCRIPTION:
URL:https://www.carmanlegion.ca/event/crib-tournament-at-morden-legion/
END:VEVENT
BEGIN:VEVENT
DTSTART;TZID=UTC:20230429T183000
DTEND;TZID=UTC:20230429T200000
DTSTAMP:20260424T105053
CREATED:20230121T102625Z
LAST-MODIFIED:20230425T071331Z
UID:3505-1682793000-1682798400@www.carmanlegion.ca
SUMMARY:Card Draw & Bingo
DESCRIPTION:The Lucky Card Draw Jackpot this week is $615.50 with a consolation prize of $10 and 53 cards remaining.  The Lucky Number Bingo Jackpot is $824.50 with a consolation prize of $57.
URL:https://www.carmanlegion.ca/event/card-draw-bingo-14/
END:VEVENT
BEGIN:VEVENT
DTSTART;TZID=UTC:20230429T200000
DTEND;TZID=UTC:20230429T233000
DTSTAMP:20260424T105053
CREATED:20230306T041846Z
LAST-MODIFIED:20230425T071456Z
UID:4110-1682798400-1682811000@www.carmanlegion.ca
SUMMARY:The Urgez  CANCELLED
DESCRIPTION:YET ANOTHER SHOW CANCELLED DUE TO LACK OF INTEREST! REFUNDS AVAILABLE AT THE LEGION WITH TICKET RETURN.
URL:https://www.carmanlegion.ca/event/the-urgez/
END:VEVENT
END:VCALENDAR