BEGIN:VCALENDAR
VERSION:2.0
PRODID:-//Carman Legion Branch 18 - ECPv6.15.20//NONSGML v1.0//EN
CALSCALE:GREGORIAN
METHOD:PUBLISH
X-ORIGINAL-URL:https://www.carmanlegion.ca
X-WR-CALDESC:Events for Carman Legion Branch 18
REFRESH-INTERVAL;VALUE=DURATION:PT1H
X-Robots-Tag:noindex
X-PUBLISHED-TTL:PT1H
BEGIN:VTIMEZONE
TZID:UTC
BEGIN:STANDARD
TZOFFSETFROM:+0000
TZOFFSETTO:+0000
TZNAME:UTC
DTSTART:20220101T000000
END:STANDARD
END:VTIMEZONE
BEGIN:VEVENT
DTSTART;TZID=UTC:20230602T180000
DTEND;TZID=UTC:20230602T200000
DTSTAMP:20260424T074959
CREATED:20230122T022126Z
LAST-MODIFIED:20230430T221557Z
UID:3566-1685728800-1685736000@www.carmanlegion.ca
SUMMARY:Meat Draw
DESCRIPTION:
URL:https://www.carmanlegion.ca/event/meat-draw-74/
END:VEVENT
BEGIN:VEVENT
DTSTART;TZID=UTC:20230603T130000
DTEND;TZID=UTC:20230603T140000
DTSTAMP:20260424T074959
CREATED:20230512T222316Z
LAST-MODIFIED:20230512T222316Z
UID:4925-1685797200-1685800800@www.carmanlegion.ca
SUMMARY:DECORATION DAY SERVICE
DESCRIPTION:Join us at the Greenwood Cemetery at 1PM for the Decoration Day \Service to honour Veterans who returned home or retired from service and passed away. There will be a wreath laying\, then flags will be laid on the graves of all Veterans. Alll are welcome to attend and participate in the flag laying.
URL:https://www.carmanlegion.ca/event/decoration-day-service/
LOCATION:Greenwood Cemetery
ATTACH;FMTTYPE=image/jpeg:https://www.carmanlegion.ca/wp-content/uploads/2020/06/IMG_3507-1-scaled.jpg
END:VEVENT
BEGIN:VEVENT
DTSTART;TZID=UTC:20230603T183000
DTEND;TZID=UTC:20230603T200000
DTSTAMP:20260424T074959
CREATED:20230122T022240Z
LAST-MODIFIED:20230529T063514Z
UID:3568-1685817000-1685822400@www.carmanlegion.ca
SUMMARY:Card Draw & Bingo
DESCRIPTION:This weeks Lucky Card Draw jackpot will be $949.50 with a consolation prize remaining at $10\, with 48 cards remaining. Our Lucky Number Bingo jackpot for this week will be $1019\, with a consolation prize of $25.50.
URL:https://www.carmanlegion.ca/event/card-draw-bingo-19/
END:VEVENT
BEGIN:VEVENT
DTSTART;TZID=UTC:20230605T090000
DTEND;TZID=UTC:20230605T160000
DTSTAMP:20260424T074959
CREATED:20230122T022408Z
LAST-MODIFIED:20230122T022408Z
UID:3570-1685955600-1685980800@www.carmanlegion.ca
SUMMARY:Private Event - L. A. Hall
DESCRIPTION:
URL:https://www.carmanlegion.ca/event/private-event-l-a-hall-12/
END:VEVENT
BEGIN:VEVENT
DTSTART;TZID=UTC:20230605T090000
DTEND;TZID=UTC:20230605T160000
DTSTAMP:20260424T074959
CREATED:20230527T215157Z
LAST-MODIFIED:20230527T215157Z
UID:4984-1685955600-1685980800@www.carmanlegion.ca
SUMMARY:Private Event-L.A.Hall
DESCRIPTION:
URL:https://www.carmanlegion.ca/event/private-event-l-a-hall-16/
END:VEVENT
BEGIN:VEVENT
DTSTART;TZID=UTC:20230608T090000
DTEND;TZID=UTC:20230608T160000
DTSTAMP:20260424T074959
CREATED:20230122T022516Z
LAST-MODIFIED:20230122T022516Z
UID:3572-1686214800-1686240000@www.carmanlegion.ca
SUMMARY:MPI - L. A. Hall
DESCRIPTION:
URL:https://www.carmanlegion.ca/event/mpi-l-a-hall-6/
END:VEVENT
BEGIN:VEVENT
DTSTART;TZID=UTC:20230609T180000
DTEND;TZID=UTC:20230609T200000
DTSTAMP:20260424T074959
CREATED:20230122T022607Z
LAST-MODIFIED:20230514T213651Z
UID:3574-1686333600-1686340800@www.carmanlegion.ca
SUMMARY:Meat Draw
DESCRIPTION:
URL:https://www.carmanlegion.ca/event/meat-draw-75/
END:VEVENT
BEGIN:VEVENT
DTSTART;TZID=UTC:20230610T183000
DTEND;TZID=UTC:20230610T200000
DTSTAMP:20260424T074959
CREATED:20230122T022926Z
LAST-MODIFIED:20230218T040009Z
UID:3576-1686421800-1686427200@www.carmanlegion.ca
SUMMARY:Card Draw & Bingo
DESCRIPTION:
URL:https://www.carmanlegion.ca/event/card-draw-bingo-20/
END:VEVENT
BEGIN:VEVENT
DTSTART;TZID=UTC:20230610T200000
DTEND;TZID=UTC:20230610T220000
DTSTAMP:20260424T074959
CREATED:20230507T210730Z
LAST-MODIFIED:20230507T210745Z
UID:4920-1686427200-1686434400@www.carmanlegion.ca
SUMMARY:B&R Comedy Hypnosis
DESCRIPTION:Will you be the star of the show? Experience the undeniable laughter and amazement \nas you witness the incredible Brian and Rhonda hypnotist team turn your friends\, \nfamily and/or collegues into hilarious performing stars! \n 
URL:https://www.carmanlegion.ca/event/br-comedy-hypnosis/
END:VEVENT
BEGIN:VEVENT
DTSTART;TZID=UTC:20230611T100000
DTEND;TZID=UTC:20230611T130000
DTSTAMP:20260424T074959
CREATED:20230527T215657Z
LAST-MODIFIED:20230527T215657Z
UID:4988-1686477600-1686488400@www.carmanlegion.ca
SUMMARY:Private Event-L.A. Hall
DESCRIPTION:
URL:https://www.carmanlegion.ca/event/private-event-l-a-hall-17/
END:VEVENT
BEGIN:VEVENT
DTSTART;TZID=UTC:20230613T090000
DTEND;TZID=UTC:20230613T170000
DTSTAMP:20260424T074959
CREATED:20230514T212443Z
LAST-MODIFIED:20230527T215450Z
UID:4942-1686646800-1686675600@www.carmanlegion.ca
SUMMARY:Private Event-L.A. Hall
DESCRIPTION:
URL:https://www.carmanlegion.ca/event/private-event-la-hall-2/
END:VEVENT
BEGIN:VEVENT
DTSTART;TZID=UTC:20230614T080000
DTEND;TZID=UTC:20230614T150000
DTSTAMP:20260424T074959
CREATED:20230527T215544Z
LAST-MODIFIED:20230527T215544Z
UID:4986-1686729600-1686754800@www.carmanlegion.ca
SUMMARY:Private Rental-L.A. Hall
DESCRIPTION:
URL:https://www.carmanlegion.ca/event/private-rental-l-a-hall/
END:VEVENT
BEGIN:VEVENT
DTSTART;TZID=UTC:20230616T180000
DTEND;TZID=UTC:20230616T200000
DTSTAMP:20260424T074959
CREATED:20230122T023140Z
LAST-MODIFIED:20230514T213809Z
UID:3580-1686938400-1686945600@www.carmanlegion.ca
SUMMARY:Meat Draw
DESCRIPTION:
URL:https://www.carmanlegion.ca/event/meat-draw-76/
END:VEVENT
BEGIN:VEVENT
DTSTART;TZID=UTC:20230617T183000
DTEND;TZID=UTC:20230617T200000
DTSTAMP:20260424T074959
CREATED:20230122T023234Z
LAST-MODIFIED:20230612T040435Z
UID:3582-1687026600-1687032000@www.carmanlegion.ca
SUMMARY:Card Draw & Bingo
DESCRIPTION:This weeks Lucky Card Draw jackpot is sitting at $1115 with 46 cards remaining\, and a consolation prize of $10. \nThe Lucky Number Bingo jackpot will be $1109.50\, with a consolation prize of $46.50.
URL:https://www.carmanlegion.ca/event/card-draw-bingo-21/
END:VEVENT
BEGIN:VEVENT
DTSTART;TZID=UTC:20230619T080000
DTEND;TZID=UTC:20230619T170000
DTSTAMP:20260424T074959
CREATED:20230620T055311Z
LAST-MODIFIED:20230620T055311Z
UID:5096-1687161600-1687194000@www.carmanlegion.ca
SUMMARY:Meat Draw and 50/50 Draw
DESCRIPTION:
URL:https://www.carmanlegion.ca/event/meat-draw-and-50-50-draw-2/
END:VEVENT
BEGIN:VEVENT
DTSTART;TZID=UTC:20230621T193000
DTEND;TZID=UTC:20230621T203000
DTSTAMP:20260424T074959
CREATED:20230514T212620Z
LAST-MODIFIED:20230514T213126Z
UID:4944-1687375800-1687379400@www.carmanlegion.ca
SUMMARY:Ladies Auxiliary Meeting-L.A. Hall
DESCRIPTION:
URL:https://www.carmanlegion.ca/event/ladies-auxiliary-meeting-la-hall/
END:VEVENT
BEGIN:VEVENT
DTSTART;TZID=UTC:20230621T193000
DTEND;TZID=UTC:20230621T210000
DTSTAMP:20260424T074959
CREATED:20230122T023046Z
LAST-MODIFIED:20230617T224505Z
UID:3578-1687375800-1687381200@www.carmanlegion.ca
SUMMARY:General Meeting
DESCRIPTION:Come out and have your voices heard about what goes on at your legion. Join us at 6:00 pm for a free BBQ with burgers\, hot dogs and salad before the meeting.
URL:https://www.carmanlegion.ca/event/general-meeting-20/
END:VEVENT
BEGIN:VEVENT
DTSTART;TZID=UTC:20230622T090000
DTEND;TZID=UTC:20230622T160000
DTSTAMP:20260424T074959
CREATED:20230122T024319Z
LAST-MODIFIED:20230122T024319Z
UID:3587-1687424400-1687449600@www.carmanlegion.ca
SUMMARY:MPI - L. A. Hall
DESCRIPTION:
URL:https://www.carmanlegion.ca/event/mpi-l-a-hall-7/
END:VEVENT
BEGIN:VEVENT
DTSTART;TZID=UTC:20230623T180000
DTEND;TZID=UTC:20230623T200000
DTSTAMP:20260424T074959
CREATED:20230122T023357Z
LAST-MODIFIED:20230514T213904Z
UID:3584-1687543200-1687550400@www.carmanlegion.ca
SUMMARY:Meat Draw
DESCRIPTION:
URL:https://www.carmanlegion.ca/event/meat-draw-77/
END:VEVENT
BEGIN:VEVENT
DTSTART;TZID=UTC:20230624T130000
DTEND;TZID=UTC:20230624T200000
DTSTAMP:20260424T074959
CREATED:20230122T024955Z
LAST-MODIFIED:20230122T024955Z
UID:3589-1687611600-1687636800@www.carmanlegion.ca
SUMMARY:Private Event - L. A. Hall
DESCRIPTION:
URL:https://www.carmanlegion.ca/event/private-event-l-a-hall-13/
END:VEVENT
BEGIN:VEVENT
DTSTART;TZID=UTC:20230624T183000
DTEND;TZID=UTC:20230624T210000
DTSTAMP:20260424T074959
CREATED:20230122T025059Z
LAST-MODIFIED:20230620T054329Z
UID:3591-1687631400-1687640400@www.carmanlegion.ca
SUMMARY:Card Draw & Bingo
DESCRIPTION:This weeks Lucky Card Draw jackpot is going to be $1172 with 45 cards left\, and a consolation prize of $10. Our Lucky Number Bingo jackpot will be $1152 with  consolation prize of $42.50.
URL:https://www.carmanlegion.ca/event/card-draw-bingo-22/
END:VEVENT
BEGIN:VEVENT
DTSTART;TZID=UTC:20230626T160000
DTEND;TZID=UTC:20230626T223000
DTSTAMP:20260424T074959
CREATED:20230514T212746Z
LAST-MODIFIED:20230527T215910Z
UID:4947-1687795200-1687818600@www.carmanlegion.ca
SUMMARY:Private Event-L.A. Hall
DESCRIPTION:
URL:https://www.carmanlegion.ca/event/private-event-la-hall-3/
END:VEVENT
BEGIN:VEVENT
DTSTART;TZID=UTC:20230630T180000
DTEND;TZID=UTC:20230630T200000
DTSTAMP:20260424T074959
CREATED:20230514T214047Z
LAST-MODIFIED:20230514T214047Z
UID:4954-1688148000-1688155200@www.carmanlegion.ca
SUMMARY:MEAT DRAW
DESCRIPTION:
URL:https://www.carmanlegion.ca/event/meat-draw/
END:VEVENT
END:VCALENDAR