BEGIN:VCALENDAR
VERSION:2.0
PRODID:-//Carman Legion Branch 18 - ECPv6.15.20//NONSGML v1.0//EN
CALSCALE:GREGORIAN
METHOD:PUBLISH
X-WR-CALNAME:Carman Legion Branch 18
X-ORIGINAL-URL:https://www.carmanlegion.ca
X-WR-CALDESC:Events for Carman Legion Branch 18
REFRESH-INTERVAL;VALUE=DURATION:PT1H
X-Robots-Tag:noindex
X-PUBLISHED-TTL:PT1H
BEGIN:VTIMEZONE
TZID:UTC
BEGIN:STANDARD
TZOFFSETFROM:+0000
TZOFFSETTO:+0000
TZNAME:UTC
DTSTART:20220101T000000
END:STANDARD
END:VTIMEZONE
BEGIN:VEVENT
DTSTART;TZID=UTC:20230701T183000
DTEND;TZID=UTC:20230701T200000
DTSTAMP:20260424T062133
CREATED:20230610T030153Z
LAST-MODIFIED:20230626T052328Z
UID:5045-1688236200-1688241600@www.carmanlegion.ca
SUMMARY:Card Draw\, 50/50 and Lucky Number Bingo
DESCRIPTION:This weeks Lucky Card Draw jackpot is up to $1232 with 44 cards remaining. The consolation prize remains at $10. The Lucky Number Bingo jackpot will be $1194 with a consolation prize of $42.
URL:https://www.carmanlegion.ca/event/card-draw-50-50-and-lucky-number-bingo/
END:VEVENT
BEGIN:VEVENT
DTSTART;TZID=UTC:20230706T090000
DTEND;TZID=UTC:20230706T160000
DTSTAMP:20260424T062133
CREATED:20230122T025159Z
LAST-MODIFIED:20230122T025159Z
UID:3593-1688634000-1688659200@www.carmanlegion.ca
SUMMARY:MPI - L. A. Hall
DESCRIPTION:
URL:https://www.carmanlegion.ca/event/mpi-l-a-hall-8/
END:VEVENT
BEGIN:VEVENT
DTSTART;TZID=UTC:20230706T160000
DTEND;TZID=UTC:20230706T220000
DTSTAMP:20260424T062133
CREATED:20230527T220106Z
LAST-MODIFIED:20230527T220106Z
UID:4990-1688659200-1688680800@www.carmanlegion.ca
SUMMARY:Private Rental-L.A. Hall
DESCRIPTION:
URL:https://www.carmanlegion.ca/event/private-rental-l-a-hall-2/
END:VEVENT
BEGIN:VEVENT
DTSTART;TZID=UTC:20230707T080000
DTEND;TZID=UTC:20230707T170000
DTSTAMP:20260424T062133
CREATED:20230514T214421Z
LAST-MODIFIED:20230514T214421Z
UID:4958-1688716800-1688749200@www.carmanlegion.ca
SUMMARY:Meat Draw
DESCRIPTION:
URL:https://www.carmanlegion.ca/event/meat-draw-2/
END:VEVENT
BEGIN:VEVENT
DTSTART;TZID=UTC:20230708T183000
DTEND;TZID=UTC:20230708T200000
DTSTAMP:20260424T062133
CREATED:20230514T214931Z
LAST-MODIFIED:20230704T204545Z
UID:4962-1688841000-1688846400@www.carmanlegion.ca
SUMMARY:Lucky Card Draw\,50/50\, and Lucky Number Bingo
DESCRIPTION:This weeks Lucky Card Draw jackpot is going to be $1270 with 43 cards remaining. The consolation prize remains at $10.  This weeks Lucky Number Bingo jackpot is worth $1220\, with a consolation prize of $26.
URL:https://www.carmanlegion.ca/event/card-draw-and-lucky-number-bingo/
ATTACH;FMTTYPE=image/jpeg:https://www.carmanlegion.ca/wp-content/uploads/2023/06/CARD-DRAW-WEBSITE-scaled.jpg
END:VEVENT
BEGIN:VEVENT
DTSTART;TZID=UTC:20230714T090000
DTEND;TZID=UTC:20230714T140000
DTSTAMP:20260424T062133
CREATED:20230704T201736Z
LAST-MODIFIED:20230704T202450Z
UID:5130-1689325200-1689343200@www.carmanlegion.ca
SUMMARY:LA Hall-C.U.P.E.
DESCRIPTION:
URL:https://www.carmanlegion.ca/event/c-u-p-e/
END:VEVENT
BEGIN:VEVENT
DTSTART;TZID=UTC:20230714T180000
DTEND;TZID=UTC:20230714T200000
DTSTAMP:20260424T062133
CREATED:20230529T063833Z
LAST-MODIFIED:20230529T063833Z
UID:5007-1689357600-1689364800@www.carmanlegion.ca
SUMMARY:Meat Draw and 50/50
DESCRIPTION:
URL:https://www.carmanlegion.ca/event/meat-draw-and-50-50/
END:VEVENT
BEGIN:VEVENT
DTSTART;TZID=UTC:20230715T183000
DTEND;TZID=UTC:20230715T200000
DTSTAMP:20260424T062133
CREATED:20230529T063931Z
LAST-MODIFIED:20230704T204456Z
UID:5009-1689445800-1689451200@www.carmanlegion.ca
SUMMARY:Lucky Card Draw\, 50/50\, and Lucky Number Bingo
DESCRIPTION:
URL:https://www.carmanlegion.ca/event/card-draw-50-50-and-bingo/
ATTACH;FMTTYPE=image/jpeg:https://www.carmanlegion.ca/wp-content/uploads/2023/06/CARD-DRAW-WEBSITE-scaled.jpg
END:VEVENT
BEGIN:VEVENT
DTSTART;TZID=UTC:20230721T180000
DTEND;TZID=UTC:20230721T200000
DTSTAMP:20260424T062133
CREATED:20230620T054938Z
LAST-MODIFIED:20230620T054938Z
UID:5092-1689962400-1689969600@www.carmanlegion.ca
SUMMARY:Meat Draw and 50/50 Draw
DESCRIPTION:
URL:https://www.carmanlegion.ca/event/meat-draw-and-50-50-draw/
END:VEVENT
BEGIN:VEVENT
DTSTART;TZID=UTC:20230722T183000
DTEND;TZID=UTC:20230722T200000
DTSTAMP:20260424T062133
CREATED:20230620T055157Z
LAST-MODIFIED:20230717T021018Z
UID:5094-1690050600-1690056000@www.carmanlegion.ca
SUMMARY:Lucky Card Draw\, 50/50\, and Lucky Number Bingo
DESCRIPTION:This weeks Lucky Card Draw jackpot is $1376.50 with 41 cards remaining. The consolation prize remains at $10. The Lucky Number Bingo Jackpot for this week is $1278.50\, with a consolation prize of $26.
URL:https://www.carmanlegion.ca/event/lucky-card-draw-50-50-draw-and-lucky-number-bingo/
ATTACH;FMTTYPE=image/jpeg:https://www.carmanlegion.ca/wp-content/uploads/2023/06/CARD-DRAW-WEBSITE-scaled.jpg
END:VEVENT
BEGIN:VEVENT
DTSTART;TZID=UTC:20230728T180000
DTEND;TZID=UTC:20230728T200000
DTSTAMP:20260424T062133
CREATED:20230620T055728Z
LAST-MODIFIED:20230620T055728Z
UID:5100-1690567200-1690574400@www.carmanlegion.ca
SUMMARY:Meat Draw and 50/50
DESCRIPTION:
URL:https://www.carmanlegion.ca/event/meat-draw-and-50-50-2/
END:VEVENT
BEGIN:VEVENT
DTSTART;TZID=UTC:20230729T183000
DTEND;TZID=UTC:20230729T200000
DTSTAMP:20260424T062133
CREATED:20230620T055444Z
LAST-MODIFIED:20230726T071725Z
UID:5098-1690655400-1690660800@www.carmanlegion.ca
SUMMARY:Lucky Card Draw\, 50/50 Draw and Lucky Number Bingo
DESCRIPTION:This weeks Lucky Card Draw jackpot is worth $1436.50 with 40 cards remaining. The consolation prize remains at $10. The Lucky Number Bingo jackpot for this week is going to be$1322\, with a consolation prize of $43.50.
URL:https://www.carmanlegion.ca/event/lucky-card-draw-50-50-draw-and-lucky-number-bingo-2/
END:VEVENT
END:VCALENDAR