BEGIN:VCALENDAR
VERSION:2.0
PRODID:-//Carman Legion Branch 18 - ECPv6.15.20//NONSGML v1.0//EN
CALSCALE:GREGORIAN
METHOD:PUBLISH
X-ORIGINAL-URL:https://www.carmanlegion.ca
X-WR-CALDESC:Events for Carman Legion Branch 18
REFRESH-INTERVAL;VALUE=DURATION:PT1H
X-Robots-Tag:noindex
X-PUBLISHED-TTL:PT1H
BEGIN:VTIMEZONE
TZID:UTC
BEGIN:STANDARD
TZOFFSETFROM:+0000
TZOFFSETTO:+0000
TZNAME:UTC
DTSTART:20220101T000000
END:STANDARD
END:VTIMEZONE
BEGIN:VEVENT
DTSTART;TZID=UTC:20231102T180000
DTEND;TZID=UTC:20231102T210000
DTSTAMP:20260422T002241
CREATED:20231016T030558Z
LAST-MODIFIED:20231016T030558Z
UID:5535-1698948000-1698958800@www.carmanlegion.ca
SUMMARY:CUPE 4270
DESCRIPTION:
URL:https://www.carmanlegion.ca/event/cupe-4270-2/
LOCATION:Carman Legion Auxiliary Hall
END:VEVENT
BEGIN:VEVENT
DTSTART;TZID=UTC:20231102T190000
DTEND;TZID=UTC:20231102T220000
DTSTAMP:20260422T002241
CREATED:20230910T214443Z
LAST-MODIFIED:20230910T214451Z
UID:5410-1698951600-1698962400@www.carmanlegion.ca
SUMMARY:Crib Night
DESCRIPTION:
URL:https://www.carmanlegion.ca/event/crib-night-5/
LOCATION:Carman Legion Lounge
END:VEVENT
BEGIN:VEVENT
DTSTART;TZID=UTC:20231103T130000
DTEND;TZID=UTC:20231103T170000
DTSTAMP:20260422T002241
CREATED:20231016T030740Z
LAST-MODIFIED:20231016T030740Z
UID:5537-1699016400-1699030800@www.carmanlegion.ca
SUMMARY:Remembrance Tea Prep
DESCRIPTION:
URL:https://www.carmanlegion.ca/event/remembrance-tea-prep/
LOCATION:Carman Legion Auxiliary Hall
END:VEVENT
BEGIN:VEVENT
DTSTART;TZID=UTC:20231103T180000
DTEND;TZID=UTC:20231103T200000
DTSTAMP:20260422T002241
CREATED:20231016T022902Z
LAST-MODIFIED:20231016T022902Z
UID:5507-1699034400-1699041600@www.carmanlegion.ca
SUMMARY:Meat Draw and 50/50
DESCRIPTION:
URL:https://www.carmanlegion.ca/event/meat-draw-and-50-50-17/
LOCATION:Carman Legion Branch #18
END:VEVENT
BEGIN:VEVENT
DTSTART;TZID=UTC:20231104T140000
DTEND;TZID=UTC:20231104T160000
DTSTAMP:20260422T002241
CREATED:20230925T025026Z
LAST-MODIFIED:20231011T012855Z
UID:5443-1699106400-1699113600@www.carmanlegion.ca
SUMMARY:Remembrance Day Tea
DESCRIPTION:Remembrance Day Tea Raffle draw to be made.
URL:https://www.carmanlegion.ca/event/remembrance-day-tea/
LOCATION:Carman Legion Auxiliary Hall
END:VEVENT
BEGIN:VEVENT
DTSTART;TZID=UTC:20231104T183000
DTEND;TZID=UTC:20231104T200000
DTSTAMP:20260422T002241
CREATED:20231011T012553Z
LAST-MODIFIED:20231029T224938Z
UID:5495-1699122600-1699128000@www.carmanlegion.ca
SUMMARY:Card draw\,50/50\, and Lucky Number Bingo
DESCRIPTION:This weeks Lucky Card Draw jackpot will be $2435.50\, with 27 cards remaining. The consolation prize remains at $10. The Lucky Number Bingo jackpot has risen to $425.50\, with a consolation prize of $45.00.
URL:https://www.carmanlegion.ca/event/card-draw50-50-and-lucky-number-bingo-7/
LOCATION:Carman Legion Branch #18
ATTACH;FMTTYPE=image/jpeg:https://www.carmanlegion.ca/wp-content/uploads/2023/06/CARD-DRAW-WEBSITE-scaled.jpg
END:VEVENT
BEGIN:VEVENT
DTSTART;TZID=UTC:20231104T200000
DTEND;TZID=UTC:20231104T233000
DTSTAMP:20260422T002241
CREATED:20231011T012802Z
LAST-MODIFIED:20231011T012802Z
UID:5497-1699128000-1699140600@www.carmanlegion.ca
SUMMARY:Dirt Road Pilots
DESCRIPTION:
URL:https://www.carmanlegion.ca/event/dirt-road-pilots/
LOCATION:Carman Legion Branch #18
END:VEVENT
BEGIN:VEVENT
DTSTART;TZID=UTC:20231106T090000
DTEND;TZID=UTC:20231106T130000
DTSTAMP:20260422T002241
CREATED:20231016T030913Z
LAST-MODIFIED:20231016T030913Z
UID:5539-1699261200-1699275600@www.carmanlegion.ca
SUMMARY:CUPE 4270
DESCRIPTION:
URL:https://www.carmanlegion.ca/event/cupe-4270-3/
LOCATION:Carman Legion Auxiliary Hall
END:VEVENT
BEGIN:VEVENT
DTSTART;TZID=UTC:20231109T090000
DTEND;TZID=UTC:20231109T170000
DTSTAMP:20260422T002241
CREATED:20231016T031015Z
LAST-MODIFIED:20231016T031015Z
UID:5541-1699520400-1699549200@www.carmanlegion.ca
SUMMARY:MPI
DESCRIPTION:
URL:https://www.carmanlegion.ca/event/mpi-5/
LOCATION:Carman Legion Auxiliary Hall
END:VEVENT
BEGIN:VEVENT
DTSTART;TZID=UTC:20231110T180000
DTEND;TZID=UTC:20231110T200000
DTSTAMP:20260422T002241
CREATED:20231016T023201Z
LAST-MODIFIED:20231016T023201Z
UID:5509-1699639200-1699646400@www.carmanlegion.ca
SUMMARY:Meat Draw and 50/50
DESCRIPTION:
URL:https://www.carmanlegion.ca/event/meat-draw-and-50-50-18/
LOCATION:Carman Legion Branch #18
END:VEVENT
BEGIN:VEVENT
DTSTART;TZID=UTC:20231111T103000
DTEND;TZID=UTC:20231111T120000
DTSTAMP:20260422T002241
CREATED:20231016T023930Z
LAST-MODIFIED:20231016T023930Z
UID:5513-1699698600-1699704000@www.carmanlegion.ca
SUMMARY:Remembrance Day Service
DESCRIPTION:
URL:https://www.carmanlegion.ca/event/remembrance-day-service/
LOCATION:Carman Community Hall\, 2nd. St. NW\, Carman\, Manitoba\, R0G 0J0\, Canada
END:VEVENT
BEGIN:VEVENT
DTSTART;TZID=UTC:20231111T183000
DTEND;TZID=UTC:20231111T200000
DTSTAMP:20260422T002241
CREATED:20231105T113455Z
LAST-MODIFIED:20231105T113455Z
UID:5615-1699727400-1699732800@www.carmanlegion.ca
SUMMARY:Card Draw and Lucky Number Bingo Cancelled
DESCRIPTION:Out of respect to our veterans and to observe Remembrance Day\, there will be no draws held.
URL:https://www.carmanlegion.ca/event/card-draw-and-lucky-number-bingo-cancelled/
ATTACH;FMTTYPE=image/jpeg:https://www.carmanlegion.ca/wp-content/uploads/2023/11/Lest-we-forget-scaled.jpg
END:VEVENT
BEGIN:VEVENT
DTSTART;TZID=UTC:20231115T180000
DTEND;TZID=UTC:20231115T223000
DTSTAMP:20260422T002241
CREATED:20231112T222013Z
LAST-MODIFIED:20231112T222013Z
UID:5694-1700071200-1700087400@www.carmanlegion.ca
SUMMARY:Private Rental
DESCRIPTION:
URL:https://www.carmanlegion.ca/event/private-rental-5/
END:VEVENT
BEGIN:VEVENT
DTSTART;TZID=UTC:20231116T190000
DTEND;TZID=UTC:20231116T220000
DTSTAMP:20260422T002241
CREATED:20230910T214546Z
LAST-MODIFIED:20230910T214552Z
UID:5412-1700161200-1700172000@www.carmanlegion.ca
SUMMARY:Crib Night
DESCRIPTION:
URL:https://www.carmanlegion.ca/event/crib-night-6/
LOCATION:Carman Legion Lounge
END:VEVENT
BEGIN:VEVENT
DTSTART;TZID=UTC:20231117T180000
DTEND;TZID=UTC:20231117T200000
DTSTAMP:20260422T002241
CREATED:20231016T024107Z
LAST-MODIFIED:20231016T024107Z
UID:5516-1700244000-1700251200@www.carmanlegion.ca
SUMMARY:Meat Draw and 50/50
DESCRIPTION:
URL:https://www.carmanlegion.ca/event/meat-draw-and-50-50-19/
LOCATION:Carman Legion Branch #18
END:VEVENT
BEGIN:VEVENT
DTSTART;VALUE=DATE:20231118
DTEND;VALUE=DATE:20231119
DTSTAMP:20260422T002241
CREATED:20231016T031218Z
LAST-MODIFIED:20231016T031218Z
UID:5543-1700265600-1700351999@www.carmanlegion.ca
SUMMARY:Branch Playoffs for District Crib
DESCRIPTION:
URL:https://www.carmanlegion.ca/event/branch-playoffs-for-district-crib/
LOCATION:Carman Legion Auxiliary Hall
END:VEVENT
BEGIN:VEVENT
DTSTART;TZID=UTC:20231118T090000
DTEND;TZID=UTC:20231118T113000
DTSTAMP:20260422T002241
CREATED:20231112T222208Z
LAST-MODIFIED:20231112T222208Z
UID:5696-1700298000-1700307000@www.carmanlegion.ca
SUMMARY:Ladies Auxilliary Booking
DESCRIPTION:
URL:https://www.carmanlegion.ca/event/ladies-auxilliary-booking/
END:VEVENT
BEGIN:VEVENT
DTSTART;TZID=UTC:20231118T183000
DTEND;TZID=UTC:20231118T200000
DTSTAMP:20260422T002241
CREATED:20231016T024302Z
LAST-MODIFIED:20231106T014632Z
UID:5518-1700332200-1700337600@www.carmanlegion.ca
SUMMARY:Lucky Card Draw\, 50/50\, and Lucky Number Bingo
DESCRIPTION:This weeks Lucky Card Draw jackpot is $2537 with 26 cards remaining. The consolation prize remains at $10. The Lucky Number Bingo jackpot will be $475\, with a consolation prize of $49.50.
URL:https://www.carmanlegion.ca/event/lucky-card-draw-50-50-and-lucky-number-bingo-5/
LOCATION:Carman Legion Branch #18
ATTACH;FMTTYPE=image/jpeg:https://www.carmanlegion.ca/wp-content/uploads/2023/06/CARD-DRAW-WEBSITE-scaled.jpg
END:VEVENT
BEGIN:VEVENT
DTSTART;VALUE=DATE:20231119
DTEND;VALUE=DATE:20231120
DTSTAMP:20260422T002241
CREATED:20231016T031317Z
LAST-MODIFIED:20231016T031317Z
UID:5545-1700352000-1700438399@www.carmanlegion.ca
SUMMARY:Branch Playoffs for District Crib
DESCRIPTION:
URL:https://www.carmanlegion.ca/event/branch-playoffs-for-district-crib-2/
LOCATION:Carman Legion Auxiliary Hall
END:VEVENT
BEGIN:VEVENT
DTSTART;TZID=UTC:20231119T150000
DTEND;TZID=UTC:20231119T210000
DTSTAMP:20260422T002241
CREATED:20231016T031633Z
LAST-MODIFIED:20231115T071212Z
UID:5547-1700406000-1700427600@www.carmanlegion.ca
SUMMARY:Grey Cup Party
DESCRIPTION:Join us at the Legion to cheer on the Winnipeg Blue Bombers as they battle the Montreal Alouettes for the 2023 Grey Cup. There will be snacks on the tables\, your favourite beverages for sale\, and chili and a bun\, and hot dogs. There is no charge to attend\, and food is by donation. We hope to see you there.
URL:https://www.carmanlegion.ca/event/grey-cup-party/
LOCATION:Carman Legion Lounge
END:VEVENT
BEGIN:VEVENT
DTSTART;TZID=UTC:20231123T090000
DTEND;TZID=UTC:20231123T170000
DTSTAMP:20260422T002241
CREATED:20231016T031721Z
LAST-MODIFIED:20231016T031820Z
UID:5549-1700730000-1700758800@www.carmanlegion.ca
SUMMARY:MPI
DESCRIPTION:
URL:https://www.carmanlegion.ca/event/mpi-6/
LOCATION:Carman Legion Auxiliary Hall
END:VEVENT
BEGIN:VEVENT
DTSTART;TZID=UTC:20231124T180000
DTEND;TZID=UTC:20231124T200000
DTSTAMP:20260422T002241
CREATED:20231016T024426Z
LAST-MODIFIED:20231016T024426Z
UID:5520-1700848800-1700856000@www.carmanlegion.ca
SUMMARY:Meat Draw and 50\50
DESCRIPTION:
URL:https://www.carmanlegion.ca/event/meat-draw-and-5050/
LOCATION:Carman Legion Branch #18
END:VEVENT
BEGIN:VEVENT
DTSTART;TZID=UTC:20231125T140000
DTEND;TZID=UTC:20231125T160000
DTSTAMP:20260422T002241
CREATED:20231106T062147Z
LAST-MODIFIED:20231115T064947Z
UID:5658-1700920800-1700928000@www.carmanlegion.ca
SUMMARY:Carm Colvin 105th Birthday party
DESCRIPTION:Come and join the family in celebrating Carm Colvin’s 105th birthday.
URL:https://www.carmanlegion.ca/event/carm-colvin-105th-birthday-party/
LOCATION:Carman Legion Branch #18
END:VEVENT
BEGIN:VEVENT
DTSTART;TZID=UTC:20231125T183000
DTEND;TZID=UTC:20231125T200000
DTSTAMP:20260422T002241
CREATED:20231016T024601Z
LAST-MODIFIED:20231124T222719Z
UID:5522-1700937000-1700942400@www.carmanlegion.ca
SUMMARY:Lucky Card Draw\, 50/50\, and Lucky Number Bingo
DESCRIPTION:This weeks Lucky Card Draw jackpot will be $2626.50\, with 25 cards remaining. The consolation prize remains at $10. The Lucky Number Bingo jackpot has risen to $522.50\, with a consolation prize of $47.50.
URL:https://www.carmanlegion.ca/event/lucky-card-draw-50-50-and-lucky-number-bingo-6/
ATTACH;FMTTYPE=image/jpeg:https://www.carmanlegion.ca/wp-content/uploads/2023/06/CARD-DRAW-WEBSITE-scaled.jpg
END:VEVENT
BEGIN:VEVENT
DTSTART;TZID=UTC:20231130T090000
DTEND;TZID=UTC:20231130T170000
DTSTAMP:20260422T002241
CREATED:20231130T074213Z
LAST-MODIFIED:20231130T074213Z
UID:5750-1701334800-1701363600@www.carmanlegion.ca
SUMMARY:M.P.I
DESCRIPTION:
URL:https://www.carmanlegion.ca/event/m-p-i/
LOCATION:Carman Legion Auxiliary Hall
END:VEVENT
BEGIN:VEVENT
DTSTART;TZID=UTC:20231130T180000
DTEND;TZID=UTC:20231130T220000
DTSTAMP:20260422T002241
CREATED:20231130T074339Z
LAST-MODIFIED:20231130T074339Z
UID:5752-1701367200-1701381600@www.carmanlegion.ca
SUMMARY:Private Rental
DESCRIPTION:
URL:https://www.carmanlegion.ca/event/private-rental-6/
LOCATION:Carman Legion Auxiliary Hall
END:VEVENT
BEGIN:VEVENT
DTSTART;TZID=UTC:20231130T190000
DTEND;TZID=UTC:20231130T220000
DTSTAMP:20260422T002241
CREATED:20230910T214648Z
LAST-MODIFIED:20230910T214653Z
UID:5414-1701370800-1701381600@www.carmanlegion.ca
SUMMARY:Crib Night
DESCRIPTION:
URL:https://www.carmanlegion.ca/event/crib-night-7/
LOCATION:Carman Legion Lounge
END:VEVENT
END:VCALENDAR