BEGIN:VCALENDAR
VERSION:2.0
PRODID:-//Carman Legion Branch 18 - ECPv6.15.20//NONSGML v1.0//EN
CALSCALE:GREGORIAN
METHOD:PUBLISH
X-WR-CALNAME:Carman Legion Branch 18
X-ORIGINAL-URL:https://www.carmanlegion.ca
X-WR-CALDESC:Events for Carman Legion Branch 18
REFRESH-INTERVAL;VALUE=DURATION:PT1H
X-Robots-Tag:noindex
X-PUBLISHED-TTL:PT1H
BEGIN:VTIMEZONE
TZID:UTC
BEGIN:STANDARD
TZOFFSETFROM:+0000
TZOFFSETTO:+0000
TZNAME:UTC
DTSTART:20220101T000000
END:STANDARD
END:VTIMEZONE
BEGIN:VEVENT
DTSTART;TZID=UTC:20231201T180000
DTEND;TZID=UTC:20231201T200000
DTSTAMP:20260421T223948
CREATED:20231029T224136Z
LAST-MODIFIED:20231029T224142Z
UID:5555-1701453600-1701460800@www.carmanlegion.ca
SUMMARY:Meat Draw and 50/50
DESCRIPTION:
URL:https://www.carmanlegion.ca/event/meat-draw-and-50-50-20/
LOCATION:Carman Legion Branch #18
END:VEVENT
BEGIN:VEVENT
DTSTART;TZID=UTC:20231202T183000
DTEND;TZID=UTC:20231202T200000
DTSTAMP:20260421T223948
CREATED:20231029T224327Z
LAST-MODIFIED:20231128T090019Z
UID:5557-1701541800-1701547200@www.carmanlegion.ca
SUMMARY:Lucky Card Draw\, 50/50\, and Lucky Number Bingo
DESCRIPTION:This weeks Lucky Card Draw jackpot will be $2700\, with 24 cards remaining. The consolation prize remains at $10. The Lucky Number Bingo jackpot for this week is $566.50\, with a consolation prize of $44.
URL:https://www.carmanlegion.ca/event/lucky-card-draw-50-50-and-lucky-number-bingo-7/
LOCATION:Carman Legion Branch #18
ATTACH;FMTTYPE=image/jpeg:https://www.carmanlegion.ca/wp-content/uploads/2023/06/CARD-DRAW-WEBSITE-scaled.jpg
END:VEVENT
BEGIN:VEVENT
DTSTART;TZID=UTC:20231203T110000
DTEND;TZID=UTC:20231203T190000
DTSTAMP:20260421T223948
CREATED:20231203T001404Z
LAST-MODIFIED:20231203T001750Z
UID:5776-1701601200-1701630000@www.carmanlegion.ca
SUMMARY:Private Rental
DESCRIPTION:
URL:https://www.carmanlegion.ca/event/morgan-isfeld/
LOCATION:Carman Legion Auxiliary Hall
END:VEVENT
BEGIN:VEVENT
DTSTART;TZID=UTC:20231204T090000
DTEND;TZID=UTC:20231204T170000
DTSTAMP:20260421T223948
CREATED:20231106T062359Z
LAST-MODIFIED:20231106T062359Z
UID:5660-1701680400-1701709200@www.carmanlegion.ca
SUMMARY:CUPE 4270
DESCRIPTION:
URL:https://www.carmanlegion.ca/event/cupe-4270-4/
LOCATION:Carman Legion Auxiliary Hall
END:VEVENT
BEGIN:VEVENT
DTSTART;TZID=UTC:20231205T140000
DTEND;TZID=UTC:20231205T160000
DTSTAMP:20260421T223948
CREATED:20231106T062522Z
LAST-MODIFIED:20231202T234356Z
UID:5662-1701784800-1701792000@www.carmanlegion.ca
SUMMARY:Legion Ladies Auxiliary Christmas Tea
DESCRIPTION:Starting at 2pm.
URL:https://www.carmanlegion.ca/event/legion-christmas-senior-tea/
LOCATION:Carman Legion Auxiliary Hall
END:VEVENT
BEGIN:VEVENT
DTSTART;TZID=UTC:20231207T180000
DTEND;TZID=UTC:20231207T220000
DTSTAMP:20260421T223948
CREATED:20231203T001648Z
LAST-MODIFIED:20231203T001648Z
UID:5778-1701972000-1701986400@www.carmanlegion.ca
SUMMARY:Private rental
DESCRIPTION:
URL:https://www.carmanlegion.ca/event/private-rental-7/
LOCATION:Carman Legion Auxiliary Hall
END:VEVENT
BEGIN:VEVENT
DTSTART;TZID=UTC:20231208T180000
DTEND;TZID=UTC:20231208T200000
DTSTAMP:20260421T223948
CREATED:20231029T224445Z
LAST-MODIFIED:20231029T224450Z
UID:5559-1702058400-1702065600@www.carmanlegion.ca
SUMMARY:Meat Draw and 50/50
DESCRIPTION:
URL:https://www.carmanlegion.ca/event/meat-draw-and-50-50-21/
LOCATION:Carman Legion Branch #18
END:VEVENT
BEGIN:VEVENT
DTSTART;TZID=UTC:20231209T100000
DTEND;TZID=UTC:20231209T160000
DTSTAMP:20260421T223948
CREATED:20231203T001923Z
LAST-MODIFIED:20231203T001923Z
UID:5781-1702116000-1702137600@www.carmanlegion.ca
SUMMARY:Private rental
DESCRIPTION:
URL:https://www.carmanlegion.ca/event/private-rental-8/
LOCATION:Carman Legion Auxiliary Hall
END:VEVENT
BEGIN:VEVENT
DTSTART;TZID=UTC:20231209T183000
DTEND;TZID=UTC:20231209T200000
DTSTAMP:20260421T223948
CREATED:20231029T224606Z
LAST-MODIFIED:20231204T000315Z
UID:5561-1702146600-1702152000@www.carmanlegion.ca
SUMMARY:Lucky Card Draw\, 50/50\, and Lucky Number Bingo
DESCRIPTION:This weeks Lucky Card Draw jackpot will be $2757.00\, with 23 cards remaining. The consolation prize remains at $10. Our Lucky Number Bingo jackpot is $600.50\, with a consolation prize of $34. Please remember that this week the card draw and bingo will take place a half hour early to accommodate the entertainment this evening.
URL:https://www.carmanlegion.ca/event/lucky-card-draw-50-50-and-lucky-number-bingo-8/
LOCATION:Carman Legion Branch #18
ATTACH;FMTTYPE=image/jpeg:https://www.carmanlegion.ca/wp-content/uploads/2023/06/CARD-DRAW-WEBSITE-scaled.jpg
END:VEVENT
BEGIN:VEVENT
DTSTART;TZID=UTC:20231209T200000
DTEND;TZID=UTC:20231209T233000
DTSTAMP:20260421T223948
CREATED:20231016T032635Z
LAST-MODIFIED:20231029T230133Z
UID:5551-1702152000-1702164600@www.carmanlegion.ca
SUMMARY:Dance in Ur Pantz Christmas Show
DESCRIPTION:Come out and enjoy the Dance in Ur Pants \nChristmas Show.
URL:https://www.carmanlegion.ca/event/dance-in-ur-pantz-christmas-show/
LOCATION:Carman Legion Lounge
END:VEVENT
BEGIN:VEVENT
DTSTART;TZID=UTC:20231213T090000
DTEND;TZID=UTC:20231213T170000
DTSTAMP:20260421T223948
CREATED:20231203T002022Z
LAST-MODIFIED:20231203T002027Z
UID:5783-1702458000-1702486800@www.carmanlegion.ca
SUMMARY:MPI
DESCRIPTION:
URL:https://www.carmanlegion.ca/event/mpi-7/
LOCATION:Carman Legion Auxiliary Hall
END:VEVENT
BEGIN:VEVENT
DTSTART;TZID=UTC:20231214T180000
DTEND;TZID=UTC:20231214T220000
DTSTAMP:20260421T223948
CREATED:20231203T002128Z
LAST-MODIFIED:20231203T002128Z
UID:5785-1702576800-1702591200@www.carmanlegion.ca
SUMMARY:Private rental
DESCRIPTION:
URL:https://www.carmanlegion.ca/event/private-rental-9/
LOCATION:Carman Legion Auxiliary Hall
END:VEVENT
BEGIN:VEVENT
DTSTART;TZID=UTC:20231214T190000
DTEND;TZID=UTC:20231214T220000
DTSTAMP:20260421T223948
CREATED:20230910T214805Z
LAST-MODIFIED:20230910T214816Z
UID:5416-1702580400-1702591200@www.carmanlegion.ca
SUMMARY:Crib Night
DESCRIPTION:
URL:https://www.carmanlegion.ca/event/crib-night-8/
LOCATION:Carman Legion Lounge
END:VEVENT
BEGIN:VEVENT
DTSTART;TZID=UTC:20231215T180000
DTEND;TZID=UTC:20231215T200000
DTSTAMP:20260421T223948
CREATED:20231112T221225Z
LAST-MODIFIED:20231112T221225Z
UID:5686-1702663200-1702670400@www.carmanlegion.ca
SUMMARY:Meat Draw and 50/50
DESCRIPTION:
URL:https://www.carmanlegion.ca/event/meat-draw-and-50-50-22/
LOCATION:Carman Legion Branch #18
END:VEVENT
BEGIN:VEVENT
DTSTART;TZID=UTC:20231216T120000
DTEND;TZID=UTC:20231216T180000
DTSTAMP:20260421T223948
CREATED:20231203T002244Z
LAST-MODIFIED:20231203T002251Z
UID:5787-1702728000-1702749600@www.carmanlegion.ca
SUMMARY:Private rental
DESCRIPTION:
URL:https://www.carmanlegion.ca/event/private-rental-10/
LOCATION:Carman Legion Auxiliary Hall
END:VEVENT
BEGIN:VEVENT
DTSTART;TZID=UTC:20231216T183000
DTEND;TZID=UTC:20231216T200000
DTSTAMP:20260421T223948
CREATED:20231112T221422Z
LAST-MODIFIED:20231211T073520Z
UID:5688-1702751400-1702756800@www.carmanlegion.ca
SUMMARY:Lucky Card Draw\, 50/50\, and Lucky Number Bingo
DESCRIPTION:This weeks Lucky Card Draw jackpot will be $2863.50\, with 22 cards remaining. The consolation prize remains at $10. The Lucky Number Bingo jackpot has risen to $639\, with a consolation prize of $39.50.
URL:https://www.carmanlegion.ca/event/lucky-card-draw-50-50-and-lucky-number-bingo-4/
LOCATION:Carman Legion Branch #18
ATTACH;FMTTYPE=image/jpeg:https://www.carmanlegion.ca/wp-content/uploads/2023/06/CARD-DRAW-WEBSITE-scaled.jpg
END:VEVENT
BEGIN:VEVENT
DTSTART;TZID=UTC:20231217T090000
DTEND;TZID=UTC:20231217T190000
DTSTAMP:20260421T223948
CREATED:20231203T020555Z
LAST-MODIFIED:20231203T020555Z
UID:5789-1702803600-1702839600@www.carmanlegion.ca
SUMMARY:Private rental
DESCRIPTION:
URL:https://www.carmanlegion.ca/event/private-rental-11/
LOCATION:Carman Legion Auxiliary Hall
END:VEVENT
BEGIN:VEVENT
DTSTART;TZID=UTC:20231220T130000
DTEND;TZID=UTC:20231220T150000
DTSTAMP:20260421T223948
CREATED:20231203T021741Z
LAST-MODIFIED:20231203T021741Z
UID:5791-1703077200-1703084400@www.carmanlegion.ca
SUMMARY:Ladies Auxiliary Meeting
DESCRIPTION:
URL:https://www.carmanlegion.ca/event/ladies-auxiliary-meeting/
LOCATION:Carman Legion Auxiliary Hall
END:VEVENT
BEGIN:VEVENT
DTSTART;TZID=UTC:20231220T193000
DTEND;TZID=UTC:20231220T210000
DTSTAMP:20260421T223948
CREATED:20231130T074937Z
LAST-MODIFIED:20231215T212036Z
UID:5754-1703100600-1703106000@www.carmanlegion.ca
SUMMARY:Branch 18 General Meeting
DESCRIPTION:Come out for the General Meeting. Hear what is going on in your Legion\, and have a say in how it is run. Bring up your ideas\, and vote on them. Due to unforeseen circumstances\, the Elections for the new Executive Committee have been postpones until January 24\,2024.
URL:https://www.carmanlegion.ca/event/branch-18-elections-and-general-meeting/
LOCATION:Carman Legion Branch #18
END:VEVENT
BEGIN:VEVENT
DTSTART;TZID=UTC:20231221T090000
DTEND;TZID=UTC:20231221T170000
DTSTAMP:20260421T223948
CREATED:20231106T062745Z
LAST-MODIFIED:20231106T062745Z
UID:5666-1703149200-1703178000@www.carmanlegion.ca
SUMMARY:MPI
DESCRIPTION:
URL:https://www.carmanlegion.ca/event/mpi-8/
LOCATION:Carman Legion Auxiliary Hall
END:VEVENT
BEGIN:VEVENT
DTSTART;TZID=UTC:20231221T180000
DTEND;TZID=UTC:20231221T220000
DTSTAMP:20260421T223948
CREATED:20231203T021858Z
LAST-MODIFIED:20231203T021858Z
UID:5793-1703181600-1703196000@www.carmanlegion.ca
SUMMARY:Private rental
DESCRIPTION:
URL:https://www.carmanlegion.ca/event/private-rental-12/
LOCATION:Carman Legion Auxiliary Hall
END:VEVENT
BEGIN:VEVENT
DTSTART;TZID=UTC:20231222T180000
DTEND;TZID=UTC:20231222T200000
DTSTAMP:20260421T223948
CREATED:20231112T221540Z
LAST-MODIFIED:20231112T221540Z
UID:5690-1703268000-1703275200@www.carmanlegion.ca
SUMMARY:Meat Draw and 50/50
DESCRIPTION:
URL:https://www.carmanlegion.ca/event/meat-draw-and-50-50-23/
LOCATION:Carman Legion Branch #18
END:VEVENT
BEGIN:VEVENT
DTSTART;TZID=UTC:20231223T183000
DTEND;TZID=UTC:20231223T200000
DTSTAMP:20260421T223948
CREATED:20231112T221743Z
LAST-MODIFIED:20231217T223804Z
UID:5692-1703356200-1703361600@www.carmanlegion.ca
SUMMARY:Lucky Card Draw\, 50/50\, and Lucky Number Bingo
DESCRIPTION:This weeks Lucky Card Draw jackpot will be $2951.50 with 21 cards remaining. The consolation prize remains $10. The Lucky Number Bingo jackpot for this week is $681\, with a consolation prize of $42.
URL:https://www.carmanlegion.ca/event/lucky-card-draw-50-50-and-lucky-number-bingo-9/
LOCATION:Carman Legion Branch #18
ATTACH;FMTTYPE=image/jpeg:https://www.carmanlegion.ca/wp-content/uploads/2023/06/CARD-DRAW-WEBSITE-scaled.jpg
END:VEVENT
BEGIN:VEVENT
DTSTART;VALUE=DATE:20231225
DTEND;VALUE=DATE:20231226
DTSTAMP:20260421T223948
CREATED:20231203T022024Z
LAST-MODIFIED:20231216T094136Z
UID:5795-1703462400-1703548799@www.carmanlegion.ca
SUMMARY:Christmas Day-Legion Closed
DESCRIPTION:
URL:https://www.carmanlegion.ca/event/christmas-day-legion-closed-2/
LOCATION:Carman Legion Branch #18
END:VEVENT
BEGIN:VEVENT
DTSTART;VALUE=DATE:20231226
DTEND;VALUE=DATE:20231227
DTSTAMP:20260421T223948
CREATED:20231106T063042Z
LAST-MODIFIED:20231216T094220Z
UID:5670-1703548800-1703635199@www.carmanlegion.ca
SUMMARY:Boxing Day-Legion Closed
DESCRIPTION:
URL:https://www.carmanlegion.ca/event/boxing-day-legion-closed/
LOCATION:Carman Legion Branch #18
END:VEVENT
BEGIN:VEVENT
DTSTART;TZID=UTC:20231227T170000
DTEND;TZID=UTC:20231227T223000
DTSTAMP:20260421T223948
CREATED:20231203T022243Z
LAST-MODIFIED:20231203T022243Z
UID:5800-1703696400-1703716200@www.carmanlegion.ca
SUMMARY:Private rental
DESCRIPTION:
URL:https://www.carmanlegion.ca/event/private-rental-13/
LOCATION:Carman Legion Auxiliary Hall
END:VEVENT
BEGIN:VEVENT
DTSTART;TZID=UTC:20231228T090000
DTEND;TZID=UTC:20231228T170000
DTSTAMP:20260421T223948
CREATED:20231203T022406Z
LAST-MODIFIED:20231203T022406Z
UID:5802-1703754000-1703782800@www.carmanlegion.ca
SUMMARY:MPI
DESCRIPTION:
URL:https://www.carmanlegion.ca/event/mpi-9/
LOCATION:Carman Legion Auxiliary Hall
END:VEVENT
BEGIN:VEVENT
DTSTART;TZID=UTC:20231228T180000
DTEND;TZID=UTC:20231228T220000
DTSTAMP:20260421T223948
CREATED:20231203T022503Z
LAST-MODIFIED:20231203T022503Z
UID:5804-1703786400-1703800800@www.carmanlegion.ca
SUMMARY:Private rental
DESCRIPTION:
URL:https://www.carmanlegion.ca/event/private-rental-14/
LOCATION:Carman Legion Auxiliary Hall
END:VEVENT
BEGIN:VEVENT
DTSTART;TZID=UTC:20231229T110000
DTEND;TZID=UTC:20231229T200000
DTSTAMP:20260421T223948
CREATED:20231203T022646Z
LAST-MODIFIED:20231203T022646Z
UID:5806-1703847600-1703880000@www.carmanlegion.ca
SUMMARY:Private Rental
DESCRIPTION:
URL:https://www.carmanlegion.ca/event/private-rental-15/
LOCATION:Carman Legion Auxiliary Hall
END:VEVENT
BEGIN:VEVENT
DTSTART;TZID=UTC:20231229T180000
DTEND;TZID=UTC:20231229T200000
DTSTAMP:20260421T223948
CREATED:20231211T073743Z
LAST-MODIFIED:20231211T073743Z
UID:5847-1703872800-1703880000@www.carmanlegion.ca
SUMMARY:Meat Draw and 50/50 draw
DESCRIPTION:
URL:https://www.carmanlegion.ca/event/meat-draw-and-50-50-draw-3/
LOCATION:Carman Legion Branch #18
END:VEVENT
END:VCALENDAR