BEGIN:VCALENDAR
VERSION:2.0
PRODID:-//Carman Legion Branch 18 - ECPv6.15.20//NONSGML v1.0//EN
CALSCALE:GREGORIAN
METHOD:PUBLISH
X-WR-CALNAME:Carman Legion Branch 18
X-ORIGINAL-URL:https://www.carmanlegion.ca
X-WR-CALDESC:Events for Carman Legion Branch 18
REFRESH-INTERVAL;VALUE=DURATION:PT1H
X-Robots-Tag:noindex
X-PUBLISHED-TTL:PT1H
BEGIN:VTIMEZONE
TZID:UTC
BEGIN:STANDARD
TZOFFSETFROM:+0000
TZOFFSETTO:+0000
TZNAME:UTC
DTSTART:20230101T000000
END:STANDARD
END:VTIMEZONE
BEGIN:VEVENT
DTSTART;VALUE=DATE:20240101
DTEND;VALUE=DATE:20240102
DTSTAMP:20260421T211051
CREATED:20231203T024427Z
LAST-MODIFIED:20231216T094416Z
UID:5810-1704067200-1704153599@www.carmanlegion.ca
SUMMARY:New Years Day-Legion Closed
DESCRIPTION:
URL:https://www.carmanlegion.ca/event/new-years-day-legion-closed/
LOCATION:Carman Legion Branch #18
END:VEVENT
BEGIN:VEVENT
DTSTART;TZID=UTC:20240101T100000
DTEND;TZID=UTC:20240101T160000
DTSTAMP:20260421T211051
CREATED:20240102T022106Z
LAST-MODIFIED:20240102T022106Z
UID:6012-1704103200-1704124800@www.carmanlegion.ca
SUMMARY:Private Rental
DESCRIPTION:
URL:https://www.carmanlegion.ca/event/private-rental-19/
LOCATION:Carman Legion Auxiliary Hall
END:VEVENT
BEGIN:VEVENT
DTSTART;TZID=UTC:20240103T180000
DTEND;TZID=UTC:20240103T233000
DTSTAMP:20260421T211051
CREATED:20231217T230248Z
LAST-MODIFIED:20240102T022203Z
UID:5871-1704304800-1704324600@www.carmanlegion.ca
SUMMARY:Private Rental
DESCRIPTION:
URL:https://www.carmanlegion.ca/event/private-rental-16/
LOCATION:Carman Legion Auxiliary Hall
END:VEVENT
BEGIN:VEVENT
DTSTART;TZID=UTC:20240104T090000
DTEND;TZID=UTC:20240104T160000
DTSTAMP:20260421T211051
CREATED:20231217T230437Z
LAST-MODIFIED:20231217T230437Z
UID:5873-1704358800-1704384000@www.carmanlegion.ca
SUMMARY:CUPE 4270
DESCRIPTION:
URL:https://www.carmanlegion.ca/event/cupe-4270-5/
LOCATION:Carman Legion Auxiliary Hall
END:VEVENT
BEGIN:VEVENT
DTSTART;TZID=UTC:20240104T190000
DTEND;TZID=UTC:20240104T220000
DTSTAMP:20260421T211051
CREATED:20230914T061959Z
LAST-MODIFIED:20231222T103621Z
UID:5423-1704394800-1704405600@www.carmanlegion.ca
SUMMARY:Crib Night
DESCRIPTION:
URL:https://www.carmanlegion.ca/event/crib-night-2/
LOCATION:Carman Legion Lounge
END:VEVENT
BEGIN:VEVENT
DTSTART;TZID=UTC:20240105T180000
DTEND;TZID=UTC:20240105T200000
DTSTAMP:20260421T211051
CREATED:20231217T231133Z
LAST-MODIFIED:20231217T231133Z
UID:5879-1704477600-1704484800@www.carmanlegion.ca
SUMMARY:Meat Draw and 50/50
DESCRIPTION:
URL:https://www.carmanlegion.ca/event/meat-draw-and-50-50-24/
LOCATION:Carman Legion Lounge
END:VEVENT
BEGIN:VEVENT
DTSTART;TZID=UTC:20240106T100000
DTEND;TZID=UTC:20240106T180000
DTSTAMP:20260421T211051
CREATED:20231106T063636Z
LAST-MODIFIED:20231106T063636Z
UID:5674-1704535200-1704564000@www.carmanlegion.ca
SUMMARY:District Crib Playoffs
DESCRIPTION:Winners from the branch playoffs will play for district playoffs to progress to the Provincial playoffs at the Charleswood Branch#100 in Winnipeg.
URL:https://www.carmanlegion.ca/event/district-crib-playoffs/
LOCATION:Carman Legion Auxiliary Hall
END:VEVENT
BEGIN:VEVENT
DTSTART;TZID=UTC:20240106T183000
DTEND;TZID=UTC:20240106T200000
DTSTAMP:20260421T211051
CREATED:20231217T231328Z
LAST-MODIFIED:20231231T224551Z
UID:5881-1704565800-1704571200@www.carmanlegion.ca
SUMMARY:Card Draw\, 50/50\, and Lucky Number Bingo
DESCRIPTION:This weeks Lucky Card Draw jackpot will be $3175.oo\, with 19 cards remaining. The consolation prize is $20. The Lucky Number Bingo jackpot for this week is $773.oo\, and a consolation prize of $41.50.
URL:https://www.carmanlegion.ca/event/card-draw-50-50-and-lucky-number-bingo-2/
LOCATION:Carman Legion Lounge
ATTACH;FMTTYPE=image/jpeg:https://www.carmanlegion.ca/wp-content/uploads/2023/06/CARD-DRAW-WEBSITE-scaled.jpg
END:VEVENT
BEGIN:VEVENT
DTSTART;TZID=UTC:20240107T090000
DTEND;TZID=UTC:20240107T160000
DTSTAMP:20260421T211051
CREATED:20240102T022448Z
LAST-MODIFIED:20240102T022448Z
UID:6014-1704618000-1704643200@www.carmanlegion.ca
SUMMARY:District Crib
DESCRIPTION:
URL:https://www.carmanlegion.ca/event/district-crib/
LOCATION:Carman Legion Lounge
END:VEVENT
BEGIN:VEVENT
DTSTART;TZID=UTC:20240112T180000
DTEND;TZID=UTC:20240112T200000
DTSTAMP:20260421T211051
CREATED:20231217T231442Z
LAST-MODIFIED:20231217T231442Z
UID:5883-1705082400-1705089600@www.carmanlegion.ca
SUMMARY:Meat Draw and 50/50
DESCRIPTION:
URL:https://www.carmanlegion.ca/event/meat-draw-and-50-50-25/
LOCATION:Carman Legion Lounge
END:VEVENT
BEGIN:VEVENT
DTSTART;TZID=UTC:20240113T183000
DTEND;TZID=UTC:20240113T200000
DTSTAMP:20260421T211051
CREATED:20231217T231612Z
LAST-MODIFIED:20240108T070838Z
UID:5885-1705170600-1705176000@www.carmanlegion.ca
SUMMARY:Lucky Card Draw\, 50/50\, and Lucky Number Bingo
DESCRIPTION:isThis weeks Lucky Card Draw jackpot has risen to $3298.oo\, with 18 cards remaining. The consolation prize remains at $20. The Lucky Number Bingo jackpot for this week will be $823.00\, with a consolation prize of $50.00.
URL:https://www.carmanlegion.ca/event/lucky-card-draw-50-50-and-lucky-number-bingo-10/
LOCATION:Carman Legion Lounge
ATTACH;FMTTYPE=image/jpeg:https://www.carmanlegion.ca/wp-content/uploads/2023/06/CARD-DRAW-WEBSITE-scaled.jpg
END:VEVENT
BEGIN:VEVENT
DTSTART;TZID=UTC:20240117T130000
DTEND;TZID=UTC:20240117T150000
DTSTAMP:20260421T211051
CREATED:20231217T230648Z
LAST-MODIFIED:20231217T230648Z
UID:5875-1705496400-1705503600@www.carmanlegion.ca
SUMMARY:Ladies Auxiliary Meeting
DESCRIPTION:
URL:https://www.carmanlegion.ca/event/ladies-auxiliary-meeting-2/
LOCATION:Carman Legion Auxiliary Hall
END:VEVENT
BEGIN:VEVENT
DTSTART;TZID=UTC:20240118T183000
DTEND;TZID=UTC:20240118T223000
DTSTAMP:20260421T211051
CREATED:20240116T074729Z
LAST-MODIFIED:20240116T074729Z
UID:6095-1705602600-1705617000@www.carmanlegion.ca
SUMMARY:Private Rental
DESCRIPTION:
URL:https://www.carmanlegion.ca/event/private-rental-24/
LOCATION:Carman Legion Auxiliary Hall
END:VEVENT
BEGIN:VEVENT
DTSTART;TZID=UTC:20240118T190000
DTEND;TZID=UTC:20240118T220000
DTSTAMP:20260421T211051
CREATED:20231106T063836Z
LAST-MODIFIED:20231222T103648Z
UID:5676-1705604400-1705615200@www.carmanlegion.ca
SUMMARY:Crib Night
DESCRIPTION:
URL:https://www.carmanlegion.ca/event/crib-night-9/
LOCATION:Carman Legion Branch #18
END:VEVENT
BEGIN:VEVENT
DTSTART;TZID=UTC:20240119T180000
DTEND;TZID=UTC:20240119T200000
DTSTAMP:20260421T211051
CREATED:20231217T231918Z
LAST-MODIFIED:20231217T231918Z
UID:5887-1705687200-1705694400@www.carmanlegion.ca
SUMMARY:Meat Draw and 50/50
DESCRIPTION:
URL:https://www.carmanlegion.ca/event/meat-draw-and-50-50-26/
LOCATION:Carman Legion Lounge
END:VEVENT
BEGIN:VEVENT
DTSTART;TZID=UTC:20240120T180000
DTEND;TZID=UTC:20240120T200000
DTSTAMP:20260421T211051
CREATED:20231217T232055Z
LAST-MODIFIED:20240116T073033Z
UID:5889-1705773600-1705780800@www.carmanlegion.ca
SUMMARY:Lucky Card Draw\, 50/50\, and Lucky Number Bingo
DESCRIPTION:This weeks Lucky Card Draw jackpot will be $3415\, with 17 cards remaining. The consolation prize remains at $20. The Lucky Number Bingo jackpot for this week is $859\, with a consolation prize of $36.
URL:https://www.carmanlegion.ca/event/lucky-card-draw-50-50-and-lucky-number-bingo-11/
LOCATION:Carman Legion Lounge
ATTACH;FMTTYPE=image/jpeg:https://www.carmanlegion.ca/wp-content/uploads/2023/06/CARD-DRAW-WEBSITE-scaled.jpg
END:VEVENT
BEGIN:VEVENT
DTSTART;TZID=UTC:20240124T193000
DTEND;TZID=UTC:20240124T203000
DTSTAMP:20260421T211051
CREATED:20231215T211656Z
LAST-MODIFIED:20231222T083353Z
UID:5858-1706124600-1706128200@www.carmanlegion.ca
SUMMARY:Branch 18 Elections
DESCRIPTION:This special meeting of the General Membership will be to elect your next Executive Committee. No other business will be discussed this night.
URL:https://www.carmanlegion.ca/event/branch-18-elections/
LOCATION:Carman Legion Branch #18
END:VEVENT
BEGIN:VEVENT
DTSTART;TZID=UTC:20240125T183000
DTEND;TZID=UTC:20240125T223000
DTSTAMP:20260421T211051
CREATED:20240116T075008Z
LAST-MODIFIED:20240116T075008Z
UID:6097-1706207400-1706221800@www.carmanlegion.ca
SUMMARY:Private Rental
DESCRIPTION:
URL:https://www.carmanlegion.ca/event/private-rental-25/
LOCATION:Carman Legion Auxiliary Hall
END:VEVENT
BEGIN:VEVENT
DTSTART;TZID=UTC:20240126T180000
DTEND;TZID=UTC:20240126T200000
DTSTAMP:20260421T211051
CREATED:20231217T232217Z
LAST-MODIFIED:20231217T232217Z
UID:5891-1706292000-1706299200@www.carmanlegion.ca
SUMMARY:Meat Draw and 50/50
DESCRIPTION:
URL:https://www.carmanlegion.ca/event/meat-draw-and-50-50-27/
LOCATION:Carman Legion Lounge
END:VEVENT
BEGIN:VEVENT
DTSTART;TZID=UTC:20240127T130000
DTEND;TZID=UTC:20240127T170000
DTSTAMP:20260421T211051
CREATED:20240116T074221Z
LAST-MODIFIED:20240116T074522Z
UID:6090-1706360400-1706374800@www.carmanlegion.ca
SUMMARY:Rural Cribbage Tournament.
DESCRIPTION:Come out and join us for a Saturday afternoon of fun and friendship. \nWe are joining a rotating cribbage tournament with 3 other establishments. \n1st Saturday of the month will be at Morden Legion. \n2nd Saturday of the month is held at The Station on Miami. Please call ahead to register\, as space is limited to 8 tables. \n3rd Saturday of the month is held at the Altamont Hotel. Please call ahead to register\, as space is limited to 8 tables. \n4th Saturday of the month is held in Carman at the Legion. \nAll events start at 1pm\, and the cost is $10 per person.
URL:https://www.carmanlegion.ca/event/rural-cribbage-tournament/
LOCATION:Carman Legion Lounge
END:VEVENT
BEGIN:VEVENT
DTSTART;TZID=UTC:20240127T140000
DTEND;TZID=UTC:20240127T150000
DTSTAMP:20260421T211051
CREATED:20231217T230849Z
LAST-MODIFIED:20231217T230849Z
UID:5877-1706364000-1706367600@www.carmanlegion.ca
SUMMARY:Private Rental
DESCRIPTION:
URL:https://www.carmanlegion.ca/event/private-rental-17/
LOCATION:Carman Legion Auxiliary Hall
END:VEVENT
BEGIN:VEVENT
DTSTART;TZID=UTC:20240127T183000
DTEND;TZID=UTC:20240127T200000
DTSTAMP:20260421T211051
CREATED:20231217T232335Z
LAST-MODIFIED:20240122T072933Z
UID:5893-1706380200-1706385600@www.carmanlegion.ca
SUMMARY:Lucky Card Draw\, 50/50\, and Lucky Number Bingo
DESCRIPTION:This weeks Lucky Card Draw jackpot is $3541.00\, with 16 cards remaining. The consolation prize remains at $20. The Lucky Number Bingo jackpot this week has risen to $913.50\, with a consolation prize of $54.50.
URL:https://www.carmanlegion.ca/event/lucky-card-draw-50-50-and-lucky-number-bingo-12/
LOCATION:Carman Legion Lounge
ATTACH;FMTTYPE=image/jpeg:https://www.carmanlegion.ca/wp-content/uploads/2023/06/CARD-DRAW-WEBSITE-scaled.jpg
END:VEVENT
END:VCALENDAR