BEGIN:VCALENDAR
VERSION:2.0
PRODID:-//Carman Legion Branch 18 - ECPv6.15.20//NONSGML v1.0//EN
CALSCALE:GREGORIAN
METHOD:PUBLISH
X-WR-CALNAME:Carman Legion Branch 18
X-ORIGINAL-URL:https://www.carmanlegion.ca
X-WR-CALDESC:Events for Carman Legion Branch 18
REFRESH-INTERVAL;VALUE=DURATION:PT1H
X-Robots-Tag:noindex
X-PUBLISHED-TTL:PT1H
BEGIN:VTIMEZONE
TZID:UTC
BEGIN:STANDARD
TZOFFSETFROM:+0000
TZOFFSETTO:+0000
TZNAME:UTC
DTSTART:20230101T000000
END:STANDARD
END:VTIMEZONE
BEGIN:VEVENT
DTSTART;TZID=UTC:20240201T183000
DTEND;TZID=UTC:20240201T223000
DTSTAMP:20260421T192442
CREATED:20240116T075150Z
LAST-MODIFIED:20240116T075232Z
UID:6099-1706812200-1706826600@www.carmanlegion.ca
SUMMARY:Private Rental
DESCRIPTION:
URL:https://www.carmanlegion.ca/event/private-rental-26/
LOCATION:Carman Legion Auxiliary Hall
END:VEVENT
BEGIN:VEVENT
DTSTART;TZID=UTC:20240201T190000
DTEND;TZID=UTC:20240201T220000
DTSTAMP:20260421T192442
CREATED:20231201T213129Z
LAST-MODIFIED:20231222T103927Z
UID:5758-1706814000-1706824800@www.carmanlegion.ca
SUMMARY:Crib Night
DESCRIPTION:
URL:https://www.carmanlegion.ca/event/crib-night-10/
LOCATION:Carman Legion Branch #18
END:VEVENT
BEGIN:VEVENT
DTSTART;TZID=UTC:20240202T180000
DTEND;TZID=UTC:20240202T200000
DTSTAMP:20260421T192442
CREATED:20231217T232507Z
LAST-MODIFIED:20231217T232507Z
UID:5895-1706896800-1706904000@www.carmanlegion.ca
SUMMARY:Meat Draw and 50/50
DESCRIPTION:
URL:https://www.carmanlegion.ca/event/meat-draw-and-50-50-28/
LOCATION:Carman Legion Lounge
END:VEVENT
BEGIN:VEVENT
DTSTART;TZID=UTC:20240203T183000
DTEND;TZID=UTC:20240203T200000
DTSTAMP:20260421T192442
CREATED:20231217T232613Z
LAST-MODIFIED:20231217T232613Z
UID:5897-1706985000-1706990400@www.carmanlegion.ca
SUMMARY:Card Draw\, 50/50\, and Lucky Number Bingo
DESCRIPTION:
URL:https://www.carmanlegion.ca/event/card-draw-50-50-and-lucky-number-bingo-3/
LOCATION:Carman Legion Lounge
ATTACH;FMTTYPE=image/jpeg:https://www.carmanlegion.ca/wp-content/uploads/2023/06/CARD-DRAW-WEBSITE-scaled.jpg
END:VEVENT
BEGIN:VEVENT
DTSTART;TZID=UTC:20240207T090000
DTEND;TZID=UTC:20240207T120000
DTSTAMP:20260421T192442
CREATED:20240102T022913Z
LAST-MODIFIED:20240102T022913Z
UID:6016-1707296400-1707307200@www.carmanlegion.ca
SUMMARY:Private Rental
DESCRIPTION:
URL:https://www.carmanlegion.ca/event/private-rental-20/
LOCATION:Carman Legion Auxiliary Hall
END:VEVENT
BEGIN:VEVENT
DTSTART;TZID=UTC:20240207T130000
DTEND;TZID=UTC:20240207T163000
DTSTAMP:20260421T192442
CREATED:20240102T022959Z
LAST-MODIFIED:20240102T022959Z
UID:6018-1707310800-1707323400@www.carmanlegion.ca
SUMMARY:Private Rental
DESCRIPTION:
URL:https://www.carmanlegion.ca/event/private-rental-21/
LOCATION:Carman Legion Auxiliary Hall
END:VEVENT
BEGIN:VEVENT
DTSTART;TZID=UTC:20240208T183000
DTEND;TZID=UTC:20240208T223000
DTSTAMP:20260421T192442
CREATED:20240116T075350Z
LAST-MODIFIED:20240116T075350Z
UID:6101-1707417000-1707431400@www.carmanlegion.ca
SUMMARY:Private Rental
DESCRIPTION:
URL:https://www.carmanlegion.ca/event/private-rental-27/
LOCATION:Carman Legion Auxiliary Hall
END:VEVENT
BEGIN:VEVENT
DTSTART;TZID=UTC:20240209T090000
DTEND;TZID=UTC:20240209T160000
DTSTAMP:20260421T192442
CREATED:20240116T075617Z
LAST-MODIFIED:20240116T075617Z
UID:6103-1707469200-1707494400@www.carmanlegion.ca
SUMMARY:C.U.P.E. 4270
DESCRIPTION:
URL:https://www.carmanlegion.ca/event/c-u-p-e-4270/
LOCATION:Carman Legion Auxiliary Hall
END:VEVENT
BEGIN:VEVENT
DTSTART;TZID=UTC:20240209T180000
DTEND;TZID=UTC:20240209T200000
DTSTAMP:20260421T192442
CREATED:20231217T232728Z
LAST-MODIFIED:20231217T232728Z
UID:5899-1707501600-1707508800@www.carmanlegion.ca
SUMMARY:Meat Draw and 50/50
DESCRIPTION:
URL:https://www.carmanlegion.ca/event/meat-draw-and-50-50-29/
LOCATION:Carman Legion Lounge
END:VEVENT
BEGIN:VEVENT
DTSTART;TZID=UTC:20240209T183000
DTEND;TZID=UTC:20240209T200000
DTSTAMP:20260421T192442
CREATED:20240102T024510Z
LAST-MODIFIED:20240102T024510Z
UID:6032-1707503400-1707508800@www.carmanlegion.ca
SUMMARY:Card Draw\, 50/50\, & Lucky Number Bingo
DESCRIPTION:
URL:https://www.carmanlegion.ca/event/card-draw-50-50-lucky-number-bingo/
LOCATION:Carman Legion Lounge
ATTACH;FMTTYPE=image/jpeg:https://www.carmanlegion.ca/wp-content/uploads/2023/06/CARD-DRAW-WEBSITE-scaled.jpg
END:VEVENT
BEGIN:VEVENT
DTSTART;TZID=UTC:20240210T090000
DTEND;TZID=UTC:20240210T160000
DTSTAMP:20260421T192442
CREATED:20240102T023115Z
LAST-MODIFIED:20240102T023115Z
UID:6020-1707555600-1707580800@www.carmanlegion.ca
SUMMARY:Private Rental
DESCRIPTION:
URL:https://www.carmanlegion.ca/event/private-rental-22/
LOCATION:Carman Legion Auxiliary Hall
END:VEVENT
BEGIN:VEVENT
DTSTART;TZID=UTC:20240210T183000
DTEND;TZID=UTC:20240210T200000
DTSTAMP:20260421T192442
CREATED:20231217T232918Z
LAST-MODIFIED:20231217T232918Z
UID:5901-1707589800-1707595200@www.carmanlegion.ca
SUMMARY:Lucky Card Draw\, 50/50\, and Lucky Number Bingo
DESCRIPTION:
URL:https://www.carmanlegion.ca/event/lucky-card-draw-50-50-and-lucky-number-bingo-13/
LOCATION:Carman Legion Lounge
ATTACH;FMTTYPE=image/jpeg:https://www.carmanlegion.ca/wp-content/uploads/2023/06/CARD-DRAW-WEBSITE-scaled.jpg
END:VEVENT
BEGIN:VEVENT
DTSTART;TZID=UTC:20240215T183000
DTEND;TZID=UTC:20240215T223000
DTSTAMP:20260421T192442
CREATED:20240116T075849Z
LAST-MODIFIED:20240116T075849Z
UID:6105-1708021800-1708036200@www.carmanlegion.ca
SUMMARY:Private Rental
DESCRIPTION:
URL:https://www.carmanlegion.ca/event/private-rental-28/
LOCATION:Carman Legion Auxiliary Hall
END:VEVENT
BEGIN:VEVENT
DTSTART;TZID=UTC:20240215T190000
DTEND;TZID=UTC:20240215T220000
DTSTAMP:20260421T192442
CREATED:20231201T213259Z
LAST-MODIFIED:20231201T213259Z
UID:5760-1708023600-1708034400@www.carmanlegion.ca
SUMMARY:Crib Night
DESCRIPTION:
URL:https://www.carmanlegion.ca/event/crib-night-11/
LOCATION:Carman Legion Branch #18
END:VEVENT
BEGIN:VEVENT
DTSTART;TZID=UTC:20240216T180000
DTEND;TZID=UTC:20240216T200000
DTSTAMP:20260421T192442
CREATED:20231217T233207Z
LAST-MODIFIED:20231217T233207Z
UID:5904-1708106400-1708113600@www.carmanlegion.ca
SUMMARY:Meat Draw and 50/50
DESCRIPTION:
URL:https://www.carmanlegion.ca/event/meat-draw-and-50-50-30/
LOCATION:Carman Legion Lounge
END:VEVENT
BEGIN:VEVENT
DTSTART;TZID=UTC:20240217T183000
DTEND;TZID=UTC:20240217T200000
DTSTAMP:20260421T192442
CREATED:20231217T233343Z
LAST-MODIFIED:20231217T233343Z
UID:5906-1708194600-1708200000@www.carmanlegion.ca
SUMMARY:Lucky Card Draw\, 50/50\, and Lucky Number Bingo
DESCRIPTION:
URL:https://www.carmanlegion.ca/event/lucky-card-draw-50-50-and-lucky-number-bingo-14/
LOCATION:Carman Legion Lounge
ATTACH;FMTTYPE=image/jpeg:https://www.carmanlegion.ca/wp-content/uploads/2023/06/CARD-DRAW-WEBSITE-scaled.jpg
END:VEVENT
BEGIN:VEVENT
DTSTART;TZID=UTC:20240219T080000
DTEND;TZID=UTC:20240219T170000
DTSTAMP:20260421T192442
CREATED:20240219T195304Z
LAST-MODIFIED:20240219T195304Z
UID:6167-1708329600-1708362000@www.carmanlegion.ca
SUMMARY:Cribbage Tournament - Doubles
DESCRIPTION:
URL:https://www.carmanlegion.ca/event/cribbage-tournament-doubles/
END:VEVENT
BEGIN:VEVENT
DTSTART;TZID=UTC:20240221T080000
DTEND;TZID=UTC:20240221T090000
DTSTAMP:20260421T192442
CREATED:20240116T080210Z
LAST-MODIFIED:20240116T080210Z
UID:6107-1708502400-1708506000@www.carmanlegion.ca
SUMMARY:Private Rental
DESCRIPTION:
URL:https://www.carmanlegion.ca/event/private-rental-29/
LOCATION:Carman Legion Auxiliary Hall
END:VEVENT
BEGIN:VEVENT
DTSTART;TZID=UTC:20240221T090000
DTEND;TZID=UTC:20240221T160000
DTSTAMP:20260421T192442
CREATED:20240116T080309Z
LAST-MODIFIED:20240116T080309Z
UID:6109-1708506000-1708531200@www.carmanlegion.ca
SUMMARY:Private Rental
DESCRIPTION:
URL:https://www.carmanlegion.ca/event/private-rental-30/
LOCATION:Carman Legion Auxiliary Hall
END:VEVENT
BEGIN:VEVENT
DTSTART;TZID=UTC:20240221T193000
DTEND;TZID=UTC:20240221T213000
DTSTAMP:20260421T192442
CREATED:20240102T023453Z
LAST-MODIFIED:20240102T023453Z
UID:6022-1708543800-1708551000@www.carmanlegion.ca
SUMMARY:Legion General Meeting
DESCRIPTION:
URL:https://www.carmanlegion.ca/event/legion-general-meeting/
LOCATION:Carman Legion Branch #18
END:VEVENT
BEGIN:VEVENT
DTSTART;TZID=UTC:20240222T183000
DTEND;TZID=UTC:20240222T223000
DTSTAMP:20260421T192442
CREATED:20240116T080445Z
LAST-MODIFIED:20240116T080445Z
UID:6111-1708626600-1708641000@www.carmanlegion.ca
SUMMARY:Private Rental
DESCRIPTION:
URL:https://www.carmanlegion.ca/event/private-rental-31/
LOCATION:Carman Legion Auxiliary Hall
END:VEVENT
BEGIN:VEVENT
DTSTART;TZID=UTC:20240223T180000
DTEND;TZID=UTC:20240223T200000
DTSTAMP:20260421T192442
CREATED:20231217T233436Z
LAST-MODIFIED:20231217T233436Z
UID:5908-1708711200-1708718400@www.carmanlegion.ca
SUMMARY:Meat Draw\, and 50/50
DESCRIPTION:
URL:https://www.carmanlegion.ca/event/meat-draw-and-50-50-31/
LOCATION:Carman Legion Lounge
END:VEVENT
BEGIN:VEVENT
DTSTART;TZID=UTC:20240223T190000
DTEND;TZID=UTC:20240223T230000
DTSTAMP:20260421T192442
CREATED:20231217T234236Z
LAST-MODIFIED:20231217T234236Z
UID:5912-1708714800-1708729200@www.carmanlegion.ca
SUMMARY:Private Rental
DESCRIPTION:
URL:https://www.carmanlegion.ca/event/private-rental-18/
LOCATION:Carman Legion Auxiliary Hall
END:VEVENT
BEGIN:VEVENT
DTSTART;TZID=UTC:20240224T090000
DTEND;TZID=UTC:20240224T160000
DTSTAMP:20260421T192442
CREATED:20240102T023627Z
LAST-MODIFIED:20240102T023627Z
UID:6024-1708765200-1708790400@www.carmanlegion.ca
SUMMARY:Private Rental
DESCRIPTION:
URL:https://www.carmanlegion.ca/event/private-rental-23/
LOCATION:Carman Legion Auxiliary Hall
END:VEVENT
BEGIN:VEVENT
DTSTART;TZID=UTC:20240224T130000
DTEND;TZID=UTC:20240224T170000
DTSTAMP:20260421T192442
CREATED:20240116T074427Z
LAST-MODIFIED:20240116T080545Z
UID:6093-1708779600-1708794000@www.carmanlegion.ca
SUMMARY:Rural Crib Tournament
DESCRIPTION:
URL:https://www.carmanlegion.ca/event/rural-crib-tournament/
LOCATION:Carman Legion Lounge
END:VEVENT
BEGIN:VEVENT
DTSTART;TZID=UTC:20240224T183000
DTEND;TZID=UTC:20240224T200000
DTSTAMP:20260421T192442
CREATED:20231217T233610Z
LAST-MODIFIED:20231217T233610Z
UID:5910-1708799400-1708804800@www.carmanlegion.ca
SUMMARY:Lucky Card Draw\, 50/50\, and Lucky Number Bingo
DESCRIPTION:
URL:https://www.carmanlegion.ca/event/lucky-card-draw-50-50-and-lucky-number-bingo-15/
LOCATION:Carman Legion Lounge
ATTACH;FMTTYPE=image/jpeg:https://www.carmanlegion.ca/wp-content/uploads/2023/06/CARD-DRAW-WEBSITE-scaled.jpg
END:VEVENT
BEGIN:VEVENT
DTSTART;TZID=UTC:20240229T183000
DTEND;TZID=UTC:20240229T223000
DTSTAMP:20260421T192442
CREATED:20240116T080718Z
LAST-MODIFIED:20240116T080718Z
UID:6113-1709231400-1709245800@www.carmanlegion.ca
SUMMARY:Private Rental
DESCRIPTION:
URL:https://www.carmanlegion.ca/event/private-rental-32/
LOCATION:Carman Legion Auxiliary Hall
END:VEVENT
BEGIN:VEVENT
DTSTART;TZID=UTC:20240229T190000
DTEND;TZID=UTC:20240229T220000
DTSTAMP:20260421T192442
CREATED:20231201T213408Z
LAST-MODIFIED:20231201T213408Z
UID:5762-1709233200-1709244000@www.carmanlegion.ca
SUMMARY:Crib Night
DESCRIPTION:
URL:https://www.carmanlegion.ca/event/crib-night-12/
LOCATION:Carman Legion Branch #18
END:VEVENT
END:VCALENDAR