BEGIN:VCALENDAR
VERSION:2.0
PRODID:-//Carman Legion Branch 18 - ECPv6.15.20//NONSGML v1.0//EN
CALSCALE:GREGORIAN
METHOD:PUBLISH
X-ORIGINAL-URL:https://www.carmanlegion.ca
X-WR-CALDESC:Events for Carman Legion Branch 18
REFRESH-INTERVAL;VALUE=DURATION:PT1H
X-Robots-Tag:noindex
X-PUBLISHED-TTL:PT1H
BEGIN:VTIMEZONE
TZID:UTC
BEGIN:STANDARD
TZOFFSETFROM:+0000
TZOFFSETTO:+0000
TZNAME:UTC
DTSTART:20230101T000000
END:STANDARD
END:VTIMEZONE
BEGIN:VEVENT
DTSTART;TZID=UTC:20240301T180000
DTEND;TZID=UTC:20240301T200000
DTSTAMP:20260421T174031
CREATED:20240102T023840Z
LAST-MODIFIED:20240102T023840Z
UID:6026-1709316000-1709323200@www.carmanlegion.ca
SUMMARY:Meat Draw and 50/50 Draw
DESCRIPTION:
URL:https://www.carmanlegion.ca/event/meat-draw-and-50-50-draw-4/
LOCATION:Carman Legion Lounge
END:VEVENT
BEGIN:VEVENT
DTSTART;TZID=UTC:20240302T183000
DTEND;TZID=UTC:20240302T200000
DTSTAMP:20260421T174031
CREATED:20240102T024130Z
LAST-MODIFIED:20240102T024130Z
UID:6028-1709404200-1709409600@www.carmanlegion.ca
SUMMARY:Card Draw\, 50/50 Draw\,& Lucky Number Bingo
DESCRIPTION:
URL:https://www.carmanlegion.ca/event/card-draw-50-50-draw-lucky-number-bingo/
LOCATION:Carman Legion Lounge
ATTACH;FMTTYPE=image/jpeg:https://www.carmanlegion.ca/wp-content/uploads/2023/06/CARD-DRAW-WEBSITE-scaled.jpg
END:VEVENT
BEGIN:VEVENT
DTSTART;TZID=UTC:20240308T180000
DTEND;TZID=UTC:20240308T200000
DTSTAMP:20260421T174031
CREATED:20240102T024325Z
LAST-MODIFIED:20240102T024325Z
UID:6030-1709920800-1709928000@www.carmanlegion.ca
SUMMARY:Meat Draw & 50/50
DESCRIPTION:
URL:https://www.carmanlegion.ca/event/meat-draw-50-50/
LOCATION:Carman Legion Lounge
END:VEVENT
BEGIN:VEVENT
DTSTART;TZID=UTC:20240309T180000
DTEND;TZID=UTC:20240309T200000
DTSTAMP:20260421T174031
CREATED:20240310T103214Z
LAST-MODIFIED:20240310T103214Z
UID:6235-1710007200-1710014400@www.carmanlegion.ca
SUMMARY:LUCKY CARD DRAW/LUCKY NUMBER BINGO & 50/50 DRAW
DESCRIPTION:
URL:https://www.carmanlegion.ca/event/lucky-card-draw-lucky-number-bingo-50-50-draw-3/
END:VEVENT
BEGIN:VEVENT
DTSTART;TZID=UTC:20240314T190000
DTEND;TZID=UTC:20240314T220000
DTSTAMP:20260421T174031
CREATED:20231201T213655Z
LAST-MODIFIED:20231201T213655Z
UID:5764-1710442800-1710453600@www.carmanlegion.ca
SUMMARY:Crib Night
DESCRIPTION:
URL:https://www.carmanlegion.ca/event/crib-night-13/
LOCATION:Carman Legion Branch #18
END:VEVENT
BEGIN:VEVENT
DTSTART;TZID=UTC:20240315T180000
DTEND;TZID=UTC:20240315T200000
DTSTAMP:20260421T174031
CREATED:20240102T024639Z
LAST-MODIFIED:20240310T103516Z
UID:6034-1710525600-1710532800@www.carmanlegion.ca
SUMMARY:Meat Draw & 50/50 Draw-CANCELLED
DESCRIPTION:CANCELLED DUE TO CARM COLVIN’S SERVICE.
URL:https://www.carmanlegion.ca/event/meat-draw-50-50-draw/
LOCATION:Carman Legion Lounge
END:VEVENT
BEGIN:VEVENT
DTSTART;TZID=UTC:20240316T180000
DTEND;TZID=UTC:20240316T200000
DTSTAMP:20260421T174031
CREATED:20240310T103008Z
LAST-MODIFIED:20240310T103008Z
UID:6230-1710612000-1710619200@www.carmanlegion.ca
SUMMARY:LUCKY CARD DRAW/LUCKY NUMBER BINGO & 50/50 DRAW
DESCRIPTION:
URL:https://www.carmanlegion.ca/event/lucky-card-draw-lucky-number-bingo-50-50-draw/
END:VEVENT
BEGIN:VEVENT
DTSTART;TZID=UTC:20240316T183000
DTEND;TZID=UTC:20240316T200000
DTSTAMP:20260421T174031
CREATED:20240102T024827Z
LAST-MODIFIED:20240102T024827Z
UID:6036-1710613800-1710619200@www.carmanlegion.ca
SUMMARY:Card Draw\, 50/50\, & Lucky Number Bingo
DESCRIPTION:
URL:https://www.carmanlegion.ca/event/card-draw-50-50-lucky-number-bingo-2/
LOCATION:Carman Legion Lounge
ATTACH;FMTTYPE=image/jpeg:https://www.carmanlegion.ca/wp-content/uploads/2023/06/CARD-DRAW-WEBSITE-scaled.jpg
END:VEVENT
BEGIN:VEVENT
DTSTART;TZID=UTC:20240322T173000
DTEND;TZID=UTC:20240322T193000
DTSTAMP:20260421T174031
CREATED:20240310T102829Z
LAST-MODIFIED:20240310T102829Z
UID:6226-1711128600-1711135800@www.carmanlegion.ca
SUMMARY:MEAT DRAWS & 50/50
DESCRIPTION:
URL:https://www.carmanlegion.ca/event/meat-draws-50-50/
END:VEVENT
BEGIN:VEVENT
DTSTART;TZID=UTC:20240323T180000
DTEND;TZID=UTC:20240323T200000
DTSTAMP:20260421T174031
CREATED:20240310T103243Z
LAST-MODIFIED:20240320T091523Z
UID:6237-1711216800-1711224000@www.carmanlegion.ca
SUMMARY:LUCKY CARD DRAW/LUCKY NUMBER BINGO & 50/50 DRAW
DESCRIPTION:Lucky Card Pot-$397.50 \nLucky Number Bingo Pot-$1\,292.50
URL:https://www.carmanlegion.ca/event/lucky-card-draw-lucky-number-bingo-50-50-draw-4/
END:VEVENT
BEGIN:VEVENT
DTSTART;TZID=UTC:20240328T190000
DTEND;TZID=UTC:20240328T220000
DTSTAMP:20260421T174031
CREATED:20231201T213808Z
LAST-MODIFIED:20231201T213808Z
UID:5766-1711652400-1711663200@www.carmanlegion.ca
SUMMARY:Crib Night
DESCRIPTION:
URL:https://www.carmanlegion.ca/event/crib-night-14/
LOCATION:Carman Legion Branch #18
END:VEVENT
BEGIN:VEVENT
DTSTART;TZID=UTC:20240329T173000
DTEND;TZID=UTC:20240329T193000
DTSTAMP:20260421T174031
CREATED:20240310T102907Z
LAST-MODIFIED:20240329T022714Z
UID:6228-1711733400-1711740600@www.carmanlegion.ca
SUMMARY:MEAT DRAWS & 50/50-CANCELLED
DESCRIPTION:THIS EVENT IS CANCELLED DUE TO GOOD FRIDAY. \nTHE BRANCH CLUBROOM WILL ALSO BE CLOSED.
URL:https://www.carmanlegion.ca/event/meat-draws-50-50-2/
END:VEVENT
BEGIN:VEVENT
DTSTART;TZID=UTC:20240330T180000
DTEND;TZID=UTC:20240330T200000
DTSTAMP:20260421T174031
CREATED:20240310T103031Z
LAST-MODIFIED:20240328T014606Z
UID:6232-1711821600-1711828800@www.carmanlegion.ca
SUMMARY:LUCKY CARD DRAW/LUCKY NUMBER BINGO & 50/50 DRAW
DESCRIPTION:ACCUMULATOR POTS FOR MARCH 30\, 2024…….. \nLucky Card-$466.50  52 Cards Remaining \nLucky Number Bingo-$1\,340.00 \n.
URL:https://www.carmanlegion.ca/event/lucky-card-draw-lucky-number-bingo-50-50-draw-2/
END:VEVENT
END:VCALENDAR