BEGIN:VCALENDAR
VERSION:2.0
PRODID:-//Carman Legion Branch 18 - ECPv6.15.20//NONSGML v1.0//EN
CALSCALE:GREGORIAN
METHOD:PUBLISH
X-ORIGINAL-URL:https://www.carmanlegion.ca
X-WR-CALDESC:Events for Carman Legion Branch 18
REFRESH-INTERVAL;VALUE=DURATION:PT1H
X-Robots-Tag:noindex
X-PUBLISHED-TTL:PT1H
BEGIN:VTIMEZONE
TZID:UTC
BEGIN:STANDARD
TZOFFSETFROM:+0000
TZOFFSETTO:+0000
TZNAME:UTC
DTSTART:20230101T000000
END:STANDARD
END:VTIMEZONE
BEGIN:VEVENT
DTSTART;TZID=UTC:20240405T173000
DTEND;TZID=UTC:20240405T193000
DTSTAMP:20260421T155852
CREATED:20240324T215410Z
LAST-MODIFIED:20240324T215410Z
UID:6317-1712338200-1712345400@www.carmanlegion.ca
SUMMARY:MEAT DRAWS & 50/50
DESCRIPTION:
URL:https://www.carmanlegion.ca/event/meat-draws-50-50-3/
END:VEVENT
BEGIN:VEVENT
DTSTART;TZID=UTC:20240406T173000
DTEND;TZID=UTC:20240406T200000
DTSTAMP:20260421T155852
CREATED:20240324T215828Z
LAST-MODIFIED:20240324T215828Z
UID:6326-1712424600-1712433600@www.carmanlegion.ca
SUMMARY:LUCKY CARD DRAW/LUCKY NUMBER BINGO & 50/50 DRAW
DESCRIPTION:Saturday Night Card Draw
URL:https://www.carmanlegion.ca/event/lucky-card-draw-lucky-number-bingo-50-50-draw-5/
END:VEVENT
BEGIN:VEVENT
DTSTART;TZID=UTC:20240406T200000
DTEND;TZID=UTC:20240406T220000
DTSTAMP:20260421T155852
CREATED:20240324T214758Z
LAST-MODIFIED:20240324T214758Z
UID:6307-1712433600-1712440800@www.carmanlegion.ca
SUMMARY:DON PRITCHARD AND FRIENDS
DESCRIPTION:
URL:https://www.carmanlegion.ca/event/don-pritchard-and-friends/
END:VEVENT
BEGIN:VEVENT
DTSTART;TZID=UTC:20240408T190000
DTEND;TZID=UTC:20240408T210000
DTSTAMP:20260421T155852
CREATED:20240324T215223Z
LAST-MODIFIED:20240324T215223Z
UID:6313-1712602800-1712610000@www.carmanlegion.ca
SUMMARY:EXECUTIVE MEETING
DESCRIPTION:
URL:https://www.carmanlegion.ca/event/executive-meeting/
END:VEVENT
BEGIN:VEVENT
DTSTART;TZID=UTC:20240411T190000
DTEND;TZID=UTC:20240411T220000
DTSTAMP:20260421T155852
CREATED:20240102T031747Z
LAST-MODIFIED:20240102T031747Z
UID:6039-1712862000-1712872800@www.carmanlegion.ca
SUMMARY:Crib Finals
DESCRIPTION:Come out for a final night of crib. For those who had finished “in the money” during regular play. There will be a trophy for the winning team\, and snacks.
URL:https://www.carmanlegion.ca/event/crib-finals/
LOCATION:Carman Legion Lounge
END:VEVENT
BEGIN:VEVENT
DTSTART;TZID=UTC:20240412T173000
DTEND;TZID=UTC:20240412T193000
DTSTAMP:20260421T155852
CREATED:20240324T215440Z
LAST-MODIFIED:20240324T215440Z
UID:6319-1712943000-1712950200@www.carmanlegion.ca
SUMMARY:MEAT DRAWS & 50/50
DESCRIPTION:
URL:https://www.carmanlegion.ca/event/meat-draws-50-50-4/
END:VEVENT
BEGIN:VEVENT
DTSTART;TZID=UTC:20240413T173000
DTEND;TZID=UTC:20240413T200000
DTSTAMP:20260421T155852
CREATED:20240324T215923Z
LAST-MODIFIED:20240324T215923Z
UID:6328-1713029400-1713038400@www.carmanlegion.ca
SUMMARY:LUCKY CARD DRAW/LUCKY NUMBER BINGO & 50/50 DRAW
DESCRIPTION:
URL:https://www.carmanlegion.ca/event/lucky-card-draw-lucky-number-bingo-50-50-draw-6/
END:VEVENT
BEGIN:VEVENT
DTSTART;TZID=UTC:20240417T193000
DTEND;TZID=UTC:20240417T213000
DTSTAMP:20260421T155852
CREATED:20240324T215300Z
LAST-MODIFIED:20240324T215300Z
UID:6315-1713382200-1713389400@www.carmanlegion.ca
SUMMARY:GENERAL MEMBERSHIP MEETING
DESCRIPTION:
URL:https://www.carmanlegion.ca/event/general-membership-meeting-2/
END:VEVENT
BEGIN:VEVENT
DTSTART;TZID=UTC:20240419T173000
DTEND;TZID=UTC:20240419T193000
DTSTAMP:20260421T155852
CREATED:20240324T215506Z
LAST-MODIFIED:20240324T215506Z
UID:6321-1713547800-1713555000@www.carmanlegion.ca
SUMMARY:MEAT DRAWS & 50/50
DESCRIPTION:
URL:https://www.carmanlegion.ca/event/meat-draws-50-50-5/
END:VEVENT
BEGIN:VEVENT
DTSTART;TZID=UTC:20240420T173000
DTEND;TZID=UTC:20240420T200000
DTSTAMP:20260421T155852
CREATED:20240324T220008Z
LAST-MODIFIED:20240324T220008Z
UID:6330-1713634200-1713643200@www.carmanlegion.ca
SUMMARY:LUCKY CARD DRAW/LUCKY NUMBER BINGO & 50/50 DRAW
DESCRIPTION:
URL:https://www.carmanlegion.ca/event/lucky-card-draw-lucky-number-bingo-50-50-draw-7/
END:VEVENT
BEGIN:VEVENT
DTSTART;TZID=UTC:20240420T200000
DTEND;TZID=UTC:20240420T230000
DTSTAMP:20260421T155852
CREATED:20240310T100820Z
LAST-MODIFIED:20240310T100820Z
UID:6220-1713643200-1713654000@www.carmanlegion.ca
SUMMARY:Dance in Your Pantz
DESCRIPTION:
URL:https://www.carmanlegion.ca/event/dance-in-your-pantz/
END:VEVENT
BEGIN:VEVENT
DTSTART;TZID=UTC:20240426T173000
DTEND;TZID=UTC:20240426T193000
DTSTAMP:20260421T155852
CREATED:20240324T215533Z
LAST-MODIFIED:20240324T220412Z
UID:6323-1714152600-1714159800@www.carmanlegion.ca
SUMMARY:MEAT DRAWS & 50/50
DESCRIPTION:
URL:https://www.carmanlegion.ca/event/meat-draws-50-50-6/
END:VEVENT
BEGIN:VEVENT
DTSTART;TZID=UTC:20240427T173000
DTEND;TZID=UTC:20240427T200000
DTSTAMP:20260421T155852
CREATED:20240324T220053Z
LAST-MODIFIED:20240427T071211Z
UID:6332-1714239000-1714248000@www.carmanlegion.ca
SUMMARY:LUCKY CARD DRAW/LUCKY NUMBER BINGO & 50/50 DRAW
DESCRIPTION:LUCKY CARD GRAND PRIZE IS $695.00 this week-48 Cards Remain. \nLUCKY NUMBER BINGO BLACKOUT PRIZE IS $1\,509.50 & CONSOLATION PRIZE IS $28.50 IF BLACKOUT IS NOT WON ON A LUCKY NUMBER. \n  \n 
URL:https://www.carmanlegion.ca/event/lucky-card-draw-lucky-number-bingo-50-50-draw-8/
END:VEVENT
BEGIN:VEVENT
DTSTART;TZID=UTC:20240427T200000
DTEND;TZID=UTC:20240427T220000
DTSTAMP:20260421T155852
CREATED:20240324T214858Z
LAST-MODIFIED:20240324T234115Z
UID:6309-1714248000-1714255200@www.carmanlegion.ca
SUMMARY:AN EVENING OF MUSIC WITH JOHN McPHERSON
DESCRIPTION:
URL:https://www.carmanlegion.ca/event/an-evening-of-music-with-john-mcpherson/
END:VEVENT
END:VCALENDAR