BEGIN:VCALENDAR
VERSION:2.0
PRODID:-//Carman Legion Branch 18 - ECPv6.15.20//NONSGML v1.0//EN
CALSCALE:GREGORIAN
METHOD:PUBLISH
X-ORIGINAL-URL:https://www.carmanlegion.ca
X-WR-CALDESC:Events for Carman Legion Branch 18
REFRESH-INTERVAL;VALUE=DURATION:PT1H
X-Robots-Tag:noindex
X-PUBLISHED-TTL:PT1H
BEGIN:VTIMEZONE
TZID:UTC
BEGIN:STANDARD
TZOFFSETFROM:+0000
TZOFFSETTO:+0000
TZNAME:UTC
DTSTART:20230101T000000
END:STANDARD
END:VTIMEZONE
BEGIN:VEVENT
DTSTART;VALUE=DATE:20240701
DTEND;VALUE=DATE:20240702
DTSTAMP:20260421T105009
CREATED:20240628T225151Z
LAST-MODIFIED:20240628T225151Z
UID:6616-1719792000-1719878399@www.carmanlegion.ca
SUMMARY:BRANCH CLOSED FOR CANADA DAY
DESCRIPTION:
URL:https://www.carmanlegion.ca/event/branch-closed-for-canada-day/
END:VEVENT
BEGIN:VEVENT
DTSTART;TZID=UTC:20240705T173000
DTEND;TZID=UTC:20240705T193000
DTSTAMP:20260421T105009
CREATED:20240529T215541Z
LAST-MODIFIED:20240529T215541Z
UID:6566-1720200600-1720207800@www.carmanlegion.ca
SUMMARY:MEAT DRAW & 50/50
DESCRIPTION:
URL:https://www.carmanlegion.ca/event/meat-draw-50-50-10/
END:VEVENT
BEGIN:VEVENT
DTSTART;TZID=UTC:20240706T173000
DTEND;TZID=UTC:20240706T200000
DTSTAMP:20260421T105009
CREATED:20240529T215644Z
LAST-MODIFIED:20240529T215644Z
UID:6568-1720287000-1720296000@www.carmanlegion.ca
SUMMARY:LUCKY CARD DRAW\, LUCKY NUMBER BINGO & 50/50 DRAW
DESCRIPTION:
URL:https://www.carmanlegion.ca/event/lucky-card-draw-lucky-number-bingo-50-50-draw-18/
END:VEVENT
BEGIN:VEVENT
DTSTART;TZID=UTC:20240708T190000
DTEND;TZID=UTC:20240708T210000
DTSTAMP:20260421T105009
CREATED:20240625T095515Z
LAST-MODIFIED:20240625T095515Z
UID:6600-1720465200-1720472400@www.carmanlegion.ca
SUMMARY:EXECUTIVE MEETING
DESCRIPTION:
URL:https://www.carmanlegion.ca/event/executive-meeting-4/
END:VEVENT
BEGIN:VEVENT
DTSTART;VALUE=DATE:20240712
DTEND;VALUE=DATE:20240713
DTSTAMP:20260421T105009
CREATED:20240710T012542Z
LAST-MODIFIED:20240710T012631Z
UID:6653-1720742400-1720828799@www.carmanlegion.ca
SUMMARY:ROCK OF EDGES BAND POSSIBLE CANCELLATION DATE IF 40 TICKETS NOT SOLD
DESCRIPTION:
URL:https://www.carmanlegion.ca/event/rock-of-edges-band-possible-cancellation-date-if-40-tickets-not-sold/
END:VEVENT
BEGIN:VEVENT
DTSTART;TZID=UTC:20240712T173000
DTEND;TZID=UTC:20240712T193000
DTSTAMP:20260421T105009
CREATED:20240529T220716Z
LAST-MODIFIED:20240529T220716Z
UID:6577-1720805400-1720812600@www.carmanlegion.ca
SUMMARY:MEAT DRAW & 50/50
DESCRIPTION:
URL:https://www.carmanlegion.ca/event/meat-draw-50-50-11/
END:VEVENT
BEGIN:VEVENT
DTSTART;TZID=UTC:20240713T173000
DTEND;TZID=UTC:20240713T200000
DTSTAMP:20260421T105009
CREATED:20240529T220942Z
LAST-MODIFIED:20240529T221205Z
UID:6583-1720891800-1720900800@www.carmanlegion.ca
SUMMARY:LUCKY CARD DRAW\, LUCKY NUMBER BINGO & 50/50 DRAW
DESCRIPTION:
URL:https://www.carmanlegion.ca/event/lucky-card-draw-lucky-number-bingo-50-50-draw-19/
END:VEVENT
BEGIN:VEVENT
DTSTART;TZID=UTC:20240718T170000
DTEND;TZID=UTC:20240718T190000
DTSTAMP:20260421T105009
CREATED:20240630T050503Z
LAST-MODIFIED:20240630T050534Z
UID:6625-1721322000-1721329200@www.carmanlegion.ca
SUMMARY:STEAK DINNERS ARE BACK!!!
DESCRIPTION:
URL:https://www.carmanlegion.ca/event/steak-dinners-are-back/
END:VEVENT
BEGIN:VEVENT
DTSTART;TZID=UTC:20240719T173000
DTEND;TZID=UTC:20240719T193000
DTSTAMP:20260421T105009
CREATED:20240529T220752Z
LAST-MODIFIED:20240529T220752Z
UID:6579-1721410200-1721417400@www.carmanlegion.ca
SUMMARY:MEAT DRAW & 50/50
DESCRIPTION:
URL:https://www.carmanlegion.ca/event/meat-draw-50-50-12/
END:VEVENT
BEGIN:VEVENT
DTSTART;TZID=UTC:20240720T173000
DTEND;TZID=UTC:20240720T200000
DTSTAMP:20260421T105009
CREATED:20240529T221018Z
LAST-MODIFIED:20240529T221018Z
UID:6585-1721496600-1721505600@www.carmanlegion.ca
SUMMARY:LUCKY CARD DRAW\, LUCKY NUMBER BINGO & 50/50 DRAW
DESCRIPTION:
URL:https://www.carmanlegion.ca/event/lucky-card-draw-lucky-number-bingo-50-50-draw-20/
END:VEVENT
BEGIN:VEVENT
DTSTART;TZID=UTC:20240720T200000
DTEND;TZID=UTC:20240720T233000
DTSTAMP:20260421T105009
CREATED:20240529T220300Z
LAST-MODIFIED:20240715T035141Z
UID:6571-1721505600-1721518200@www.carmanlegion.ca
SUMMARY:ROCK OF EDGES BAND-CLASSIC ROCK-CANCELLED!
DESCRIPTION:
URL:https://www.carmanlegion.ca/event/rock-of-edges-band/
END:VEVENT
BEGIN:VEVENT
DTSTART;VALUE=DATE:20240721
DTEND;VALUE=DATE:20240722
DTSTAMP:20260421T105009
CREATED:20240710T011807Z
LAST-MODIFIED:20240710T011807Z
UID:6647-1721520000-1721606399@www.carmanlegion.ca
SUMMARY:CARMAN LEGION BRANCH FUN GOLF
DESCRIPTION:
URL:https://www.carmanlegion.ca/event/carman-legion-branch-fun-golf/
END:VEVENT
BEGIN:VEVENT
DTSTART;TZID=UTC:20240726T173000
DTEND;TZID=UTC:20240726T193000
DTSTAMP:20260421T105009
CREATED:20240529T220829Z
LAST-MODIFIED:20240529T220829Z
UID:6581-1722015000-1722022200@www.carmanlegion.ca
SUMMARY:MEAT DRAW & 50/50
DESCRIPTION:
URL:https://www.carmanlegion.ca/event/meat-draw-50-50-13/
END:VEVENT
BEGIN:VEVENT
DTSTART;VALUE=DATE:20240727
DTEND;VALUE=DATE:20240728
DTSTAMP:20260421T105009
CREATED:20240716T040757Z
LAST-MODIFIED:20240716T040757Z
UID:6673-1722038400-1722124799@www.carmanlegion.ca
SUMMARY:PATIO PARTY!!
DESCRIPTION:
URL:https://www.carmanlegion.ca/event/patio-party/
END:VEVENT
BEGIN:VEVENT
DTSTART;TZID=UTC:20240727T173000
DTEND;TZID=UTC:20240727T200000
DTSTAMP:20260421T105009
CREATED:20240529T221050Z
LAST-MODIFIED:20240529T221050Z
UID:6587-1722101400-1722110400@www.carmanlegion.ca
SUMMARY:LUCKY CARD DRAW\, LUCKY NUMBER BINGO & 50/50 DRAW
DESCRIPTION:
URL:https://www.carmanlegion.ca/event/lucky-card-draw-lucky-number-bingo-50-50-draw-21/
END:VEVENT
END:VCALENDAR