BEGIN:VCALENDAR
VERSION:2.0
PRODID:-//Carman Legion Branch 18 - ECPv6.15.20//NONSGML v1.0//EN
CALSCALE:GREGORIAN
METHOD:PUBLISH
X-WR-CALNAME:Carman Legion Branch 18
X-ORIGINAL-URL:https://www.carmanlegion.ca
X-WR-CALDESC:Events for Carman Legion Branch 18
REFRESH-INTERVAL;VALUE=DURATION:PT1H
X-Robots-Tag:noindex
X-PUBLISHED-TTL:PT1H
BEGIN:VTIMEZONE
TZID:UTC
BEGIN:STANDARD
TZOFFSETFROM:+0000
TZOFFSETTO:+0000
TZNAME:UTC
DTSTART:20230101T000000
END:STANDARD
END:VTIMEZONE
BEGIN:VEVENT
DTSTART;TZID=UTC:20240802T213000
DTEND;TZID=UTC:20240802T213000
DTSTAMP:20260421T091215
CREATED:20240721T005244Z
LAST-MODIFIED:20240721T005244Z
UID:6694-1722634200-1722634200@www.carmanlegion.ca
SUMMARY:MEAT DRAW & 50/50
DESCRIPTION:
URL:https://www.carmanlegion.ca/event/meat-draw-50-50-14/
END:VEVENT
BEGIN:VEVENT
DTSTART;TZID=UTC:20240803T173000
DTEND;TZID=UTC:20240803T200000
DTSTAMP:20260421T091215
CREATED:20240721T005645Z
LAST-MODIFIED:20240721T005645Z
UID:6704-1722706200-1722715200@www.carmanlegion.ca
SUMMARY:LUCKY CARD DRAW\, LUCKY NUMBER BINGO & 50/50 DRAW
DESCRIPTION:
URL:https://www.carmanlegion.ca/event/lucky-card-draw-lucky-number-bingo-50-50-draw-22/
END:VEVENT
BEGIN:VEVENT
DTSTART;VALUE=DATE:20240805
DTEND;VALUE=DATE:20240806
DTSTAMP:20260421T091215
CREATED:20240804T221451Z
LAST-MODIFIED:20240804T221451Z
UID:6725-1722816000-1722902399@www.carmanlegion.ca
SUMMARY:BRANCH CLUBROOM CLOSED
DESCRIPTION:
URL:https://www.carmanlegion.ca/event/branch-clubroom-closed/
END:VEVENT
BEGIN:VEVENT
DTSTART;TZID=UTC:20240809T173000
DTEND;TZID=UTC:20240809T193000
DTSTAMP:20260421T091215
CREATED:20240721T005321Z
LAST-MODIFIED:20240721T005321Z
UID:6696-1723224600-1723231800@www.carmanlegion.ca
SUMMARY:MEAT DRAW & 50/50
DESCRIPTION:
URL:https://www.carmanlegion.ca/event/meat-draw-50-50-15/
END:VEVENT
BEGIN:VEVENT
DTSTART;TZID=UTC:20240810T173000
DTEND;TZID=UTC:20240810T200000
DTSTAMP:20260421T091215
CREATED:20240721T005717Z
LAST-MODIFIED:20240721T005717Z
UID:6706-1723311000-1723320000@www.carmanlegion.ca
SUMMARY:LUCKY CARD DRAW\, LUCKY NUMBER BINGO & 50/50 DRAW
DESCRIPTION:
URL:https://www.carmanlegion.ca/event/lucky-card-draw-lucky-number-bingo-50-50-draw-23/
END:VEVENT
BEGIN:VEVENT
DTSTART;TZID=UTC:20240812T190000
DTEND;TZID=UTC:20240812T210000
DTSTAMP:20260421T091215
CREATED:20240721T005956Z
LAST-MODIFIED:20240721T005956Z
UID:6714-1723489200-1723496400@www.carmanlegion.ca
SUMMARY:EXECUTIVE MEETING
DESCRIPTION:
URL:https://www.carmanlegion.ca/event/executive-meeting-5/
END:VEVENT
BEGIN:VEVENT
DTSTART;TZID=UTC:20240815T170000
DTEND;TZID=UTC:20240815T190000
DTSTAMP:20260421T091215
CREATED:20240720T055455Z
LAST-MODIFIED:20240720T055455Z
UID:6686-1723741200-1723748400@www.carmanlegion.ca
SUMMARY:RIBS & FIXINS' NIGHT
DESCRIPTION:
URL:https://www.carmanlegion.ca/event/ribs-fixins-night/
END:VEVENT
BEGIN:VEVENT
DTSTART;TZID=UTC:20240816T173000
DTEND;TZID=UTC:20240816T193000
DTSTAMP:20260421T091215
CREATED:20240721T005355Z
LAST-MODIFIED:20240721T005355Z
UID:6698-1723829400-1723836600@www.carmanlegion.ca
SUMMARY:MEAT DRAW & 50/50
DESCRIPTION:
URL:https://www.carmanlegion.ca/event/meat-draw-50-50-16/
END:VEVENT
BEGIN:VEVENT
DTSTART;TZID=UTC:20240817T173000
DTEND;TZID=UTC:20240817T200000
DTSTAMP:20260421T091215
CREATED:20240721T005754Z
LAST-MODIFIED:20240721T005754Z
UID:6708-1723915800-1723924800@www.carmanlegion.ca
SUMMARY:LUCKY CARD DRAW\, LUCKY NUMBER BINGO & 50/50 DRAW
DESCRIPTION:
URL:https://www.carmanlegion.ca/event/lucky-card-draw-lucky-number-bingo-50-50-draw-24/
END:VEVENT
BEGIN:VEVENT
DTSTART;TZID=UTC:20240823T173000
DTEND;TZID=UTC:20240823T193000
DTSTAMP:20260421T091215
CREATED:20240721T005430Z
LAST-MODIFIED:20240721T005430Z
UID:6700-1724434200-1724441400@www.carmanlegion.ca
SUMMARY:MEAT DRAW & 50/50
DESCRIPTION:
URL:https://www.carmanlegion.ca/event/meat-draw-50-50-17/
END:VEVENT
BEGIN:VEVENT
DTSTART;TZID=UTC:20240824T173000
DTEND;TZID=UTC:20240824T200000
DTSTAMP:20260421T091215
CREATED:20240721T005828Z
LAST-MODIFIED:20240721T005828Z
UID:6710-1724520600-1724529600@www.carmanlegion.ca
SUMMARY:LUCKY CARD DRAW\, LUCKY NUMBER BINGO & 50/50 DRAW
DESCRIPTION:
URL:https://www.carmanlegion.ca/event/lucky-card-draw-lucky-number-bingo-50-50-draw-25/
END:VEVENT
BEGIN:VEVENT
DTSTART;TZID=UTC:20240830T173000
DTEND;TZID=UTC:20240830T193000
DTSTAMP:20260421T091215
CREATED:20240721T005503Z
LAST-MODIFIED:20240721T005503Z
UID:6702-1725039000-1725046200@www.carmanlegion.ca
SUMMARY:MEAT DRAW & 50/50
DESCRIPTION:
URL:https://www.carmanlegion.ca/event/meat-draw-50-50-18/
END:VEVENT
BEGIN:VEVENT
DTSTART;TZID=UTC:20240831T173000
DTEND;TZID=UTC:20240831T193000
DTSTAMP:20260421T091215
CREATED:20240721T005856Z
LAST-MODIFIED:20240721T005856Z
UID:6712-1725125400-1725132600@www.carmanlegion.ca
SUMMARY:LUCKY CARD DRAW\, LUCKY NUMBER BINGO & 50/50 DRAW
DESCRIPTION:
URL:https://www.carmanlegion.ca/event/lucky-card-draw-lucky-number-bingo-50-50-draw-26/
END:VEVENT
END:VCALENDAR