BEGIN:VCALENDAR
VERSION:2.0
PRODID:-//Carman Legion Branch 18 - ECPv6.15.20//NONSGML v1.0//EN
CALSCALE:GREGORIAN
METHOD:PUBLISH
X-ORIGINAL-URL:https://www.carmanlegion.ca
X-WR-CALDESC:Events for Carman Legion Branch 18
REFRESH-INTERVAL;VALUE=DURATION:PT1H
X-Robots-Tag:noindex
X-PUBLISHED-TTL:PT1H
BEGIN:VTIMEZONE
TZID:UTC
BEGIN:STANDARD
TZOFFSETFROM:+0000
TZOFFSETTO:+0000
TZNAME:UTC
DTSTART:20230101T000000
END:STANDARD
END:VTIMEZONE
BEGIN:VEVENT
DTSTART;TZID=UTC:20240906T173000
DTEND;TZID=UTC:20240906T193000
DTSTAMP:20260421T072721
CREATED:20240906T082421Z
LAST-MODIFIED:20240906T082421Z
UID:6757-1725643800-1725651000@www.carmanlegion.ca
SUMMARY:MEAT DRAW & 50/50
DESCRIPTION:
URL:https://www.carmanlegion.ca/event/meat-draw-50-50-19/
END:VEVENT
BEGIN:VEVENT
DTSTART;VALUE=DATE:20240907
DTEND;VALUE=DATE:20240908
DTSTAMP:20260421T072721
CREATED:20240721T010131Z
LAST-MODIFIED:20240828T203700Z
UID:6718-1725667200-1725753599@www.carmanlegion.ca
SUMMARY:LADIES AUXILIARY ANNIVERSARY DINNER
DESCRIPTION:
URL:https://www.carmanlegion.ca/event/ladies-auxiliary-80th-anniversary-dinner/
END:VEVENT
BEGIN:VEVENT
DTSTART;TZID=UTC:20240907T173000
DTEND;TZID=UTC:20240907T193000
DTSTAMP:20260421T072721
CREATED:20240906T082952Z
LAST-MODIFIED:20240906T082952Z
UID:6767-1725730200-1725737400@www.carmanlegion.ca
SUMMARY:LUCKY CARD DRAW\, LUCKY NUMBER BINGO & 50/50 DRAW
DESCRIPTION:
URL:https://www.carmanlegion.ca/event/lucky-card-draw-lucky-number-bingo-50-50-draw-27/
END:VEVENT
BEGIN:VEVENT
DTSTART;TZID=UTC:20240909T190000
DTEND;TZID=UTC:20240909T200000
DTSTAMP:20260421T072721
CREATED:20240906T083304Z
LAST-MODIFIED:20240906T083304Z
UID:6776-1725908400-1725912000@www.carmanlegion.ca
SUMMARY:EXECUTIVE MEETING
DESCRIPTION:
URL:https://www.carmanlegion.ca/event/executive-meeting-6/
END:VEVENT
BEGIN:VEVENT
DTSTART;TZID=UTC:20240913T173000
DTEND;TZID=UTC:20240913T193000
DTSTAMP:20260421T072721
CREATED:20240906T082456Z
LAST-MODIFIED:20240906T082456Z
UID:6759-1726248600-1726255800@www.carmanlegion.ca
SUMMARY:MEAT DRAW & 50/50
DESCRIPTION:
URL:https://www.carmanlegion.ca/event/meat-draw-50-50-20/
END:VEVENT
BEGIN:VEVENT
DTSTART;TZID=UTC:20240914T173000
DTEND;TZID=UTC:20240914T200000
DTSTAMP:20260421T072721
CREATED:20240906T083035Z
LAST-MODIFIED:20240906T083035Z
UID:6769-1726335000-1726344000@www.carmanlegion.ca
SUMMARY:LUCKY CARD DRAW\, LUCKY NUMBER BINGO & 50/50 DRAW
DESCRIPTION:
URL:https://www.carmanlegion.ca/event/lucky-card-draw-lucky-number-bingo-50-50-draw-28/
END:VEVENT
BEGIN:VEVENT
DTSTART;TZID=UTC:20240918T193000
DTEND;TZID=UTC:20240918T210000
DTSTAMP:20260421T072721
CREATED:20240721T010028Z
LAST-MODIFIED:20240721T010028Z
UID:6716-1726687800-1726693200@www.carmanlegion.ca
SUMMARY:GENERAL MEMBERSHIP MEETING
DESCRIPTION:
URL:https://www.carmanlegion.ca/event/general-membership-meeting-4/
END:VEVENT
BEGIN:VEVENT
DTSTART;TZID=UTC:20240919T190000
DTEND;TZID=UTC:20240919T220000
DTSTAMP:20260421T072721
CREATED:20240906T083527Z
LAST-MODIFIED:20240906T083527Z
UID:6780-1726772400-1726783200@www.carmanlegion.ca
SUMMARY:CRIBBAGE
DESCRIPTION:
URL:https://www.carmanlegion.ca/event/cribbage/
END:VEVENT
BEGIN:VEVENT
DTSTART;TZID=UTC:20240920T173000
DTEND;TZID=UTC:20240920T193000
DTSTAMP:20260421T072721
CREATED:20240906T082530Z
LAST-MODIFIED:20240906T082530Z
UID:6761-1726853400-1726860600@www.carmanlegion.ca
SUMMARY:MEAT DRAW & 50/50
DESCRIPTION:
URL:https://www.carmanlegion.ca/event/meat-draw-50-50-21/
END:VEVENT
BEGIN:VEVENT
DTSTART;VALUE=DATE:20240921
DTEND;VALUE=DATE:20240922
DTSTAMP:20260421T072721
CREATED:20240721T010153Z
LAST-MODIFIED:20240906T082844Z
UID:6720-1726876800-1726963199@www.carmanlegion.ca
SUMMARY:VETERANS' DINNER & DANCE
DESCRIPTION:
URL:https://www.carmanlegion.ca/event/veterans-dinner-3/
END:VEVENT
BEGIN:VEVENT
DTSTART;VALUE=DATE:20240921
DTEND;VALUE=DATE:20240922
DTSTAMP:20260421T072721
CREATED:20240906T083117Z
LAST-MODIFIED:20240906T083117Z
UID:6771-1726876800-1726963199@www.carmanlegion.ca
SUMMARY:LUCKY CARD DRAW\, LUCKY NUMBER BINGO & 50/50 DRAW-CANCELLED DUE TO VETERANS' DINNER
DESCRIPTION:
URL:https://www.carmanlegion.ca/event/lucky-card-draw-lucky-number-bingo-50-50-draw-cancelled-due-to-veterans-dinner/
END:VEVENT
BEGIN:VEVENT
DTSTART;TZID=UTC:20240927T173000
DTEND;TZID=UTC:20240927T193000
DTSTAMP:20260421T072721
CREATED:20240906T082605Z
LAST-MODIFIED:20240906T082605Z
UID:6763-1727458200-1727465400@www.carmanlegion.ca
SUMMARY:MEAT DRAW & 50/50
DESCRIPTION:
URL:https://www.carmanlegion.ca/event/meat-draw-50-50-22/
END:VEVENT
BEGIN:VEVENT
DTSTART;TZID=UTC:20240928T173000
DTEND;TZID=UTC:20240928T200000
DTSTAMP:20260421T072721
CREATED:20240906T083204Z
LAST-MODIFIED:20240906T083204Z
UID:6773-1727544600-1727553600@www.carmanlegion.ca
SUMMARY:LUCKY CARD DRAW\, LUCKY NUMBER BINGO & 50/50 DRAW
DESCRIPTION:
URL:https://www.carmanlegion.ca/event/lucky-card-draw-lucky-number-bingo-50-50-draw-29/
END:VEVENT
END:VCALENDAR