BEGIN:VCALENDAR
VERSION:2.0
PRODID:-//Carman Legion Branch 18 - ECPv6.15.20//NONSGML v1.0//EN
CALSCALE:GREGORIAN
METHOD:PUBLISH
X-WR-CALNAME:Carman Legion Branch 18
X-ORIGINAL-URL:https://www.carmanlegion.ca
X-WR-CALDESC:Events for Carman Legion Branch 18
REFRESH-INTERVAL;VALUE=DURATION:PT1H
X-Robots-Tag:noindex
X-PUBLISHED-TTL:PT1H
BEGIN:VTIMEZONE
TZID:America/Chicago
BEGIN:DAYLIGHT
TZOFFSETFROM:-0600
TZOFFSETTO:-0500
TZNAME:CDT
DTSTART:20240310T080000
END:DAYLIGHT
BEGIN:STANDARD
TZOFFSETFROM:-0500
TZOFFSETTO:-0600
TZNAME:CST
DTSTART:20241103T070000
END:STANDARD
BEGIN:DAYLIGHT
TZOFFSETFROM:-0600
TZOFFSETTO:-0500
TZNAME:CDT
DTSTART:20250309T080000
END:DAYLIGHT
BEGIN:STANDARD
TZOFFSETFROM:-0500
TZOFFSETTO:-0600
TZNAME:CST
DTSTART:20251102T070000
END:STANDARD
BEGIN:DAYLIGHT
TZOFFSETFROM:-0600
TZOFFSETTO:-0500
TZNAME:CDT
DTSTART:20260308T080000
END:DAYLIGHT
BEGIN:STANDARD
TZOFFSETFROM:-0500
TZOFFSETTO:-0600
TZNAME:CST
DTSTART:20261101T070000
END:STANDARD
END:VTIMEZONE
BEGIN:VEVENT
DTSTART;TZID=America/Chicago:20250214T080000
DTEND;TZID=America/Chicago:20250214T170000
DTSTAMP:20260421T034352
CREATED:20250215T025825Z
LAST-MODIFIED:20250215T025825Z
UID:7256-1739520000-1739552400@www.carmanlegion.ca
SUMMARY:Crib Night
DESCRIPTION:Starts @ 7pm. $20 per team. Cash prizes for the top 3 winning teams. 50/50 draw to follow.
URL:https://www.carmanlegion.ca/event/crib-night-17/
END:VEVENT
BEGIN:VEVENT
DTSTART;TZID=America/Chicago:20250214T173000
DTEND;TZID=America/Chicago:20250214T200000
DTSTAMP:20260421T034352
CREATED:20250213T005210Z
LAST-MODIFIED:20250214T160748Z
UID:7183-1739554200-1739563200@www.carmanlegion.ca
SUMMARY:Meat Draw and 50/50
DESCRIPTION:Don’t forget the added prize. Winner of the 3rd draw of the 3rd round also wins a free drink for their table\, courtesy of the Legion.
URL:https://www.carmanlegion.ca/event/meat-draw-and-50-50-32/
LOCATION:Carman Legion Lounge
ATTACH;FMTTYPE=image/jpeg:https://www.carmanlegion.ca/wp-content/uploads/2024/03/Meat-Draw-Picture.jpg
END:VEVENT
BEGIN:VEVENT
DTSTART;TZID=America/Chicago:20250215T110000
DTEND;TZID=America/Chicago:20250215T130000
DTSTAMP:20260421T034352
CREATED:20250213T005655Z
LAST-MODIFIED:20250213T012611Z
UID:7185-1739617200-1739624400@www.carmanlegion.ca
SUMMARY:Valentines Brunch
DESCRIPTION:Brunch served from 11am to 1pm. Cost to attend is $10 with tickets available in the Legion Clubroom. Deadline to purchase tickets is Thursday February 13th\, to allow for food purchases. Mimosas available for $6 each.
URL:https://www.carmanlegion.ca/event/valentines-brunch/
LOCATION:Carman Legion Auxiliary Hall
END:VEVENT
BEGIN:VEVENT
DTSTART;TZID=America/Chicago:20250215T180000
DTEND;TZID=America/Chicago:20250215T193000
DTSTAMP:20260421T034352
CREATED:20250213T011818Z
LAST-MODIFIED:20250214T155247Z
UID:7196-1739642400-1739647800@www.carmanlegion.ca
SUMMARY:Chase the Ace and 50/50
DESCRIPTION:Chase the Ace @ 6:30 pm\, with 50/50 to follow @ 7pm.
URL:https://www.carmanlegion.ca/event/chase-the-ace-and-lucky-number-bingo/
LOCATION:Carman Legion Lounge
ATTACH;FMTTYPE=image/jpeg:https://www.carmanlegion.ca/wp-content/uploads/2024/05/CARD-DRAW-WEBSITE-scaled-1.jpg
END:VEVENT
BEGIN:VEVENT
DTSTART;TZID=America/Chicago:20250215T193000
DTEND;TZID=America/Chicago:20250215T200000
DTSTAMP:20260421T034352
CREATED:20250214T155358Z
LAST-MODIFIED:20250214T155358Z
UID:7218-1739647800-1739649600@www.carmanlegion.ca
SUMMARY:Lucky Number Bingo
DESCRIPTION:
URL:https://www.carmanlegion.ca/event/lucky-number-bingo-3/
LOCATION:Carman Legion Lounge
ATTACH;FMTTYPE=image/jpeg:https://www.carmanlegion.ca/wp-content/uploads/2024/05/BINGO-WEBSITE-scaled-1.jpg
END:VEVENT
BEGIN:VEVENT
DTSTART;TZID=America/Chicago:20250219T193000
DTEND;TZID=America/Chicago:20250219T210000
DTSTAMP:20260421T034352
CREATED:20250214T154225Z
LAST-MODIFIED:20250215T023158Z
UID:7209-1739993400-1739998800@www.carmanlegion.ca
SUMMARY:General Meeting
DESCRIPTION:
URL:https://www.carmanlegion.ca/event/general-meeting-4/
LOCATION:Carman Legion Branch #18
END:VEVENT
BEGIN:VEVENT
DTSTART;TZID=America/Chicago:20250220T190000
DTEND;TZID=America/Chicago:20250220T220000
DTSTAMP:20260421T034352
CREATED:20250215T024444Z
LAST-MODIFIED:20250215T024555Z
UID:7241-1740078000-1740088800@www.carmanlegion.ca
SUMMARY:Crib Night
DESCRIPTION:Starting at 7pm. $20 per team. Cash prizes for top 3 teams. 50/50 draw to follow.
URL:https://www.carmanlegion.ca/event/crib-night-15/
LOCATION:Carman Legion Lounge
END:VEVENT
BEGIN:VEVENT
DTSTART;TZID=America/Chicago:20250221T173000
DTEND;TZID=America/Chicago:20250221T200000
DTSTAMP:20260421T034352
CREATED:20250213T013139Z
LAST-MODIFIED:20250214T161001Z
UID:7202-1740159000-1740168000@www.carmanlegion.ca
SUMMARY:Meat Draw and 50/50
DESCRIPTION:Don’t forget the added prize. Winner of the 3rd draw of the 3rd round also wins a free drink for their table\, courtesy of the Legion.
URL:https://www.carmanlegion.ca/event/meat-draw-and-50-50-33/
LOCATION:Carman Legion Lounge
ATTACH;FMTTYPE=image/jpeg:https://www.carmanlegion.ca/wp-content/uploads/2024/03/Meat-Draw-Picture.jpg
END:VEVENT
BEGIN:VEVENT
DTSTART;TZID=America/Chicago:20250222T180000
DTEND;TZID=America/Chicago:20250222T193000
DTSTAMP:20260421T034352
CREATED:20250214T153820Z
LAST-MODIFIED:20250214T155607Z
UID:7207-1740247200-1740252600@www.carmanlegion.ca
SUMMARY:Chase the Ace and 50/50
DESCRIPTION:Ticket sales start at 6pm with the draw at 6;30. 50/50 draw at 7.
URL:https://www.carmanlegion.ca/event/card-draw50-50-and-lucky-number-bingo-8/
LOCATION:Carman Legion Lounge
ATTACH;FMTTYPE=image/jpeg:https://www.carmanlegion.ca/wp-content/uploads/2024/05/CARD-DRAW-WEBSITE-scaled-1.jpg
END:VEVENT
BEGIN:VEVENT
DTSTART;TZID=America/Chicago:20250222T193000
DTEND;TZID=America/Chicago:20250222T200000
DTSTAMP:20260421T034352
CREATED:20250214T155735Z
LAST-MODIFIED:20250214T155735Z
UID:7221-1740252600-1740254400@www.carmanlegion.ca
SUMMARY:Lucky Number Bingo
DESCRIPTION:
URL:https://www.carmanlegion.ca/event/lucky-number-bingo-4/
ATTACH;FMTTYPE=image/jpeg:https://www.carmanlegion.ca/wp-content/uploads/2024/05/BINGO-WEBSITE-scaled-1.jpg
END:VEVENT
BEGIN:VEVENT
DTSTART;TZID=America/Chicago:20250228T173000
DTEND;TZID=America/Chicago:20250228T200000
DTSTAMP:20260421T034352
CREATED:20250214T154750Z
LAST-MODIFIED:20250214T161122Z
UID:7211-1740763800-1740772800@www.carmanlegion.ca
SUMMARY:Meat Draw and 50/50
DESCRIPTION:Don’t forget the added prize. Winner of the 3rd draw of the 3rd round wins a free drink for their table courtesy of the Legion.
URL:https://www.carmanlegion.ca/event/meat-draw-and-50-50-34/
LOCATION:Carman Legion Branch #18
ATTACH;FMTTYPE=image/jpeg:https://www.carmanlegion.ca/wp-content/uploads/2024/03/Meat-Draw-Picture.jpg
END:VEVENT
END:VCALENDAR