BEGIN:VCALENDAR
VERSION:2.0
PRODID:-//Carman Legion Branch 18 - ECPv6.15.20//NONSGML v1.0//EN
CALSCALE:GREGORIAN
METHOD:PUBLISH
X-ORIGINAL-URL:https://www.carmanlegion.ca
X-WR-CALDESC:Events for Carman Legion Branch 18
REFRESH-INTERVAL;VALUE=DURATION:PT1H
X-Robots-Tag:noindex
X-PUBLISHED-TTL:PT1H
BEGIN:VTIMEZONE
TZID:America/Chicago
BEGIN:DAYLIGHT
TZOFFSETFROM:-0600
TZOFFSETTO:-0500
TZNAME:CDT
DTSTART:20240310T080000
END:DAYLIGHT
BEGIN:STANDARD
TZOFFSETFROM:-0500
TZOFFSETTO:-0600
TZNAME:CST
DTSTART:20241103T070000
END:STANDARD
BEGIN:DAYLIGHT
TZOFFSETFROM:-0600
TZOFFSETTO:-0500
TZNAME:CDT
DTSTART:20250309T080000
END:DAYLIGHT
BEGIN:STANDARD
TZOFFSETFROM:-0500
TZOFFSETTO:-0600
TZNAME:CST
DTSTART:20251102T070000
END:STANDARD
BEGIN:DAYLIGHT
TZOFFSETFROM:-0600
TZOFFSETTO:-0500
TZNAME:CDT
DTSTART:20260308T080000
END:DAYLIGHT
BEGIN:STANDARD
TZOFFSETFROM:-0500
TZOFFSETTO:-0600
TZNAME:CST
DTSTART:20261101T070000
END:STANDARD
END:VTIMEZONE
BEGIN:VEVENT
DTSTART;TZID=America/Chicago:20250403T190000
DTEND;TZID=America/Chicago:20250403T220000
DTSTAMP:20260421T045759
CREATED:20250302T201006Z
LAST-MODIFIED:20250306T014146Z
UID:7341-1743706800-1743717600@www.carmanlegion.ca
SUMMARY:Crib Night
DESCRIPTION:Stats at 7pm. $20/2 person team. Cash prizes for top 3 teams. 50/50 draw to follow.
URL:https://www.carmanlegion.ca/event/crib-night-19/
LOCATION:Carman Legion Lounge
END:VEVENT
BEGIN:VEVENT
DTSTART;TZID=America/Chicago:20250404T173000
DTEND;TZID=America/Chicago:20250404T200000
DTSTAMP:20260421T045759
CREATED:20250306T011848Z
LAST-MODIFIED:20250306T011848Z
UID:7359-1743787800-1743796800@www.carmanlegion.ca
SUMMARY:Meat Draw and 50/50
DESCRIPTION:
URL:https://www.carmanlegion.ca/event/meat-draw-and-50-50-39/
LOCATION:Carman Legion Lounge
ATTACH;FMTTYPE=image/jpeg:https://www.carmanlegion.ca/wp-content/uploads/2024/03/Meat-Draw-Picture.jpg
END:VEVENT
BEGIN:VEVENT
DTSTART;TZID=America/Chicago:20250405T180000
DTEND;TZID=America/Chicago:20250405T193000
DTSTAMP:20260421T045759
CREATED:20250306T012030Z
LAST-MODIFIED:20250306T012030Z
UID:7361-1743876000-1743881400@www.carmanlegion.ca
SUMMARY:Card Draw and 50/50
DESCRIPTION:
URL:https://www.carmanlegion.ca/event/card-draw-and-50-50-3/
LOCATION:Carman Legion Lounge
ATTACH;FMTTYPE=image/jpeg:https://www.carmanlegion.ca/wp-content/uploads/2024/05/CARD-DRAW-WEBSITE-scaled-1.jpg
END:VEVENT
BEGIN:VEVENT
DTSTART;TZID=America/Chicago:20250405T193000
DTEND;TZID=America/Chicago:20250405T200000
DTSTAMP:20260421T045759
CREATED:20250306T012216Z
LAST-MODIFIED:20250306T012216Z
UID:7363-1743881400-1743883200@www.carmanlegion.ca
SUMMARY:Lucky Number Bingo
DESCRIPTION:
URL:https://www.carmanlegion.ca/event/lucky-number-bingo-8/
LOCATION:Carman Legion Lounge
ATTACH;FMTTYPE=image/jpeg:https://www.carmanlegion.ca/wp-content/uploads/2024/05/BINGO-WEBSITE-scaled-1.jpg
END:VEVENT
BEGIN:VEVENT
DTSTART;TZID=America/Chicago:20250411T173000
DTEND;TZID=America/Chicago:20250411T200000
DTSTAMP:20260421T045759
CREATED:20250320T002202Z
LAST-MODIFIED:20250320T002902Z
UID:7406-1744392600-1744401600@www.carmanlegion.ca
SUMMARY:Meat Draw & 50/50 Draw
DESCRIPTION:
URL:https://www.carmanlegion.ca/event/meat-draw50-50-draw/
LOCATION:Carman Legion Lounge
ATTACH;FMTTYPE=image/jpeg:https://www.carmanlegion.ca/wp-content/uploads/2024/03/Meat-Draw-Picture.jpg
END:VEVENT
BEGIN:VEVENT
DTSTART;TZID=America/Chicago:20250412T180000
DTEND;TZID=America/Chicago:20250412T193000
DTSTAMP:20260421T045759
CREATED:20250320T002412Z
LAST-MODIFIED:20250320T002945Z
UID:7408-1744480800-1744486200@www.carmanlegion.ca
SUMMARY:Card Draw & 50/50 Draw
DESCRIPTION:
URL:https://www.carmanlegion.ca/event/card-draw-5050-draw/
LOCATION:Carman Legion Lounge
ATTACH;FMTTYPE=image/jpeg:https://www.carmanlegion.ca/wp-content/uploads/2024/05/CARD-DRAW-WEBSITE-scaled-1.jpg
END:VEVENT
BEGIN:VEVENT
DTSTART;TZID=America/Chicago:20250412T193000
DTEND;TZID=America/Chicago:20250412T200000
DTSTAMP:20260421T045759
CREATED:20250320T002539Z
LAST-MODIFIED:20250320T002539Z
UID:7410-1744486200-1744488000@www.carmanlegion.ca
SUMMARY:Lucky Number Bingo
DESCRIPTION:
URL:https://www.carmanlegion.ca/event/lucky-number-bingo-9/
LOCATION:Carman Legion Lounge
ATTACH;FMTTYPE=image/jpeg:https://www.carmanlegion.ca/wp-content/uploads/2024/05/BINGO-WEBSITE-scaled-1.jpg
END:VEVENT
BEGIN:VEVENT
DTSTART;TZID=America/Chicago:20250416T193000
DTEND;TZID=America/Chicago:20250416T210000
DTSTAMP:20260421T045759
CREATED:20250214T160256Z
LAST-MODIFIED:20250215T023316Z
UID:7223-1744831800-1744837200@www.carmanlegion.ca
SUMMARY:General Meeting
DESCRIPTION:
URL:https://www.carmanlegion.ca/event/general-meeting-5/
LOCATION:Carman Legion Branch #18
END:VEVENT
BEGIN:VEVENT
DTSTART;TZID=America/Chicago:20250417T190000
DTEND;TZID=America/Chicago:20250417T220000
DTSTAMP:20260421T045759
CREATED:20250302T201428Z
LAST-MODIFIED:20250306T014251Z
UID:7343-1744916400-1744927200@www.carmanlegion.ca
SUMMARY:Crib Night Windup
DESCRIPTION:Available to anyone who placed in the money during the regular crib nights. Cost is $20/team\, with cash prizes for top 3 teams\, and a cold buffet.
URL:https://www.carmanlegion.ca/event/crib-night-windup/
LOCATION:Carman Legion Lounge
END:VEVENT
BEGIN:VEVENT
DTSTART;TZID=America/Chicago:20250418T173000
DTEND;TZID=America/Chicago:20250418T200000
DTSTAMP:20260421T045759
CREATED:20250328T032132Z
LAST-MODIFIED:20250328T032132Z
UID:7468-1744997400-1745006400@www.carmanlegion.ca
SUMMARY:Meat Draw and 50/50
DESCRIPTION:
URL:https://www.carmanlegion.ca/event/meat-draw-and-50-50-40/
LOCATION:Carman Legion Branch #18
ATTACH;FMTTYPE=image/jpeg:https://www.carmanlegion.ca/wp-content/uploads/2024/03/Meat-Draw-Picture.jpg
END:VEVENT
BEGIN:VEVENT
DTSTART;TZID=America/Chicago:20250419T180000
DTEND;TZID=America/Chicago:20250419T193000
DTSTAMP:20260421T045759
CREATED:20250328T032257Z
LAST-MODIFIED:20250328T032257Z
UID:7470-1745085600-1745091000@www.carmanlegion.ca
SUMMARY:Card Draw and 50/50
DESCRIPTION:
URL:https://www.carmanlegion.ca/event/card-draw-and-50-50-4/
LOCATION:Carman Legion Branch #18
ATTACH;FMTTYPE=image/jpeg:https://www.carmanlegion.ca/wp-content/uploads/2024/05/CARD-DRAW-WEBSITE-scaled-1.jpg
END:VEVENT
BEGIN:VEVENT
DTSTART;TZID=America/Chicago:20250419T193000
DTEND;TZID=America/Chicago:20250419T200000
DTSTAMP:20260421T045759
CREATED:20250328T032431Z
LAST-MODIFIED:20250328T032431Z
UID:7472-1745091000-1745092800@www.carmanlegion.ca
SUMMARY:Lucky Number Bingo
DESCRIPTION:
URL:https://www.carmanlegion.ca/event/lucky-number-bingo-10/
LOCATION:Carman Legion Branch #18
ATTACH;FMTTYPE=image/jpeg:https://www.carmanlegion.ca/wp-content/uploads/2024/05/BINGO-WEBSITE-scaled-1.jpg
END:VEVENT
BEGIN:VEVENT
DTSTART;TZID=America/Chicago:20250425T173000
DTEND;TZID=America/Chicago:20250425T200000
DTSTAMP:20260421T045759
CREATED:20250404T152318Z
LAST-MODIFIED:20250404T152318Z
UID:7475-1745602200-1745611200@www.carmanlegion.ca
SUMMARY:MEAT DRAW AND 50/50
DESCRIPTION:
URL:https://www.carmanlegion.ca/event/meat-draw-and-50-50-41/
LOCATION:Carman Legion Lounge
ATTACH;FMTTYPE=image/jpeg:https://www.carmanlegion.ca/wp-content/uploads/2024/03/Meat-Draw-Picture.jpg
END:VEVENT
BEGIN:VEVENT
DTSTART;TZID=America/Chicago:20250425T200000
DTEND;TZID=America/Chicago:20250425T220000
DTSTAMP:20260421T045759
CREATED:20250411T142633Z
LAST-MODIFIED:20250412T014616Z
UID:7524-1745611200-1745618400@www.carmanlegion.ca
SUMMARY:Remember When
DESCRIPTION:Enjoy an evening of music with Ron Middleton and friends. The event is free to all to come and enjoy.
URL:https://www.carmanlegion.ca/event/remember-when/
LOCATION:Carman Legion Branch #18
END:VEVENT
BEGIN:VEVENT
DTSTART;TZID=America/Chicago:20250426T110000
DTEND;TZID=America/Chicago:20250426T123000
DTSTAMP:20260421T045759
CREATED:20250411T142055Z
LAST-MODIFIED:20250411T142055Z
UID:7522-1745665200-1745670600@www.carmanlegion.ca
SUMMARY:Spring Brunch
DESCRIPTION:Come and enjoy a delicious brunch to celebrate the new season. Tickets are available in the lounge\, with a sales cut-off of Wednesday April 23.
URL:https://www.carmanlegion.ca/event/spring-brunch/
LOCATION:Carman Legion Branch #18
END:VEVENT
BEGIN:VEVENT
DTSTART;TZID=America/Chicago:20250426T180000
DTEND;TZID=America/Chicago:20250426T193000
DTSTAMP:20260421T045759
CREATED:20250404T152519Z
LAST-MODIFIED:20250404T152519Z
UID:7478-1745690400-1745695800@www.carmanlegion.ca
SUMMARY:Card Draw and 50/50
DESCRIPTION:
URL:https://www.carmanlegion.ca/event/card-draw-and-50-50-5/
LOCATION:Carman Legion Lounge
ATTACH;FMTTYPE=image/jpeg:https://www.carmanlegion.ca/wp-content/uploads/2024/05/CARD-DRAW-WEBSITE-scaled-1.jpg
END:VEVENT
BEGIN:VEVENT
DTSTART;TZID=America/Chicago:20250426T193000
DTEND;TZID=America/Chicago:20250426T200000
DTSTAMP:20260421T045759
CREATED:20250404T152636Z
LAST-MODIFIED:20250404T152636Z
UID:7480-1745695800-1745697600@www.carmanlegion.ca
SUMMARY:Lucky Number Bingo
DESCRIPTION:
URL:https://www.carmanlegion.ca/event/lucky-number-bingo-11/
LOCATION:Carman Legion Lounge
ATTACH;FMTTYPE=image/jpeg:https://www.carmanlegion.ca/wp-content/uploads/2024/05/BINGO-WEBSITE-scaled-1.jpg
END:VEVENT
END:VCALENDAR