BEGIN:VCALENDAR
VERSION:2.0
PRODID:-//Carman Legion Branch 18 - ECPv6.15.20//NONSGML v1.0//EN
CALSCALE:GREGORIAN
METHOD:PUBLISH
X-WR-CALNAME:Carman Legion Branch 18
X-ORIGINAL-URL:https://www.carmanlegion.ca
X-WR-CALDESC:Events for Carman Legion Branch 18
REFRESH-INTERVAL;VALUE=DURATION:PT1H
X-Robots-Tag:noindex
X-PUBLISHED-TTL:PT1H
BEGIN:VTIMEZONE
TZID:America/Chicago
BEGIN:DAYLIGHT
TZOFFSETFROM:-0600
TZOFFSETTO:-0500
TZNAME:CDT
DTSTART:20240310T080000
END:DAYLIGHT
BEGIN:STANDARD
TZOFFSETFROM:-0500
TZOFFSETTO:-0600
TZNAME:CST
DTSTART:20241103T070000
END:STANDARD
BEGIN:DAYLIGHT
TZOFFSETFROM:-0600
TZOFFSETTO:-0500
TZNAME:CDT
DTSTART:20250309T080000
END:DAYLIGHT
BEGIN:STANDARD
TZOFFSETFROM:-0500
TZOFFSETTO:-0600
TZNAME:CST
DTSTART:20251102T070000
END:STANDARD
BEGIN:DAYLIGHT
TZOFFSETFROM:-0600
TZOFFSETTO:-0500
TZNAME:CDT
DTSTART:20260308T080000
END:DAYLIGHT
BEGIN:STANDARD
TZOFFSETFROM:-0500
TZOFFSETTO:-0600
TZNAME:CST
DTSTART:20261101T070000
END:STANDARD
END:VTIMEZONE
BEGIN:VEVENT
DTSTART;TZID=America/Chicago:20250502T173000
DTEND;TZID=America/Chicago:20250502T200000
DTSTAMP:20260421T062547
CREATED:20250404T152906Z
LAST-MODIFIED:20250404T152906Z
UID:7482-1746207000-1746216000@www.carmanlegion.ca
SUMMARY:Meat Draw and 50/50
DESCRIPTION:
URL:https://www.carmanlegion.ca/event/meat-draw-and-50-50-42/
LOCATION:Carman Legion Lounge
ATTACH;FMTTYPE=image/jpeg:https://www.carmanlegion.ca/wp-content/uploads/2024/03/Meat-Draw-Picture.jpg
END:VEVENT
BEGIN:VEVENT
DTSTART;TZID=America/Chicago:20250503T180000
DTEND;TZID=America/Chicago:20250503T193000
DTSTAMP:20260421T062547
CREATED:20250404T153028Z
LAST-MODIFIED:20250404T153028Z
UID:7484-1746295200-1746300600@www.carmanlegion.ca
SUMMARY:Card Draw and 50/50
DESCRIPTION:
URL:https://www.carmanlegion.ca/event/card-draw-and-50-50-6/
LOCATION:Carman Legion Lounge
ATTACH;FMTTYPE=image/jpeg:https://www.carmanlegion.ca/wp-content/uploads/2024/05/CARD-DRAW-WEBSITE-scaled-1.jpg
END:VEVENT
BEGIN:VEVENT
DTSTART;TZID=America/Chicago:20250503T193000
DTEND;TZID=America/Chicago:20250503T200000
DTSTAMP:20260421T062547
CREATED:20250404T153310Z
LAST-MODIFIED:20250404T153310Z
UID:7486-1746300600-1746302400@www.carmanlegion.ca
SUMMARY:Lucky Number Bingo
DESCRIPTION:
URL:https://www.carmanlegion.ca/event/lucky-number-bingo-12/
LOCATION:Carman Legion Lounge
ATTACH;FMTTYPE=image/jpeg:https://www.carmanlegion.ca/wp-content/uploads/2024/05/BINGO-WEBSITE-scaled-1.jpg
END:VEVENT
BEGIN:VEVENT
DTSTART;TZID=America/Chicago:20250509T173000
DTEND;TZID=America/Chicago:20250509T200000
DTSTAMP:20260421T062547
CREATED:20250411T142922Z
LAST-MODIFIED:20250411T142922Z
UID:7526-1746811800-1746820800@www.carmanlegion.ca
SUMMARY:Meat Draw and 50/50
DESCRIPTION:
URL:https://www.carmanlegion.ca/event/meat-draw-and-50-50-43/
LOCATION:Carman Legion Lounge
ATTACH;FMTTYPE=image/jpeg:https://www.carmanlegion.ca/wp-content/uploads/2024/03/Meat-Draw-Picture.jpg
END:VEVENT
BEGIN:VEVENT
DTSTART;TZID=America/Chicago:20250510T180000
DTEND;TZID=America/Chicago:20250510T193000
DTSTAMP:20260421T062547
CREATED:20250411T143143Z
LAST-MODIFIED:20250411T143143Z
UID:7528-1746900000-1746905400@www.carmanlegion.ca
SUMMARY:Card Draw and 50/50
DESCRIPTION:
URL:https://www.carmanlegion.ca/event/card-draw-and-50-50-7/
LOCATION:Carman Legion Lounge
ATTACH;FMTTYPE=image/jpeg:https://www.carmanlegion.ca/wp-content/uploads/2024/05/CARD-DRAW-WEBSITE-scaled-1.jpg
END:VEVENT
BEGIN:VEVENT
DTSTART;TZID=America/Chicago:20250510T193000
DTEND;TZID=America/Chicago:20250510T200000
DTSTAMP:20260421T062547
CREATED:20250411T143328Z
LAST-MODIFIED:20250411T143328Z
UID:7530-1746905400-1746907200@www.carmanlegion.ca
SUMMARY:Lucky Number Bingo
DESCRIPTION:
URL:https://www.carmanlegion.ca/event/lucky-number-bingo-13/
LOCATION:Carman Legion Lounge
ATTACH;FMTTYPE=image/jpeg:https://www.carmanlegion.ca/wp-content/uploads/2024/05/BINGO-WEBSITE-scaled-1.jpg
END:VEVENT
BEGIN:VEVENT
DTSTART;TZID=America/Chicago:20250516T173000
DTEND;TZID=America/Chicago:20250516T200000
DTSTAMP:20260421T062547
CREATED:20250411T143833Z
LAST-MODIFIED:20250411T143833Z
UID:7532-1747416600-1747425600@www.carmanlegion.ca
SUMMARY:Meat Draw and 50/50
DESCRIPTION:
URL:https://www.carmanlegion.ca/event/meat-draw-and-50-50-44/
LOCATION:Carman Legion Lounge
ATTACH;FMTTYPE=image/jpeg:https://www.carmanlegion.ca/wp-content/uploads/2024/03/Meat-Draw-Picture.jpg
END:VEVENT
BEGIN:VEVENT
DTSTART;TZID=America/Chicago:20250517T180000
DTEND;TZID=America/Chicago:20250517T193000
DTSTAMP:20260421T062547
CREATED:20250411T143956Z
LAST-MODIFIED:20250411T143956Z
UID:7534-1747504800-1747510200@www.carmanlegion.ca
SUMMARY:Card Draw and 50/50
DESCRIPTION:
URL:https://www.carmanlegion.ca/event/card-draw-and-50-50-8/
LOCATION:Carman Legion Lounge
ATTACH;FMTTYPE=image/jpeg:https://www.carmanlegion.ca/wp-content/uploads/2024/05/CARD-DRAW-WEBSITE-scaled-1.jpg
END:VEVENT
BEGIN:VEVENT
DTSTART;TZID=America/Chicago:20250517T193000
DTEND;TZID=America/Chicago:20250517T200000
DTSTAMP:20260421T062547
CREATED:20250411T144133Z
LAST-MODIFIED:20250411T144133Z
UID:7536-1747510200-1747512000@www.carmanlegion.ca
SUMMARY:Lucky Number Bingo
DESCRIPTION:
URL:https://www.carmanlegion.ca/event/lucky-number-bingo-14/
LOCATION:Carman Legion Lounge
ATTACH;FMTTYPE=image/jpeg:https://www.carmanlegion.ca/wp-content/uploads/2024/05/BINGO-WEBSITE-scaled-1.jpg
END:VEVENT
BEGIN:VEVENT
DTSTART;TZID=America/Chicago:20250523T173000
DTEND;TZID=America/Chicago:20250523T200000
DTSTAMP:20260421T062547
CREATED:20250427T154111Z
LAST-MODIFIED:20250427T154111Z
UID:7579-1748021400-1748030400@www.carmanlegion.ca
SUMMARY:Meat Draw and 50/50
DESCRIPTION:
URL:https://www.carmanlegion.ca/event/meat-draw-and-50-50-45/
LOCATION:Carman Legion Branch #18
ATTACH;FMTTYPE=image/jpeg:https://www.carmanlegion.ca/wp-content/uploads/2024/03/Meat-Draw-Picture.jpg
END:VEVENT
BEGIN:VEVENT
DTSTART;TZID=America/Chicago:20250524T180000
DTEND;TZID=America/Chicago:20250524T193000
DTSTAMP:20260421T062547
CREATED:20250427T154249Z
LAST-MODIFIED:20250427T154249Z
UID:7581-1748109600-1748115000@www.carmanlegion.ca
SUMMARY:Card Draw and 50/50
DESCRIPTION:
URL:https://www.carmanlegion.ca/event/card-draw-and-50-50-9/
LOCATION:Carman Legion Branch #18
ATTACH;FMTTYPE=image/jpeg:https://www.carmanlegion.ca/wp-content/uploads/2024/05/CARD-DRAW-WEBSITE-scaled-1.jpg
END:VEVENT
BEGIN:VEVENT
DTSTART;TZID=America/Chicago:20250524T193000
DTEND;TZID=America/Chicago:20250524T200000
DTSTAMP:20260421T062547
CREATED:20250427T154419Z
LAST-MODIFIED:20250427T154419Z
UID:7583-1748115000-1748116800@www.carmanlegion.ca
SUMMARY:Lucky Number Bingo
DESCRIPTION:
URL:https://www.carmanlegion.ca/event/lucky-number-bingo-15/
LOCATION:Carman Legion Branch #18
ATTACH;FMTTYPE=image/jpeg:https://www.carmanlegion.ca/wp-content/uploads/2024/05/BINGO-WEBSITE-scaled-1.jpg
END:VEVENT
BEGIN:VEVENT
DTSTART;TZID=America/Chicago:20250530T173000
DTEND;TZID=America/Chicago:20250530T200000
DTSTAMP:20260421T062547
CREATED:20250427T154651Z
LAST-MODIFIED:20250427T154651Z
UID:7585-1748626200-1748635200@www.carmanlegion.ca
SUMMARY:Meat Draw and 50/50
DESCRIPTION:
URL:https://www.carmanlegion.ca/event/meat-draw-and-50-50-46/
LOCATION:Carman Legion Branch #18
ATTACH;FMTTYPE=image/jpeg:https://www.carmanlegion.ca/wp-content/uploads/2024/03/Meat-Draw-Picture.jpg
END:VEVENT
BEGIN:VEVENT
DTSTART;TZID=America/Chicago:20250531T180000
DTEND;TZID=America/Chicago:20250531T193000
DTSTAMP:20260421T062547
CREATED:20250427T154929Z
LAST-MODIFIED:20250427T154929Z
UID:7587-1748714400-1748719800@www.carmanlegion.ca
SUMMARY:Card Draw and 50/50
DESCRIPTION:
URL:https://www.carmanlegion.ca/event/card-draw-and-50-50-10/
LOCATION:Carman Legion Branch #18
ATTACH;FMTTYPE=image/jpeg:https://www.carmanlegion.ca/wp-content/uploads/2024/05/CARD-DRAW-WEBSITE-scaled-1.jpg
END:VEVENT
END:VCALENDAR