BEGIN:VCALENDAR
VERSION:2.0
PRODID:-//Carman Legion Branch 18 - ECPv6.15.20//NONSGML v1.0//EN
CALSCALE:GREGORIAN
METHOD:PUBLISH
X-WR-CALNAME:Carman Legion Branch 18
X-ORIGINAL-URL:https://www.carmanlegion.ca
X-WR-CALDESC:Events for Carman Legion Branch 18
REFRESH-INTERVAL;VALUE=DURATION:PT1H
X-Robots-Tag:noindex
X-PUBLISHED-TTL:PT1H
BEGIN:VTIMEZONE
TZID:America/Chicago
BEGIN:DAYLIGHT
TZOFFSETFROM:-0600
TZOFFSETTO:-0500
TZNAME:CDT
DTSTART:20240310T080000
END:DAYLIGHT
BEGIN:STANDARD
TZOFFSETFROM:-0500
TZOFFSETTO:-0600
TZNAME:CST
DTSTART:20241103T070000
END:STANDARD
BEGIN:DAYLIGHT
TZOFFSETFROM:-0600
TZOFFSETTO:-0500
TZNAME:CDT
DTSTART:20250309T080000
END:DAYLIGHT
BEGIN:STANDARD
TZOFFSETFROM:-0500
TZOFFSETTO:-0600
TZNAME:CST
DTSTART:20251102T070000
END:STANDARD
BEGIN:DAYLIGHT
TZOFFSETFROM:-0600
TZOFFSETTO:-0500
TZNAME:CDT
DTSTART:20260308T080000
END:DAYLIGHT
BEGIN:STANDARD
TZOFFSETFROM:-0500
TZOFFSETTO:-0600
TZNAME:CST
DTSTART:20261101T070000
END:STANDARD
END:VTIMEZONE
BEGIN:VEVENT
DTSTART;TZID=America/Chicago:20250606T173000
DTEND;TZID=America/Chicago:20250606T193000
DTSTAMP:20260421T081637
CREATED:20250527T234934Z
LAST-MODIFIED:20250527T234934Z
UID:7673-1749231000-1749238200@www.carmanlegion.ca
SUMMARY:Meat Draw and 50/50
DESCRIPTION:
URL:https://www.carmanlegion.ca/event/meat-draw-and-50-50-47/
END:VEVENT
BEGIN:VEVENT
DTSTART;TZID=America/Chicago:20250607T173000
DTEND;TZID=America/Chicago:20250607T200000
DTSTAMP:20260421T081637
CREATED:20250427T155050Z
LAST-MODIFIED:20250527T235440Z
UID:7589-1749317400-1749326400@www.carmanlegion.ca
SUMMARY:Lucky Number Card Draw & Bingo; 50/50 Draw
DESCRIPTION:
URL:https://www.carmanlegion.ca/event/lucky-number-bingo-16/
LOCATION:Carman Legion Branch #18
ATTACH;FMTTYPE=image/jpeg:https://www.carmanlegion.ca/wp-content/uploads/2024/05/BINGO-WEBSITE-scaled-1.jpg
END:VEVENT
BEGIN:VEVENT
DTSTART;TZID=America/Chicago:20250609T190000
DTEND;TZID=America/Chicago:20250609T200000
DTSTAMP:20260421T081637
CREATED:20250527T234603Z
LAST-MODIFIED:20250527T234603Z
UID:7669-1749495600-1749499200@www.carmanlegion.ca
SUMMARY:Executive Meeting
DESCRIPTION:
URL:https://www.carmanlegion.ca/event/executive-meeting-10/
END:VEVENT
BEGIN:VEVENT
DTSTART;TZID=America/Chicago:20250612T170000
DTEND;TZID=America/Chicago:20250612T190000
DTSTAMP:20260421T081637
CREATED:20250527T235834Z
LAST-MODIFIED:20250527T235834Z
UID:7689-1749747600-1749754800@www.carmanlegion.ca
SUMMARY:STEAK NIGHT
DESCRIPTION:
URL:https://www.carmanlegion.ca/event/steak-night/
END:VEVENT
BEGIN:VEVENT
DTSTART;TZID=America/Chicago:20250613T173000
DTEND;TZID=America/Chicago:20250613T193000
DTSTAMP:20260421T081637
CREATED:20250527T235018Z
LAST-MODIFIED:20250527T235018Z
UID:7675-1749835800-1749843000@www.carmanlegion.ca
SUMMARY:Meat Draw and 50/50
DESCRIPTION:
URL:https://www.carmanlegion.ca/event/meat-draw-and-50-50-48/
END:VEVENT
BEGIN:VEVENT
DTSTART;TZID=America/Chicago:20250614T173000
DTEND;TZID=America/Chicago:20250614T200000
DTSTAMP:20260421T081637
CREATED:20250527T235527Z
LAST-MODIFIED:20250527T235527Z
UID:7683-1749922200-1749931200@www.carmanlegion.ca
SUMMARY:Lucky Number Card Draw & Bingo; 50/50 Draw
DESCRIPTION:
URL:https://www.carmanlegion.ca/event/lucky-number-card-draw-50-50-draw/
END:VEVENT
BEGIN:VEVENT
DTSTART;TZID=America/Chicago:20250618T193000
DTEND;TZID=America/Chicago:20250618T210000
DTSTAMP:20260421T081637
CREATED:20250215T023455Z
LAST-MODIFIED:20250215T023455Z
UID:7239-1750275000-1750280400@www.carmanlegion.ca
SUMMARY:General Meeting
DESCRIPTION:
URL:https://www.carmanlegion.ca/event/general-meeting-6/
LOCATION:Carman Legion Branch #18
END:VEVENT
BEGIN:VEVENT
DTSTART;TZID=America/Chicago:20250620T173000
DTEND;TZID=America/Chicago:20250620T193000
DTSTAMP:20260421T081637
CREATED:20250527T235057Z
LAST-MODIFIED:20250527T235057Z
UID:7677-1750440600-1750447800@www.carmanlegion.ca
SUMMARY:Meat Draw and 50/50
DESCRIPTION:
URL:https://www.carmanlegion.ca/event/meat-draw-and-50-50-49/
END:VEVENT
BEGIN:VEVENT
DTSTART;TZID=America/Chicago:20250621T173000
DTEND;TZID=America/Chicago:20250621T200000
DTSTAMP:20260421T081637
CREATED:20250527T235613Z
LAST-MODIFIED:20250527T235613Z
UID:7685-1750527000-1750536000@www.carmanlegion.ca
SUMMARY:Lucky Number Card Draw & Bingo; 50/50 Draw
DESCRIPTION:
URL:https://www.carmanlegion.ca/event/lucky-number-card-draw-50-50-draw-2/
END:VEVENT
BEGIN:VEVENT
DTSTART;TZID=America/Chicago:20250627T173000
DTEND;TZID=America/Chicago:20250627T193000
DTSTAMP:20260421T081637
CREATED:20250527T235141Z
LAST-MODIFIED:20250527T235158Z
UID:7679-1751045400-1751052600@www.carmanlegion.ca
SUMMARY:Meat Draw and 50/50
DESCRIPTION:
URL:https://www.carmanlegion.ca/event/meat-draw-and-50-50-50/
END:VEVENT
BEGIN:VEVENT
DTSTART;TZID=America/Chicago:20250628T173000
DTEND;TZID=America/Chicago:20250628T200000
DTSTAMP:20260421T081637
CREATED:20250527T235657Z
LAST-MODIFIED:20250527T235657Z
UID:7687-1751131800-1751140800@www.carmanlegion.ca
SUMMARY:Lucky Number Card Draw & Bingo; 50/50 Draw
DESCRIPTION:
URL:https://www.carmanlegion.ca/event/lucky-number-card-draw-50-50-draw-3/
END:VEVENT
END:VCALENDAR