BEGIN:VCALENDAR
VERSION:2.0
PRODID:-//Carman Legion Branch 18 - ECPv6.15.20//NONSGML v1.0//EN
CALSCALE:GREGORIAN
METHOD:PUBLISH
X-WR-CALNAME:Carman Legion Branch 18
X-ORIGINAL-URL:https://www.carmanlegion.ca
X-WR-CALDESC:Events for Carman Legion Branch 18
REFRESH-INTERVAL;VALUE=DURATION:PT1H
X-Robots-Tag:noindex
X-PUBLISHED-TTL:PT1H
BEGIN:VTIMEZONE
TZID:America/Chicago
BEGIN:DAYLIGHT
TZOFFSETFROM:-0600
TZOFFSETTO:-0500
TZNAME:CDT
DTSTART:20240310T080000
END:DAYLIGHT
BEGIN:STANDARD
TZOFFSETFROM:-0500
TZOFFSETTO:-0600
TZNAME:CST
DTSTART:20241103T070000
END:STANDARD
BEGIN:DAYLIGHT
TZOFFSETFROM:-0600
TZOFFSETTO:-0500
TZNAME:CDT
DTSTART:20250309T080000
END:DAYLIGHT
BEGIN:STANDARD
TZOFFSETFROM:-0500
TZOFFSETTO:-0600
TZNAME:CST
DTSTART:20251102T070000
END:STANDARD
BEGIN:DAYLIGHT
TZOFFSETFROM:-0600
TZOFFSETTO:-0500
TZNAME:CDT
DTSTART:20260308T080000
END:DAYLIGHT
BEGIN:STANDARD
TZOFFSETFROM:-0500
TZOFFSETTO:-0600
TZNAME:CST
DTSTART:20261101T070000
END:STANDARD
END:VTIMEZONE
BEGIN:VEVENT
DTSTART;VALUE=DATE:20250701
DTEND;VALUE=DATE:20250702
DTSTAMP:20260421T095213
CREATED:20250701T230144Z
LAST-MODIFIED:20250701T230144Z
UID:7750-1751328000-1751414399@www.carmanlegion.ca
SUMMARY:CLOSED ON CANADA DAY
DESCRIPTION:
URL:https://www.carmanlegion.ca/event/closed-on-canada-day/
END:VEVENT
BEGIN:VEVENT
DTSTART;TZID=America/Chicago:20250703T170000
DTEND;TZID=America/Chicago:20250703T183000
DTSTAMP:20260421T095213
CREATED:20250619T143829Z
LAST-MODIFIED:20250619T144026Z
UID:7716-1751562000-1751567400@www.carmanlegion.ca
SUMMARY:RIBS & FIXNS' DINNER
DESCRIPTION:
URL:https://www.carmanlegion.ca/event/ribs-fixns-dinner/
END:VEVENT
BEGIN:VEVENT
DTSTART;TZID=America/Chicago:20250704T173000
DTEND;TZID=America/Chicago:20250704T193000
DTSTAMP:20260421T095213
CREATED:20250701T225248Z
LAST-MODIFIED:20250701T225248Z
UID:7732-1751650200-1751657400@www.carmanlegion.ca
SUMMARY:Meat Draw and 50/50
DESCRIPTION:
URL:https://www.carmanlegion.ca/event/meat-draw-and-50-50-51/
END:VEVENT
BEGIN:VEVENT
DTSTART;TZID=America/Chicago:20250705T173000
DTEND;TZID=America/Chicago:20250705T200000
DTSTAMP:20260421T095213
CREATED:20250701T225631Z
LAST-MODIFIED:20250701T225631Z
UID:7740-1751736600-1751745600@www.carmanlegion.ca
SUMMARY:Lucky Number Card Draw & Bingo; 50/50 Draw
DESCRIPTION:
URL:https://www.carmanlegion.ca/event/lucky-number-card-draw-50-50-draw-4/
END:VEVENT
BEGIN:VEVENT
DTSTART;VALUE=DATE:20250710
DTEND;VALUE=DATE:20250713
DTSTAMP:20260421T095213
CREATED:20250619T144237Z
LAST-MODIFIED:20250619T144414Z
UID:7719-1752105600-1752364799@www.carmanlegion.ca
SUMMARY:CARMAN FAIR
DESCRIPTION:
URL:https://www.carmanlegion.ca/event/carman-fair/
END:VEVENT
BEGIN:VEVENT
DTSTART;TZID=America/Chicago:20250711T173000
DTEND;TZID=America/Chicago:20250711T193000
DTSTAMP:20260421T095213
CREATED:20250701T225338Z
LAST-MODIFIED:20250701T225338Z
UID:7734-1752255000-1752262200@www.carmanlegion.ca
SUMMARY:Meat Draw and 50/50
DESCRIPTION:
URL:https://www.carmanlegion.ca/event/meat-draw-and-50-50-52/
END:VEVENT
BEGIN:VEVENT
DTSTART;TZID=America/Chicago:20250712T173000
DTEND;TZID=America/Chicago:20250712T200000
DTSTAMP:20260421T095213
CREATED:20250701T225731Z
LAST-MODIFIED:20250701T225731Z
UID:7742-1752341400-1752350400@www.carmanlegion.ca
SUMMARY:Lucky Number Card Draw & Bingo; 50/50 Draw
DESCRIPTION:
URL:https://www.carmanlegion.ca/event/lucky-number-card-draw-50-50-draw-5/
END:VEVENT
BEGIN:VEVENT
DTSTART;TZID=America/Chicago:20250714T190000
DTEND;TZID=America/Chicago:20250714T203000
DTSTAMP:20260421T095213
CREATED:20250701T230039Z
LAST-MODIFIED:20250701T230039Z
UID:7748-1752519600-1752525000@www.carmanlegion.ca
SUMMARY:EXECUTIVE MEETING
DESCRIPTION:
URL:https://www.carmanlegion.ca/event/executive-meeting-11/
END:VEVENT
BEGIN:VEVENT
DTSTART;TZID=America/Chicago:20250718T173000
DTEND;TZID=America/Chicago:20250718T193000
DTSTAMP:20260421T095213
CREATED:20250701T225426Z
LAST-MODIFIED:20250701T225426Z
UID:7736-1752859800-1752867000@www.carmanlegion.ca
SUMMARY:Meat Draw and 50/50
DESCRIPTION:
URL:https://www.carmanlegion.ca/event/meat-draw-and-50-50-53/
END:VEVENT
BEGIN:VEVENT
DTSTART;TZID=America/Chicago:20250718T173000
DTEND;TZID=America/Chicago:20250718T200000
DTSTAMP:20260421T095213
CREATED:20250701T231234Z
LAST-MODIFIED:20250701T231234Z
UID:7762-1752859800-1752868800@www.carmanlegion.ca
SUMMARY:WE THREE BAND FEATURING DON PRITCHARD
DESCRIPTION:
URL:https://www.carmanlegion.ca/event/we-three-band-featuring-don-pritchard/
END:VEVENT
BEGIN:VEVENT
DTSTART;TZID=America/Chicago:20250719T173000
DTEND;TZID=America/Chicago:20250719T200000
DTSTAMP:20260421T095213
CREATED:20250701T225835Z
LAST-MODIFIED:20250701T225835Z
UID:7744-1752946200-1752955200@www.carmanlegion.ca
SUMMARY:Lucky Number Card Draw & Bingo; 50/50 Draw
DESCRIPTION:
URL:https://www.carmanlegion.ca/event/lucky-number-card-draw-50-50-draw-6/
END:VEVENT
BEGIN:VEVENT
DTSTART;TZID=America/Chicago:20250724T170000
DTEND;TZID=America/Chicago:20250724T190000
DTSTAMP:20260421T095213
CREATED:20250713T153405Z
LAST-MODIFIED:20250713T153405Z
UID:7774-1753376400-1753383600@www.carmanlegion.ca
SUMMARY:STEAK DINNER JULY 24\, 2025
DESCRIPTION:
URL:https://www.carmanlegion.ca/event/steak-dinner-july-24-2025/
END:VEVENT
BEGIN:VEVENT
DTSTART;TZID=America/Chicago:20250725T173000
DTEND;TZID=America/Chicago:20250725T193000
DTSTAMP:20260421T095213
CREATED:20250701T225506Z
LAST-MODIFIED:20250701T225506Z
UID:7738-1753464600-1753471800@www.carmanlegion.ca
SUMMARY:Meat Draw and 50/50
DESCRIPTION:
URL:https://www.carmanlegion.ca/event/meat-draw-and-50-50-54/
END:VEVENT
BEGIN:VEVENT
DTSTART;TZID=America/Chicago:20250726T173000
DTEND;TZID=America/Chicago:20250726T200000
DTSTAMP:20260421T095213
CREATED:20250701T225941Z
LAST-MODIFIED:20250701T225941Z
UID:7746-1753551000-1753560000@www.carmanlegion.ca
SUMMARY:Lucky Number Card Draw & Bingo; 50/50 Draw
DESCRIPTION:
URL:https://www.carmanlegion.ca/event/lucky-number-card-draw-50-50-draw-7/
END:VEVENT
END:VCALENDAR